{"text_format":"1","workbook":"xlsx","n_sheets":18,"sheets":["Содержание","Витрины","Охлаждаемые стеллажи","Кондитерские витрины","Gamma в линию","Низкотемпературные шкафы","Лари ItalFrost","Лари-бонеты Italfrost","Столы Italfrost с боковым","Столы Italfrost с нижним","Витрины Cryspi БА","Опции для витрин","Опции для горок","Расчет нестанд.RAL","Цвет стандарт","Брендирование","Лист1","Лист2"],"not_rendered":{"charts":0,"images":112,"macros":1,"external_links":7,"defined_names":297,"comments":2,"pivot_tables":0},"unopened":[],"bounds":{"document_bytes":16777216,"sheet_cells":100000,"rows_first":2000,"rows_last":500,"rows_between":2000,"halvings":0,"cell_chars":16384,"cell_head_chars":4096},"cells_cut":0,"cells_raw":0,"read":"whole","date_system":"1900"}

{"sheet":"Содержание","index":0,"n_rows":35,"n_cols":4,"rows_kept":35,"cut":false,"hidden":false,"merged":[[0,10,4,12],[3,1,3,3],[4,2,27,2],[31,1,31,3],[26,3,27,3]]}
[null,null,null,"ЗАВОД «ОПК»\nТел.: +7 (495) 987-4388\ne-mail: info@cryspi.ru\nсайт: cryspi.ru"]
[null,"Ваша скидка","-",0]
[null,"НДС","-"]
[null,"Холодильное оборудование (встроенное холодоснабжение)"]
[null,"Холодильные витрины Cryspi",null,"Морозильные и холодильные лари Italfrost"]
[null,"Витрины со статической системой охлаждения:"]
[null,"Витрины OCTAVA",null,"Морозильные лари с гнутыми раздвижными стеклами"]
[null,"Витрины OCTAVA Quadro",null,"Морозильные лари с прямыми раздвижными стеклами"]
[null,"Витрины OCTAVA XL",null,"Морозильные лари с глухой крышкой"]
[null,"Витрины GAMMA-2",null,"Морозильные лари с глухой крышкой (крышка из нерж. стали)"]
[null,"Витрины GAMMA-2 Quadro",null,"Морозильные лари с гнутыми раздвижными стеклами (4+)"]
[null,"Витрины GAMMA Quadro Fish",null,"Морозильные лари с прямыми раздвижными стеклами (4+)"]
[null,"Витрины Sonata Quadro"]
[null,"Витрины настольные Vivo 1000"]
[null,"Витрины с динамической системой охлаждения:"]
[null,"Витрины Magnum",null,"Лари для мягкого мороженного"]
[null,"Витрины Magnum ECO"]
[null,"Витрины Magnum Quadro",null,"Морозильные и холодильные лари-бонеты Italfrost"]
[null,null,null,"Двухрежимный ЛВН Italfrost"]
[null,"Витрины Cryspi без агрегата (под выносное хладоснабжение)",null,"Двухрежимный ЛВН Italfrost PUSH"]
[null,"Опции и аксессуары для витрин Cryspi",null,"Двухрежимный ЛВН Rondo"]
[null,"Опции и аксессуары для витрин и стеллажей Cryspi"]
[null,"Таблица для расчета нестандартного цвета и исполнений",null,"Низкотемпературные решения Italfrost для предприятий торговли"]
[null,"Кондитерские витрины",null,"Verona. Низкотемпературная надстройка для ларей 400л. NEW"]
[null,"Adagio",null,"CORSA. Низкотемпературная надстройка для ларей-бонет "]
[null,"Elegia",null,"ANZIO. Низкотемпературный шкаф (стеллаж)"]
[null,"Горки",null,"Нестандартные цвета оборудования со встроенным холодоснабжением"]
[null,"Solo L7/L9"]
[null,"Solo L9 Light",null,"Нестандартные цвета оборудования"]
[null,"Solo SML",null,"Нестандартные цвета окраски ларей-бонет и ларей Italfrost"]
[null,"Unit",null,"Брендирование оборудования"]
[null,"Технологическое оборудование"]
[null,null,null,"Холодильные столы"]
[null,null,null,"Охлаждаемые столы Italfrost (с боковым расположением агрегата)"]
[null,null,null,"Охлаждаемые столы Italfrost (с нижним расположением агрегата)"]

{"sheet":"Витрины","index":1,"n_rows":322,"n_cols":11,"rows_kept":322,"cut":false,"hidden":false,"merged":[[168,5,169,5],[232,6,233,6],[264,6,269,6],[230,6,231,6],[226,3,227,3],[226,5,227,5],[170,3,171,3],[213,3,214,3],[221,6,222,6],[174,6,175,6],[259,6,260,6],[211,6,212,6],[223,6,224,6],[217,5,218,5],[263,3,263,9],[261,3,261,9],[252,3,252,9],[215,8,216,9],[172,6,173,6],[163,0,175,0],[197,2,214,2],[177,2,188,2],[163,2,169,2],[176,1,176,4],[142,3,143,3],[311,5,312,5],[216,2,269,2],[276,3,277,3],[223,3,224,3],[223,5,224,5],[244,5,245,5],[281,5,282,5],[259,3,260,3],[259,5,260,5],[255,3,256,3],[255,5,256,5],[272,5,273,5],[215,1,215,4],[221,5,222,5],[217,3,218,3],[219,5,220,5],[164,3,165,3],[164,5,165,5],[271,0,314,2],[298,3,299,3],[300,3,301,3],[311,3,312,3],[311,6,312,6],[137,6,138,6],[142,5,143,5],[144,3,145,3],[149,6,150,6],[166,6,167,6],[149,5,150,5],[151,5,152,5],[147,5,148,5],[147,3,148,3],[170,5,171,5],[172,5,173,5],[160,5,161,5],[219,3,220,3],[219,6,220,6],[226,6,227,6],[225,3,225,9],[160,6,161,6],[131,1,131,4],[133,3,134,3],[132,0,161,0],[135,3,136,3],[177,0,188,0],[197,0,214,0],[156,3,157,3],[209,3,210,3],[209,5,210,5],[170,2,175,2],[154,5,155,5],[174,5,175,5],[140,5,141,5],[144,5,145,5],[149,3,150,3],[202,5,203,5],[185,3,185,9],[181,3,181,9],[177,3,177,9],[196,1,196,4],[132,2,161,2],[140,3,141,3],[131,8,132,9],[151,3,152,3],[135,5,136,5],[174,3,175,3],[137,5,138,5],[147,6,148,6],[154,6,155,6],[168,6,169,6],[163,3,163,9],[137,3,138,3],[217,6,218,6],[213,6,214,6],[216,3,216,7],[206,3,206,9],[197,3,197,9],[204,6,205,6],[198,3,199,3],[198,5,199,5],[198,6,199,6],[200,3,201,3],[200,5,201,5],[200,6,201,6],[202,6,203,6],[207,6,208,6],[211,5,212,5],[156,6,157,6],[207,5,208,5],[142,6,143,6],[144,6,145,6],[45,3,45,4],[46,3,46,4],[47,3,47,4],[63,8,64,9],[12,0,34,2],[36,0,47,2],[29,3,29,4],[11,8,12,9],[76,3,77,3],[83,3,84,3],[83,5,84,5],[97,5,98,5],[99,3,100,3],[74,3,75,3],[74,5,75,5],[81,3,82,3],[81,5,82,5],[72,5,73,5],[76,5,77,5],[79,3,80,3],[79,5,80,5],[50,3,50,4],[39,3,39,4],[41,3,41,4],[52,3,52,4],[64,0,100,0],[64,2,100,2],[65,3,66,3],[65,5,66,5],[67,3,68,3],[67,5,68,5],[69,3,70,3],[88,3,89,3],[9,0,10,0],[9,1,10,1],[9,2,10,2],[9,3,10,4],[9,5,10,5],[11,1,11,3],[13,3,13,4],[14,3,14,4],[9,6,10,6],[9,7,10,7],[9,8,10,8],[9,9,10,9],[12,3,12,7],[49,2,62,2],[22,3,22,4],[23,3,23,4],[42,3,42,4],[25,3,25,4],[43,3,43,4],[32,3,32,4],[33,3,33,4],[34,3,34,4],[35,1,35,5],[28,3,28,4],[26,3,26,4],[27,3,27,4],[38,3,38,4],[51,3,51,4],[44,3,44,9],[40,3,40,9],[36,3,36,9],[55,3,55,4],[56,3,56,4],[102,0,122,0],[102,2,122,2],[103,3,104,3],[110,3,111,3],[125,6,126,6],[127,3,128,3],[127,5,128,5],[127,6,128,6],[125,3,126,3],[125,5,126,5],[123,1,123,4],[119,3,120,3],[119,5,120,5],[124,2,130,2],[103,6,104,6],[112,3,113,3],[121,3,122,3],[105,3,106,3],[124,0,130,0],[129,5,130,5],[107,5,108,5],[1,2,1,3],[2,2,2,3],[3,2,3,3],[48,1,48,3],[239,6,240,6],[250,3,251,3],[250,5,251,5],[250,6,251,6],[246,3,247,3],[246,5,247,5],[237,3,238,3],[239,5,240,5],[235,3,236,3],[235,5,236,5],[235,6,236,6],[237,5,238,5],[110,5,111,5],[114,6,115,6],[105,6,106,6],[117,3,118,3],[117,5,118,5],[88,5,89,5],[99,5,100,5],[69,5,70,5],[272,6,273,6],[255,6,256,6],[257,3,258,3],[257,5,258,5],[257,6,258,6],[264,5,269,5],[281,6,282,6],[107,6,108,6],[103,5,104,5],[105,5,106,5],[164,6,165,6],[162,1,162,4],[170,6,171,6],[209,6,210,6],[166,3,167,3],[166,5,167,5],[168,3,169,3],[160,3,161,3],[202,3,203,3],[211,3,212,3],[213,5,214,5],[204,3,205,3],[204,5,205,5],[207,3,208,3],[270,8,271,9],[271,3,271,7],[253,6,254,6],[54,3,54,4],[321,7,322,7],[291,3,292,3],[291,5,292,5],[291,6,292,6],[293,3,294,3],[293,5,294,5],[293,6,294,6],[295,3,296,3],[295,5,296,5],[295,6,296,6],[307,6,308,6],[309,3,310,3],[307,3,308,3],[307,5,308,5],[300,6,301,6],[302,3,303,3],[302,5,303,5],[309,5,310,5],[309,6,310,6],[300,5,301,5],[253,5,254,5],[16,3,16,9],[20,3,20,9],[24,3,24,9],[61,3,61,9],[57,3,57,9],[53,3,53,9],[49,3,49,9],[85,3,85,9],[78,3,78,9],[71,3,71,9],[64,3,64,7],[17,3,17,4],[18,3,18,4],[19,3,19,4],[62,3,62,4],[58,3,58,4],[59,3,59,4],[30,3,30,4],[31,3,31,4],[37,3,37,4],[117,6,118,6],[121,6,122,6],[114,3,115,3],[21,3,21,4],[72,6,73,6],[69,6,70,6],[248,3,249,3],[81,6,82,6],[99,6,100,6],[101,1,101,4],[304,3,305,3],[304,5,305,5],[304,6,305,6],[270,1,270,4],[272,3,273,3],[241,3,242,3],[241,5,242,5],[241,6,242,6],[228,6,229,6],[253,3,254,3],[63,1,63,4],[107,3,108,3],[140,6,141,6],[133,5,134,5],[112,5,113,5],[112,6,113,6],[119,6,120,6],[313,3,314,3],[313,5,314,5],[313,6,314,6],[283,3,284,3],[274,3,275,3],[274,5,275,5],[274,6,275,6],[286,5,287,5],[286,6,287,6],[281,3,282,3],[288,5,289,5],[288,6,289,6],[288,3,289,3],[298,5,299,5],[298,6,299,6],[306,3,306,9],[297,3,297,9],[110,6,111,6],[129,6,130,6],[135,6,136,6],[133,6,134,6],[121,5,122,5],[114,5,115,5],[244,3,245,3],[248,5,249,5],[237,6,238,6],[239,3,240,3],[243,3,243,9],[246,6,247,6],[248,6,249,6],[232,3,233,3],[232,5,233,5],[244,6,245,6],[172,3,173,3],[151,6,152,6],[154,3,155,3],[228,3,229,3],[228,5,229,5],[221,3,222,3],[234,3,234,9],[190,7,192,7],[0,7,4,9],[230,3,231,3],[230,5,231,5],[156,5,157,5],[60,3,60,4],[65,6,66,6],[67,6,68,6],[76,6,77,6],[79,6,80,6],[153,3,153,9],[146,3,146,9],[139,3,139,9],[132,3,132,7],[86,3,87,3],[97,3,98,3],[72,3,73,3],[97,6,98,6],[74,6,75,6],[83,6,84,6],[88,6,89,6],[86,5,87,5],[86,6,87,6],[15,3,15,4],[6,0,7,9],[8,0,8,4],[8,5,8,9],[194,0,194,9],[195,0,195,3],[190,0,192,2],[189,1,189,9],[195,4,195,9],[302,6,303,6],[170,4,171,4],[170,7,171,7],[170,9,171,9],[170,8,171,8],[290,3,290,9],[285,3,285,9],[278,3,278,9],[283,5,284,5],[283,6,284,6],[286,3,287,3],[276,5,277,5],[276,6,277,6],[279,3,280,3],[279,5,280,5],[279,6,280,6],[129,3,130,3]]}
[null,null,null,null,null,null,null,"ЗАВОД «ОПК»\nТел.: +7 (495) 987-4388\ne-mail: info@cryspi.ru\nсайт: cryspi.ru",null,null,"На главную"]
[]
[null,null,"Ваша скидка:",null,{"$f":"Содержание!D2","v":0}]
[null,null,"НДС:",null,{"$f":"IF(Лист2!A1=TRUE,\"С НДС\",\"БЕЗ НДС\")","v":"С НДС"}]
[]
[]
["Витрины Cryspi со встроенным агрегатом. Статическая система охлаждения "]
[]
["- Статическая система охлаждения, компрессор Embraco, R-290;\n- Электронный контроллер CAREL;\n- Оттайка для версий ВПС - естественная, для версий ВПСН и ВПН - ТЭН (по умолчанию);\n- Общее освещение для версий с высоким стеклом - нейтральное (4000К);                                                   \n - Товарный накопитель для линейных модулей (кроме НТ);      ",null,null,null,null,"- Внутренний объем - оцинкованный металл, внутренний объем в зоне выкладки - нерж.сталь;\n- Ночные шторки для витрин с высоким стеклом;\n- Фронтальное стекло закаленное, не открывается;\n- Емкость для сбора талой воды, опционально возможно применение выпаривателя;\n- Деревянная усиленная упаковка;"]
["№","Комплектация","Изображение","Наименование",null,"Температурный режим,°C","Площадь экспозиции, кв.м.","Габариты, \n(LxWxH) мм","Базовая \nцена, руб.\n(с НДС)",{"$f":"[5]Лист2!$A$5","v":"Ваша цена, руб."}]
[]
[1,"Витрины серии OCTAVA, глубина выкладки 660 мм, стандартный Ral 3002.",null,null,null,null,null,null,"Опции Octava "]
[null,null,null,{"$f":"D37","v":"Среднетемпературные, ВПС"},null,null,null,null,null,null,"*нажмите чтобы перейти в список опций"]
[null,null,null,"Octava 1200 ",null,"0…+7",0.72,"1180х955х1265",62935.360000000001,{"$f":"ROUND(I14*(1-$E$3)/Лист2!$A$6,0)","v":62935}]
[null,null,null,"Octava 1500 ",null,"0…+7",0.92,"1480х955х1265",68270.44,{"$f":"ROUND(I15*(1-$E$3)/Лист2!$A$6,0)","v":68270}]
[null,null,null,"Octava 1800 ",null,"0…+7",1.1200000000000001,"1780х955х1265",75868.72,{"$f":"ROUND(I16*(1-$E$3)/Лист2!$A$6,0)","v":75869}]
[null,null,null,{"$f":"D41","v":"Средне-низкотемпературные, ВПСН"}]
[null,null,null,"Octava SN 1200 ",null,"-6…+6",0.72,"1180х955х1265",69968.760000000009,{"$f":"ROUND(I18*(1-$E$3)/Лист2!$A$6,0)","v":69969}]
[null,null,null,"Octava SN 1500 ",null,"-6…+6",0.92,"1480х955х1265",78893.680000000008,{"$f":"ROUND(I19*(1-$E$3)/Лист2!$A$6,0)","v":78894}]
[null,null,null,"Octava SN 1800 ",null,"-6…+6",1.1200000000000001,"1780х955х1265",87620.800000000003,{"$f":"ROUND(I20*(1-$E$3)/Лист2!$A$6,0)","v":87621}]
[null,null,null,{"$f":"D45","v":"Низкотемпературные, ВПН"}]
[null,null,null,"Octava M 1200 ",null," -13…-15",0.69,"1180х955х1265",74715.960000000006,{"$f":"ROUND(I22*(1-$E$3)/Лист2!$A$6,0)","v":74716}]
[null,null,null,"Octava M 1500 ",null," -13…-15",0.89,"1480х955х1265",85463.400000000009,{"$f":"ROUND(I23*(1-$E$3)/Лист2!$A$6,0)","v":85463}]
[null,null,null,"Octava M 1800 ",null," -13…-15",1.08,"1780х955х1265",94428.800000000003,{"$f":"ROUND(I24*(1-$E$3)/Лист2!$A$6,0)","v":94429}]
[null,null,null,"Угловые витрины и кассовые прилавки"]
[null,null,null,"Octava OC (угол внеш.)",null,"0…+7",0.79,"1180х1180х1265",106823.96,{"$f":"ROUND(I26*(1-$E$3)/Лист2!$A$6,0)","v":106824}]
[null,null,null,"Octava IC (угол внутр.)",null,"0…+7",0.61,"1354х1354х1265",97290,{"$f":"ROUND(I27*(1-$E$3)/Лист2!$A$6,0)","v":97290}]
[null,null,null,"Octava КНП 620 ББ",null,"-","-","620х917х900",18561.920000000002,{"$f":"ROUND(I28*(1-$E$3)/Лист2!$A$6,0)","v":18562}]
[null,null,null,"Octava КНП 700 с боковинами",null,"-","-","700х924х900",26095.800000000003,{"$f":"ROUND(I29*(1-$E$3)/Лист2!$A$6,0)","v":26096}]
[null,null,null,"Octava КНП 1200 ",null,"-","-","1200х924х900",37740.240000000005,{"$f":"ROUND(I30*(1-$E$3)/Лист2!$A$6,0)","v":37740}]
[null,null,null,"Octava КНП 980",null,"-","-","980х924х900",33292.04,{"$f":"ROUND(I31*(1-$E$3)/Лист2!$A$6,0)","v":33292}]
[null,null,null,"Octava КНП OC 90 ББ",null,"-","-","1592х850х900",25089.32,{"$f":"ROUND(I32*(1-$E$3)/Лист2!$A$6,0)","v":25089}]
[null,null,null,"Octava КНП OC 90",null,"-","-","1632х871х900",32627.800000000003,{"$f":"ROUND(I33*(1-$E$3)/Лист2!$A$6,0)","v":32628}]
[null,null,null,"Octava КНП IC 90 ББ",null,"-","-","1592х850х900",24594.36,{"$f":"ROUND(I34*(1-$E$3)/Лист2!$A$6,0)","v":24594}]
[null,null,null,"Octava КНП IC 90",null,"-","-","1632х871х900",32133.760000000002,{"$f":"ROUND(I35*(1-$E$3)/Лист2!$A$6,0)","v":32134}]
[2,"Витрины серии OCTAVA Q, глубина выкладки 660 мм, стандартный RAL 7016"]
[null,null,null,"Среднетемпературные, ВПС"]
[null,null,null,"Octava Q 1200",null,"0…+7",0.72,"1180х925х1200",66490.240000000005,{"$f":"ROUND(I38*(1-$E$3)/Лист2!$A$6,0)","v":66490}]
[null,null,null,"Octava Q 1500",null,"0…+7",0.92,"1480х925х1200",74917.440000000002,{"$f":"ROUND(I39*(1-$E$3)/Лист2!$A$6,0)","v":74917}]
[null,null,null,"Octava Q 1800",null,"0…+7",1.1200000000000001,"1780х925х1200",85674.08,{"$f":"ROUND(I40*(1-$E$3)/Лист2!$A$6,0)","v":85674}]
[null,null,null,"Средне-низкотемпературные, ВПСН"]
[null,null,null,"Octava Q SN 1200",null,"-6…+6",0.72,"1180х925х1200",73076.52,{"$f":"ROUND(I42*(1-$E$3)/Лист2!$A$6,0)","v":73077}]
[null,null,null,"Octava Q SN 1500",null,"-6…+6",0.92,"1480х925х1200",83697.919999999998,{"$f":"ROUND(I43*(1-$E$3)/Лист2!$A$6,0)","v":83698}]
[null,null,null,"Octava Q SN 1800",null,"-6…+6",1.1200000000000001,"1780х925х1200",94235.6,{"$f":"ROUND(I44*(1-$E$3)/Лист2!$A$6,0)","v":94236}]
[null,null,null,"Низкотемпературные, ВПН"]
[null,null,null,"Octava Q M 1200",null," -15…-18",0.69,"1180х925х1200",82061.240000000005,{"$f":"ROUND(I46*(1-$E$3)/Лист2!$A$6,0)","v":82061}]
[null,null,null,"Octava Q M 1500",null," -15…-18",0.89,"1480х925х1200",90481.08,{"$f":"ROUND(I47*(1-$E$3)/Лист2!$A$6,0)","v":90481}]
[null,null,null,"Octava Q M 1800",null," -15…-18",1.08,"1780х925х1200",102389.56,{"$f":"ROUND(I48*(1-$E$3)/Лист2!$A$6,0)","v":102390}]
[3,"Витрины серии OCTAVA XL, глубина выкладки 780 мм, стандартный Ral 7016."]
[null,"Стандартная комплектация:",null,"Среднетемпературные, ВПС"]
[null,"- агрегат",null,"Octava XL 1200 ",null,"0…+7",0.93,"1218х1069х1214",66679.759999999995,{"$f":"ROUND(I51*(1-$E$3)/Лист2!$A$6,0)","v":66680}]
[null,"- испаритель",null,"Octava XL 1500 ",null,"0…+7",1.1499999999999999,"1518х1069х1214",73806.080000000002,{"$f":"ROUND(I52*(1-$E$3)/Лист2!$A$6,0)","v":73806}]
[null,"- шторки из оргстекла",null,"Octava XL 1800 ",null,"0…+7",1.4,"1818х1069х1214",83688.72,{"$f":"ROUND(I53*(1-$E$3)/Лист2!$A$6,0)","v":83689}]
[null,"- комплект боковин и боковых стекол",null,"Средне-низкотемпературные, ВПСН"]
[null,"- комплект фронтальных стекол",null,"Octava XL SN 1200 ",null,"-6…+6",0.93,"1218х1069х1214",78538.559999999998,{"$f":"ROUND(I55*(1-$E$3)/Лист2!$A$6,0)","v":78539}]
[null,"- полка навесная стеклянная на прямых витринах",null,"Octava XL SN 1500 ",null,"-6…+6",1.1499999999999999,"1518х1069х1214",83031.839999999997,{"$f":"ROUND(I56*(1-$E$3)/Лист2!$A$6,0)","v":83032}]
[null,"- ёмкость для сбора талой воды",null,"Octava XL SN 1800 ",null,"-6…+6",1.4,"1818х1069х1214",96767.44,{"$f":"ROUND(I57*(1-$E$3)/Лист2!$A$6,0)","v":96767}]
[null,null,null,"Низкотемпературные, ВПН"]
[null,null,null,"Octava XL М 1200 ",null," -15…-18",0.85,"1218х1093х1300",96773.88,{"$f":"ROUND(I59*(1-$E$3)/Лист2!$A$6,0)","v":96774}]
[null,null,null,"Octava XL М 1500 ",null," -15…-18",1.1000000000000001,"1518х1093х1300",111961.24,{"$f":"ROUND(I60*(1-$E$3)/Лист2!$A$6,0)","v":111961}]
[null,null,null,"Octava XL М 1800 ",null," -15…-18",1.3,"1818х1093х1300",122876.12000000001,{"$f":"ROUND(I61*(1-$E$3)/Лист2!$A$6,0)","v":122876}]
[null,null,null,"Кассовые прилавки"]
[null,null,null,"Octava XL КНП 620 ББ",null,"-","-","600х1069х940",20871.120000000003,{"$f":"ROUND(I63*(1-$E$3)/Лист2!$A$6,0)","v":20871}]
[4,"Витрины серии GAMMA-2, глубина выкладки 760 мм, стандартный Ral 3004.",null,null,null,null,null,null,"Опции Gamma-2"]
[null,"Стандартная комплектация:",null,"                                                                   Среднетемпературные, ВПС",null,null,null,null,null,null,"*нажмите чтобы перейти в список опций"]
[null,"- агрегат",null,"Gamma-2 1200","с боковинами","0…+7",0.85,"1218х1093х1300",71507.92,{"$f":"ROUND(I66*(1-$E$3)/Лист2!$A$6,0)","v":71508}]
[null,"- испаритель",null,null,"без боковин",null,null,"1118х1093х1300",61579.280000000006,{"$f":"ROUND(I67*(1-$E$3)/Лист2!$A$6,0)","v":61579}]
[null,"- шторки из оргстекла",null,"Gamma-2 1500","с боковинами","0…+7",1.1000000000000001,"1518х1093х1300",76203.600000000006,{"$f":"ROUND(I68*(1-$E$3)/Лист2!$A$6,0)","v":76204}]
[null,"- комплект боковин и боковых стекол",null,null,"без боковин",null,null,"1418х1093х1300",66275.88,{"$f":"ROUND(I69*(1-$E$3)/Лист2!$A$6,0)","v":66276}]
[null,"- комплект фронтальных стекол",null,"Gamma-2 1800","с боковинами","0…+7",1.3,"1818х1093х1300",89493,{"$f":"ROUND(I70*(1-$E$3)/Лист2!$A$6,0)","v":89493}]
[null,"- экспозиционные полки из шлифованной стали",null,null,"без боковин",null,null,"1718х1093х1300",79267.199999999997,{"$f":"ROUND(I71*(1-$E$3)/Лист2!$A$6,0)","v":79267}]
[null,"- ёмкость для сбора талой воды",null,"Средне-низкотемпературные, ВПСН"]
[null,"- светильник с люминесцентной лампой",null,"Gamma-2 SN 1200","с боковинами","-6…+6",0.85,"1218х1093х1300",80556.12000000001,{"$f":"ROUND(I73*(1-$E$3)/Лист2!$A$6,0)","v":80556}]
[null,"- электронный пульт управления",null,null,"без боковин",null,null,"1118х1093х1300",70330.320000000007,{"$f":"ROUND(I74*(1-$E$3)/Лист2!$A$6,0)","v":70330}]
[null,"- деревянная тара",null,"Gamma-2 SN 1500","с боковинами","-6…+6",1.1000000000000001,"1518х1093х1300",90199.56,{"$f":"ROUND(I75*(1-$E$3)/Лист2!$A$6,0)","v":90200}]
[null,null,null,null,"без боковин",null,null,"1418х1093х1300",79973.760000000009,{"$f":"ROUND(I76*(1-$E$3)/Лист2!$A$6,0)","v":79974}]
[null,null,null,"Gamma-2 SN 1800","с боковинами","-6…+6",1.3,"1818х1093х1300",102764,{"$f":"ROUND(I77*(1-$E$3)/Лист2!$A$6,0)","v":102764}]
[null,null,null,null,"без боковин",null,null,"1718х1093х1300",92537.279999999999,{"$f":"ROUND(I78*(1-$E$3)/Лист2!$A$6,0)","v":92537}]
[null,null,null,"Низкотемпературные, ВПН"]
[null,null,null,"Gamma-2 М 1200","с боковинами","от -18",0.85,"1218х1093х1300",99440.960000000006,{"$f":"ROUND(I80*(1-$E$3)/Лист2!$A$6,0)","v":99441}]
[null,null,null,null,"без боковин",null,null,"1118х1093х1300",89057.840000000011,{"$f":"ROUND(I81*(1-$E$3)/Лист2!$A$6,0)","v":89058}]
[null,null,null,"Gamma-2 М 1500","с боковинами","от -18",1.1000000000000001,"1518х1093х1300",113694.52,{"$f":"ROUND(I82*(1-$E$3)/Лист2!$A$6,0)","v":113695}]
[null,null,null,null,"без боковин",null,null,"1418х1093х1300",103311.40000000001,{"$f":"ROUND(I83*(1-$E$3)/Лист2!$A$6,0)","v":103311}]
[null,null,null,"Gamma-2 М 1800","с боковинами","от -18",1.3,"1818х1093х1300",125186.24000000001,{"$f":"ROUND(I84*(1-$E$3)/Лист2!$A$6,0)","v":125186}]
[null,null,null,null,"без боковин",null,null,"1718х1093х1300",114803.12000000001,{"$f":"ROUND(I85*(1-$E$3)/Лист2!$A$6,0)","v":114803}]
[null,null,null,"Угловые витрины (ВПС) и кассовые прилавки"]
[null,null,null,"Gamma-2 OC 90 (угол внеш.)","с боковинами","0…+7",0.92,"1180х1180х1300",104475.20000000001,{"$f":"ROUND(I87*(1-$E$3)/Лист2!$A$6,0)","v":104475}]
[null,null,null,null,"без боковин",null,null,"1130х1130х1300",94248.48000000001,{"$f":"ROUND(I88*(1-$E$3)/Лист2!$A$6,0)","v":94248}]
[null,null,null,"Gamma-2 IC 90 (угол внутр.)","с боковинами","0…+7",0.74,"1355х1355х1300",115578.68000000001,{"$f":"ROUND(I89*(1-$E$3)/Лист2!$A$6,0)","v":115579}]
[null,null,null,null,"без боковин",null,null,"1305х1305х1300",105352.88,{"$f":"ROUND(I90*(1-$E$3)/Лист2!$A$6,0)","v":105353}]
[null,null,null,"Gamma-2 КНП 1020","с боковинами","-","-","1000х1100х940",28515.4,{"$f":"ROUND(I91*(1-$E$3)/Лист2!$A$6,0)","v":28515}]
[null,null,null,"Gamma-2 КНП 920 ББ","без боковин","-","-","920х1100х940",23213.440000000002,{"$f":"ROUND(I92*(1-$E$3)/Лист2!$A$6,0)","v":23213}]
[null,null,null,"Gamma-2 КНП 800","с боковинами","-","-","800х1100х940",26965.200000000001,{"$f":"ROUND(I93*(1-$E$3)/Лист2!$A$6,0)","v":26965}]
[null,null,null,"Gamma-2 КНП 700 ББ","без боковин","-","-","700х1100х940",20122.240000000002,{"$f":"ROUND(I94*(1-$E$3)/Лист2!$A$6,0)","v":20122}]
[null,null,null,"Gamma-2 КНП 600","с боковинами","-","-","600х1100х940",25224.560000000001,{"$f":"ROUND(I95*(1-$E$3)/Лист2!$A$6,0)","v":25225}]
[null,null,null,"Gamma-2 КНП 600 ББ","без боковин","-","-","600х1100х940",18964.88,{"$f":"ROUND(I96*(1-$E$3)/Лист2!$A$6,0)","v":18965}]
[null,null,null,"Gamma-2 КНП 500 ББ","без боковин","-","-","500х1100х940",16511.240000000002,{"$f":"ROUND(I97*(1-$E$3)/Лист2!$A$6,0)","v":16511}]
[null,null,null,"Gamma-2 ОС КНП (угол внеш.)","с боковинами","-","-","1145х1145х930",37887.440000000002,{"$f":"ROUND(I98*(1-$E$3)/Лист2!$A$6,0)","v":37887}]
[null,null,null,null,"без боковин",null,null,"1095х1095х930",29175.960000000003,{"$f":"ROUND(I99*(1-$E$3)/Лист2!$A$6,0)","v":29176}]
[null,null,null,"Gamma-2 IC КНП (угол внутр.)","с боковинами","-","-","1275х1275х930",37225.040000000001,{"$f":"ROUND(I100*(1-$E$3)/Лист2!$A$6,0)","v":37225}]
[null,null,null,null,"без боковин",null,null,"1225х1225х930",28514.48,{"$f":"ROUND(I101*(1-$E$3)/Лист2!$A$6,0)","v":28514}]
[5,"Витрины серии GAMMA-2 LED, глубина выкладки 760 мм, стандартный Ral 3004."]
[null,"Стандартная комплектация:",null,"Среднетемпературные"]
[null,"- агрегат",null,"Gamma-2 1200 LED","с боковинами","0…+7",0.85,"1218х1093х1300",79279,{"$f":"ROUND(I104*(1-$E$3)/Лист2!$A$6,0)","v":79279}]
[null,"- испаритель",null,null,"без боковин",null,null,"1118х1093х1300",68488,{"$f":"ROUND(I105*(1-$E$3)/Лист2!$A$6,0)","v":68488}]
[null,"- шторки из оргстекла",null,"Gamma-2 1500 LED","с боковинами","0…+7",1.1000000000000001,"1518х1093х1300",84487,{"$f":"ROUND(I106*(1-$E$3)/Лист2!$A$6,0)","v":84487}]
[null,"- комплект боковин и боковых стекол",null,null,"без боковин",null,null,"1418х1093х1300",73696,{"$f":"ROUND(I107*(1-$E$3)/Лист2!$A$6,0)","v":73696}]
[null,"- комплект фронтальных стекол",null,"Gamma-2 1800 LED","с боковинами","0…+7",1.3,"1818х1093х1300",99221,{"$f":"ROUND(I108*(1-$E$3)/Лист2!$A$6,0)","v":99221}]
[null,"- экспозиционные полки из шлифованной стали",null,null,"без боковин",null,null,"1718х1093х1300",88105,{"$f":"ROUND(I109*(1-$E$3)/Лист2!$A$6,0)","v":88105}]
[null,"- ёмкость для сбора талой воды",null,"Средне-низкотемпературные"]
[null,"- светодиодная подсветка",null,"Gamma-2 SN 1200 LED","с боковинами","-6…+6",0.85,"1218х1093х1300",89313,{"$f":"ROUND(I111*(1-$E$3)/Лист2!$A$6,0)","v":89313}]
[null,"- электронный пульт управления",null,null,"без боковин",null,null,"1118х1093х1300",78198,{"$f":"ROUND(I112*(1-$E$3)/Лист2!$A$6,0)","v":78198}]
[null,"- деревянная тара",null,"Gamma-2 SN 1500 LED","с боковинами","-6…+6",1.1000000000000001,"1518х1093х1300",100002,{"$f":"ROUND(I113*(1-$E$3)/Лист2!$A$6,0)","v":100002}]
[null,null,null,null,"без боковин",null,null,"1418х1093х1300",88888,{"$f":"ROUND(I114*(1-$E$3)/Лист2!$A$6,0)","v":88888}]
[null,null,null,"Gamma-2 SN 1800 LED","с боковинами","-6…+6",1.3,"1818х1093х1300",113934,{"$f":"ROUND(I115*(1-$E$3)/Лист2!$A$6,0)","v":113934}]
[null,null,null,null,"без боковин",null,null,"1718х1093х1300",102818,{"$f":"ROUND(I116*(1-$E$3)/Лист2!$A$6,0)","v":102818}]
[null,null,null,"Низкотемпературные"]
[null,null,null,"Gamma-2 М 1200 LED","с боковинами","от -18",0.85,"1218х1093х1300",110250,{"$f":"ROUND(I118*(1-$E$3)/Лист2!$A$6,0)","v":110250}]
[null,null,null,null,"без боковин",null,null,"1118х1093х1300",98964,{"$f":"ROUND(I119*(1-$E$3)/Лист2!$A$6,0)","v":98964}]
[null,null,null,"Gamma-2 М 1500 LED","с боковинами","от -18",1.1000000000000001,"1518х1093х1300",126052,{"$f":"ROUND(I120*(1-$E$3)/Лист2!$A$6,0)","v":126052}]
[null,null,null,null,"без боковин",null,null,"1418х1093х1300",114766,{"$f":"ROUND(I121*(1-$E$3)/Лист2!$A$6,0)","v":114766}]
[null,null,null,"Gamma-2 М 1800 LED","с боковинами","от -18",1.3,"1818х1093х1300",138793,{"$f":"ROUND(I122*(1-$E$3)/Лист2!$A$6,0)","v":138793}]
[null,null,null,null,"без боковин",null,null,"1718х1093х1300",127507,{"$f":"ROUND(I123*(1-$E$3)/Лист2!$A$6,0)","v":127507}]
[6,"Витрины серии GAMMA-2  FISH, глубина выкладки 760 мм, стандартный Ral 3004."]
[null,null,null,"Средне-низкотемпературные"]
[null,"- усиленный поддон для льда и рыбы",null,"Gamma-2 SN FISH 1200","с боковинами","-6…+6",0.85,"1218х1093х1300",97693,{"$f":"ROUND(I126*(1-$E$3)/Лист2!$A$6,0)","v":97693}]
[null,"- коррозионностойкая решётка защиты испарителя ",null,null,"без боковин",null,null,"1118х1093х1300",86578,{"$f":"ROUND(I127*(1-$E$3)/Лист2!$A$6,0)","v":86578}]
[null,"- увеличенный слив (Д 40 мм)",null,"Gamma-2 SN FISH 1500","с боковинами","-6…+6",1.1000000000000001,"1518х1093х1300",112989,{"$f":"ROUND(I128*(1-$E$3)/Лист2!$A$6,0)","v":112989}]
[null,null,null,null,"без боковин",null,null,"1418х1093х1300",101874,{"$f":"ROUND(I129*(1-$E$3)/Лист2!$A$6,0)","v":101874}]
[null,null,null,"Gamma-2 SN FISH 1800","с боковинами","-6…+6",1.3,"1818х1093х1300",126856,{"$f":"ROUND(I130*(1-$E$3)/Лист2!$A$6,0)","v":126856}]
[null,null,null,null,"без боковин",null,null,"1718х1093х1300",115742,{"$f":"ROUND(I131*(1-$E$3)/Лист2!$A$6,0)","v":115742}]
[5,"Витрины серии GAMMA QUADRO LED, глубина выкладки 760 мм, стандартный Ral 9016/7016.",null,null,null,null,null,null,"Опции Gamma Quadro"]
[null,"Стандартная комплектация:",null,"                                                                   Среднетемпературные, ВПС",null,null,null,null,null,null,"*нажмите чтобы перейти в список опций"]
[null,"- агрегат",null,"Gamma Quadro 1200 LED","с боковинами","0…+7",0.85,"1218х1087х1209",86366.84,{"$f":"ROUND(I134*(1-$E$3)/Лист2!$A$6,0)","v":86367}]
[null,"- испаритель",null,null,"без боковин",null,null,"1118х1087х1209",76155.760000000009,{"$f":"ROUND(I135*(1-$E$3)/Лист2!$A$6,0)","v":76156}]
[null,"- шторки из оргстекла",null,"Gamma Quadro 1500 LED","с боковинами","0…+7",1.1000000000000001,"1518х1087х1209",92320.16,{"$f":"ROUND(I136*(1-$E$3)/Лист2!$A$6,0)","v":92320}]
[null,"- комплект боковин и боковых стекол",null,null,"без боковин",null,null,"1418х1087х1209",82109.08,{"$f":"ROUND(I137*(1-$E$3)/Лист2!$A$6,0)","v":82109}]
[null,"- комплект фронтальных стекол",null,"Gamma Quadro 1800 LED","с боковинами","0…+7",1.3,"1818х1087х1209",111313.56,{"$f":"ROUND(I138*(1-$E$3)/Лист2!$A$6,0)","v":111314}]
[null,"- экспозиционные полки из шлифованной стали",null,null,"без боковин",null,null,"1718х1087х1209",100591.88,{"$f":"ROUND(I139*(1-$E$3)/Лист2!$A$6,0)","v":100592}]
[null,"- ёмкость для сбора талой воды",null,"Средне-низкотемпературные, ВПСН"]
[null,"- светодиодная подсветка",null,"Gamma Quadro SN 1200 LED","с боковинами","-6…+6",0.85,"1218х1087х1209",93962.36,{"$f":"ROUND(I141*(1-$E$3)/Лист2!$A$6,0)","v":93962}]
[null,"- электронный пульт управления",null,null,"без боковин",null,null,"1118х1087х1209",83239.760000000009,{"$f":"ROUND(I142*(1-$E$3)/Лист2!$A$6,0)","v":83240}]
[null,"- деревянная тара",null,"Gamma Quadro SN 1500 LED","с боковинами","-6…+6",1.1000000000000001,"1518х1087х1209",108253.64,{"$f":"ROUND(I143*(1-$E$3)/Лист2!$A$6,0)","v":108254}]
[null,null,null,null,"без боковин",null,null,"1418х1087х1209",97531.96,{"$f":"ROUND(I144*(1-$E$3)/Лист2!$A$6,0)","v":97532}]
[null,null,null,"Gamma Quadro SN 1800 LED","с боковинами","-6…+6",1.3,"1818х1087х1209",122912.92,{"$f":"ROUND(I145*(1-$E$3)/Лист2!$A$6,0)","v":122913}]
[null,null,null,null,"без боковин",null,null,"1718х1087х1209",112190.32,{"$f":"ROUND(I146*(1-$E$3)/Лист2!$A$6,0)","v":112190}]
[null,null,null,"Низкотемпературные, ВПН"]
[null,null,null,"Gamma Quadro М 1200 LED","с боковинами","от -18",0.85,"1218х1087х1209",107392.52,{"$f":"ROUND(I148*(1-$E$3)/Лист2!$A$6,0)","v":107393}]
[null,null,null,null,"без боковин",null,null,"1118х1087х1209",96505.24,{"$f":"ROUND(I149*(1-$E$3)/Лист2!$A$6,0)","v":96505}]
[null,null,null,"Gamma Quadro М 1500 LED","с боковинами","от -18",1.1000000000000001,"1518х1087х1209",122558.72,{"$f":"ROUND(I150*(1-$E$3)/Лист2!$A$6,0)","v":122559}]
[null,null,null,null,"без боковин",null,null,"1418х1087х1209",111671.44,{"$f":"ROUND(I151*(1-$E$3)/Лист2!$A$6,0)","v":111671}]
[null,null,null,"Gamma Quadro М 1800 LED","с боковинами","от -18",1.3,"1818х1087х1209",142874.16,{"$f":"ROUND(I152*(1-$E$3)/Лист2!$A$6,0)","v":142874}]
[null,null,null,null,"без боковин",null,null,"1718х1087х1209",131986.88,{"$f":"ROUND(I153*(1-$E$3)/Лист2!$A$6,0)","v":131987}]
[null,null,null,"Угловые витрины (ВПС) и кассовые прилавки"]
[null,null,null,"Gamma Quadro OC 90 LED (угол внеш.)","с боковинами","0…+7",0.92,"1180х1180х1209",129950,{"$f":"ROUND(I155*(1-$E$3)/Лист2!$A$6,0)","v":129950}]
[null,null,null,null,"без боковин",null,null,"1130х1130х1209",119227.40000000001,{"$f":"ROUND(I156*(1-$E$3)/Лист2!$A$6,0)","v":119227}]
[null,null,null,"Gamma Quadro IC 90 LED (угол внутр.)","с боковинами","0…+7",0.74,"1355х1355х1209",129950,{"$f":"ROUND(I157*(1-$E$3)/Лист2!$A$6,0)","v":129950}]
[null,null,null,null,"без боковин",null,null,"1305х1305х1209",119227.40000000001,{"$f":"ROUND(I158*(1-$E$3)/Лист2!$A$6,0)","v":119227}]
[null,null,null,"Gamma Quadro КНП 580","с боковинами","-","-","580х1087х936",29683.800000000003,{"$f":"ROUND(I159*(1-$E$3)/Лист2!$A$6,0)","v":29684}]
[null,null,null,"Gamma Quadro КНП 500 ББ","без боковин","-","-","500х1087х936",18961.2,{"$f":"ROUND(I160*(1-$E$3)/Лист2!$A$6,0)","v":18961}]
[null,null,null,"Gamma Quadro ОС КНП (угол внеш.)","с боковинами","-","-","1145х1145х936",43511.4,{"$f":"ROUND(I161*(1-$E$3)/Лист2!$A$6,0)","v":43511}]
[null,null,null,null,"без боковин",null,null,"1095х1095х936",34373.96,{"$f":"ROUND(I162*(1-$E$3)/Лист2!$A$6,0)","v":34374}]
[6,"Витрины серии GAMMA Quadro LED FISH, глубина выкладки 760 мм, стандартный Ral 3004."]
[null,null,null,"Средне-низкотемпературные, ВПСН"]
[null,"- усиленный поддон для льда и рыбы",null,"Gamma Quadro SN FISH 1200 LED","с боковинами","-6…+6",0.85,"1218х1093х1300",102573.56,{"$f":"ROUND(I165*(1-$E$3)/Лист2!$A$6,0)","v":102574}]
[null,"- коррозионностойкая решётка защиты испарителя ",null,null,"без боковин",null,null,"1118х1093х1300",91850.96,{"$f":"ROUND(I166*(1-$E$3)/Лист2!$A$6,0)","v":91851}]
[null,"- увеличенный слив (Д 40 мм)",null,"Gamma Quadro SN FISH 1500 LED","с боковинами","-6…+6",1.1000000000000001,"1518х1093х1300",119182.32,{"$f":"ROUND(I167*(1-$E$3)/Лист2!$A$6,0)","v":119182}]
[null,null,null,null,"без боковин",null,null,"1418х1093х1300",108459.72,{"$f":"ROUND(I168*(1-$E$3)/Лист2!$A$6,0)","v":108460}]
[null,null,null,"Gamma Quadro SN FISH 1800 LED","с боковинами","-6…+6",1.3,"1818х1093х1300",134288.72,{"$f":"ROUND(I169*(1-$E$3)/Лист2!$A$6,0)","v":134289}]
[null,null,null,null,"без боковин",null,null,"1718х1093х1300",123566.12000000001,{"$f":"ROUND(I170*(1-$E$3)/Лист2!$A$6,0)","v":123566}]
[null,null,null,"Gamma Quadro Self 1200 (динамический холод)","с боковинами","0…+7",0.85,"1204х1096х934",94928.36,{"$f":"ROUND(I171*(1-$E$3)/Лист2!$A$6,0)","v":94928}]
[]
[]
[]
[]
[]
[7,"Витрины серии Sonata Quadro, глубина выкладки 760 мм, стандартный Ral 7016 "]
[null,null,null,"  Среднетемпературные, ВПС"]
[null,"Стандартная комплектация:",null,"Sonata Quadro  1200 LED","с боковинами","0…+7",0.85,"1218х1087х1209",77659.960000000006,{"$f":"ROUND(I179*(1-$E$3)/Лист2!$A$6,0)","v":77660}]
[null,"- агрегат",null,"Sonata Quadro  1500 LED","с боковинами","0…+7",1.1000000000000001,"1518х1087х1209",89664.12000000001,{"$f":"ROUND(I180*(1-$E$3)/Лист2!$A$6,0)","v":89664}]
[null,"- испаритель",null,"Sonata Quadro  1800 LED","с боковинами","0…+7",1.3,"1818х1087х1209",100461.24,{"$f":"ROUND(I181*(1-$E$3)/Лист2!$A$6,0)","v":100461}]
[null,"- шторки из оргстекла",null,"Средне-низкотемпературные, ВПСН"]
[null,"- комплект боковин и боковых стекол",null,"Sonata Quadro SN 1200 LED","с боковинами","-6…+6",0.85,"1218х1087х1209",79342.64,{"$f":"ROUND(I183*(1-$E$3)/Лист2!$A$6,0)","v":79343}]
[null,"- комплект фронтальных стекол",null,"Sonata Quadro SN 1500 LED","с боковинами","-6…+6",1.1000000000000001,"1518х1087х1209",94471.12000000001,{"$f":"ROUND(I184*(1-$E$3)/Лист2!$A$6,0)","v":94471}]
[null,"- экспозиционные полки из шлифованной стали",null,"Sonata Quadro SN 1800 LED","с боковинами","-6…+6",1.3,"1818х1087х1209",105367.6,{"$f":"ROUND(I185*(1-$E$3)/Лист2!$A$6,0)","v":105368}]
[null,"- ёмкость для сбора талой воды",null,"Низкотемпературные, ВПН"]
[null,null,null,"Sonata Quadro М 1200 LED","с боковинами","от -18",0.85,"1218х1087х1209",94456.400000000009,{"$f":"ROUND(I187*(1-$E$3)/Лист2!$A$6,0)","v":94456}]
[null,null,null,"Sonata Quadro М 1500 LED","с боковинами","от -18",1.1000000000000001,"1518х1087х1209",113327.44,{"$f":"ROUND(I188*(1-$E$3)/Лист2!$A$6,0)","v":113327}]
[null,null,null,"Sonata Quadro М 1800 LED","с боковинами","от -18",1.3,"1818х1087х1209",127624.24,{"$f":"ROUND(I189*(1-$E$3)/Лист2!$A$6,0)","v":127624}]
[8,"Витрины настольные Vivo 1000 (статическое охлаждение, освещение нейтральное)"]
[null,null,null,"Витрина холодильная ВПС Vivo 1000 (0..+5°С)","с боковинами","0…+5",null,"1000x866x450",52171,{"$f":"ROUND(I191*(1-$E$3)/Лист2!$A$6,0)","v":52171}]
[null,null,null,"Витрина холодильная ВПСН Vivo 1000 (-5..+5°С)","с боковинами","-5…+5",null,null,58664,{"$f":"ROUND(I192*(1-$E$3)/Лист2!$A$6,0)","v":58664}]
[null,null,null,"Витрина тепловая ВПТ Vivo 1000","с боковинами","до +65",null,null,54450,{"$f":"ROUND(I193*(1-$E$3)/Лист2!$A$6,0)","v":54450}]
[]
["Витрины Cryspi со встроенным агрегатом. Динамическая система охлаждения "]
["- Динамическая система охлаждения, компрессор Embraco, R-290;\n- Электронный контроллер CAREL;\n- Оттайка для версий ВПС - естественная, для версий ВПСН и ВПН - ТЭН (по умолчанию);\n- Общее освещение для версий с высоким стеклом - нейтральное (4000К);    \n - Товарный накопитель для линейных модулей (кроме НТ);   ",null,null,null,"- Внутренний объем - оцинкованный металл, внутренний объем в зоне выкладки - нерж.сталь;\n- Ночные шторки для витрин с высоким стеклом;                                                                             \n- Фронтальное стекло закаленное \n(Magnum Eco – стекло не открывается, Magnum Quadro – стекло открывается сверху-вниз без гидролифта; Magnum – стекло открывается снизу-вверх, опционально возможно применение гидролифта;) \n- Емкость для сбора талой воды, опционально возможно применение выпаривателя;\n- Деревянная усиленная упаковка;"]
[9,"Витрины серии MAGNUM ECO, глубина выкладки 860 мм, стандартный Ral 7016"]
[null,"Стандартная комплектация:",null,"  Среднетемпературные, ВПС"]
[null,"- агрегат",null,"Magnum Eco 1250 Д","с боковинами","0…+7",1.075,"1330х1100х1225",104543.28,{"$f":"ROUND(I199*(1-$E$3)/Лист2!$A$6,0)","v":104543}]
[null,"- боковая панель со стеклом правая/левая",null,null,"без боковин",null,null,"1250х1100х1225",91446.16,{"$f":"ROUND(I200*(1-$E$3)/Лист2!$A$6,0)","v":91446}]
[null,"- электронный пульт управления",null,"Magnum Eco 1880 Д","с боковинами","0…+7",1.62,"1960х1100х1225",132569.24000000002,{"$f":"ROUND(I201*(1-$E$3)/Лист2!$A$6,0)","v":132569}]
[null,"- испаритель",null,null,"без боковин",null,null,"1880х1100х1225",119472.12000000001,{"$f":"ROUND(I202*(1-$E$3)/Лист2!$A$6,0)","v":119472}]
[null,"- электрооттайка испарителя (SN/F)",null,"Magnum Eco 2500 Д","с боковинами","0…+7",2.15,"2580х1100х1225",164888.84,{"$f":"ROUND(I203*(1-$E$3)/Лист2!$A$6,0)","v":164889}]
[null,"- экспозиционные полки (нерж. сталь)",null,null,"без боковин",null,null,"2500х1100х1225",151791.72,{"$f":"ROUND(I204*(1-$E$3)/Лист2!$A$6,0)","v":151792}]
[null,"- светильник с люминисцентной лампой (кроме SG)",null,"Magnum Eco 3750 Д","с боковинами","0…+7",3.22,"3830х1100х1225",206158.2,{"$f":"ROUND(I205*(1-$E$3)/Лист2!$A$6,0)","v":206158}]
[null,"- ночные шторки (оргстекло)",null,null,"без боковин",null,null,"3750х1100х1225",193062,{"$f":"ROUND(I206*(1-$E$3)/Лист2!$A$6,0)","v":193062}]
[null,"- защитный экран фронтальных стекол",null,"Средне-низкотемпературные, ВПСН"]
[null,"- ТЭНы обогрева ванны (F)",null,"Magnum Eco SN 1250 Д","с боковинами","-6…+6",1.075,"1330х1100х1225",112391.8,{"$f":"ROUND(I208*(1-$E$3)/Лист2!$A$6,0)","v":112392}]
[null,"- лотки (в ванне тепловой) 2шт. (H)",null,null,"без боковин",null,null,"1250х1100х1225",99294.680000000008,{"$f":"ROUND(I209*(1-$E$3)/Лист2!$A$6,0)","v":99295}]
[null,"- бампер-отбойник из нержавеющей стали",null,"Magnum Eco SN 1880 Д","с боковинами","-6…+6",1.62,"1960х1100х1225",139992.72,{"$f":"ROUND(I210*(1-$E$3)/Лист2!$A$6,0)","v":139993}]
[null,"- деревянная упаковка",null,null,"без боковин",null,null,"1880х1100х1225",126895.6,{"$f":"ROUND(I211*(1-$E$3)/Лист2!$A$6,0)","v":126896}]
[null,null,null,"Magnum Eco SN 2500 Д","с боковинами","-6…+6",2.15,"2580х1100х1225",169501.72,{"$f":"ROUND(I212*(1-$E$3)/Лист2!$A$6,0)","v":169502}]
[null,null,null,null,"без боковин",null,null,"2500х1100х1225",156405.52000000002,{"$f":"ROUND(I213*(1-$E$3)/Лист2!$A$6,0)","v":156406}]
[null,null,null,"Magnum Eco SN 3750 Д","с боковинами","-6…+6",3.22,"3830х1100х1225",226157.16,{"$f":"ROUND(I214*(1-$E$3)/Лист2!$A$6,0)","v":226157}]
[null,null,null,null,"без боковин",null,null,"3750х1100х1225",213059.12,{"$f":"ROUND(I215*(1-$E$3)/Лист2!$A$6,0)","v":213059}]
[10,"Витрины серии MAGNUM, глубина выкладки 860 мм, стандартный Ral 7016",null,null,null,null,null,null,"Опции Magnum"]
[null,"Стандартная комплектация:",null,"  Среднетемпературные, ВПС",null,null,null,null,null,null,"*нажмите чтобы перейти в список опций"]
[null,"- агрегат",null,"Magnum 1250 Д","с боковинами","0…+7",1.075,"1330х1100х1225",121036.12000000001,{"$f":"ROUND(I218*(1-$E$3)/Лист2!$A$6,0)","v":121036}]
[null,"- боковая панель со стеклом правая/левая",null,null,"без боковин",null,null,"1250х1100х1225",108185.56,{"$f":"ROUND(I219*(1-$E$3)/Лист2!$A$6,0)","v":108186}]
[null,"- электронный пульт управления",null,"Magnum 1880 Д","с боковинами","0…+7",1.62,"1960х1100х1225",162568.6,{"$f":"ROUND(I220*(1-$E$3)/Лист2!$A$6,0)","v":162569}]
[null,"- испаритель",null,null,"без боковин",null,null,"1880х1100х1225",149716.20000000001,{"$f":"ROUND(I221*(1-$E$3)/Лист2!$A$6,0)","v":149716}]
[null,"- электрооттайка испарителя (ВПСН/ВПН)",null,"Magnum 2500 Д","с боковинами","0…+7",2.15,"2580х1100х1225",189070.12,{"$f":"ROUND(I222*(1-$E$3)/Лист2!$A$6,0)","v":189070}]
[null,"- экспозиционные полки (нерж. сталь)",null,null,"без боковин",null,null,"2500х1100х1225",176218.64,{"$f":"ROUND(I223*(1-$E$3)/Лист2!$A$6,0)","v":176219}]
[null,"- светильник с люминисцентной лампой (кроме SG)",null,"Magnum 3750 Д","с боковинами","0…+7",3.22,"3830х1100х1225",238717.92,{"$f":"ROUND(I224*(1-$E$3)/Лист2!$A$6,0)","v":238718}]
[null,"- ночные шторки (оргстекло)",null,null,"без боковин",null,null,"3750х1100х1225",225866.44,{"$f":"ROUND(I225*(1-$E$3)/Лист2!$A$6,0)","v":225866}]
[null,"- защитный экран фронтальных стекол (ВПСН/ВПН)",null,"Средне-низкотемпературные, ВПСН"]
[null,"- ТЭНы обогрева ванны (H)",null,"Magnum SN 1250 Д","с боковинами","-6…+6",1.075,"1330х1100х1225",130981.32,{"$f":"ROUND(I227*(1-$E$3)/Лист2!$A$6,0)","v":130981}]
[null,"- лотки (в ванне тепловой) 2шт. (H)",null,null,"без боковин",null,null,"1250х1100х1225",117885.12000000001,{"$f":"ROUND(I228*(1-$E$3)/Лист2!$A$6,0)","v":117885}]
[null,"- устройство регулирования температуры - термостат IMIT TR2",null,"Magnum SN 1880 Д","с боковинами","-6…+6",1.62,"1960х1100х1225",171991.24000000002,{"$f":"ROUND(I229*(1-$E$3)/Лист2!$A$6,0)","v":171991}]
[null,"- деревянная упаковка",null,null,"без боковин",null,null,"1880х1100х1225",158894.12,{"$f":"ROUND(I230*(1-$E$3)/Лист2!$A$6,0)","v":158894}]
[null,null,null,"Magnum SN 2500 Д","с боковинами","-6…+6",2.15,"2580х1100х1225",208186.80000000002,{"$f":"ROUND(I231*(1-$E$3)/Лист2!$A$6,0)","v":208187}]
[null,"Бампер и гидроподъемники - опция!",null,null,"без боковин",null,null,"2500х1100х1225",195091.52000000002,{"$f":"ROUND(I232*(1-$E$3)/Лист2!$A$6,0)","v":195092}]
[null,null,null,"Magnum SN 3750 Д","с боковинами","-6…+6",3.22,"3830х1100х1225",269906.84000000003,{"$f":"ROUND(I233*(1-$E$3)/Лист2!$A$6,0)","v":269907}]
[null,null,null,null,"без боковин",null,null,"3750х1100х1225",256810.64,{"$f":"ROUND(I234*(1-$E$3)/Лист2!$A$6,0)","v":256811}]
[null,null,null,"Низкотемпературные, ВПН"]
[null,null,null,"Magnum F 1250 Д","с боковинами","-18...-15",1.075,"1330х1100х1225",147087.76,{"$f":"ROUND(I236*(1-$E$3)/Лист2!$A$6,0)","v":147088}]
[null,null,null,null,"без боковин",null,null,"1250х1100х1225",131249.96,{"$f":"ROUND(I237*(1-$E$3)/Лист2!$A$6,0)","v":131250}]
[null,null,null,"Magnum F 1880 Д","с боковинами","-18...-15",1.62,"1960х1100х1225",201347.52000000002,{"$f":"ROUND(I238*(1-$E$3)/Лист2!$A$6,0)","v":201348}]
[null,null,null,null,"без боковин",null,null,"1880х1100х1225",185511.56,{"$f":"ROUND(I239*(1-$E$3)/Лист2!$A$6,0)","v":185512}]
[null,null,null,"Magnum F 2500 Д","с боковинами","-18...-15",2.15,"2580х1100х1225",229643.04,{"$f":"ROUND(I240*(1-$E$3)/Лист2!$A$6,0)","v":229643}]
[null,null,null,null,"без боковин",null,null,"2500х1100х1225",213807.08000000002,{"$f":"ROUND(I241*(1-$E$3)/Лист2!$A$6,0)","v":213807}]
[null,null,null,"Magnum F 3750 Д","с боковинами","-18...-15",3.22,"3830х1100х1225",353441,{"$f":"ROUND(I242*(1-$E$3)/Лист2!$A$6,0)","v":353441}]
[null,null,null,null,"без боковин",null,null,"3750х1100х1225",337604.12,{"$f":"ROUND(I243*(1-$E$3)/Лист2!$A$6,0)","v":337604}]
[null,null,null,"Среднетемпературные с низким стеклом, ВПС Self"]
[null,null,null,"Magnum SG 1250 Д","с боковинами","0…+7",1.075,"1330х1100х895",105607.72,{"$f":"ROUND(I245*(1-$E$3)/Лист2!$A$6,0)","v":105608}]
[null,null,null,null,"без боковин",null,null,"1250х1100х895",92756.24,{"$f":"ROUND(I246*(1-$E$3)/Лист2!$A$6,0)","v":92756}]
[null,null,null,"Magnum SG 1880 Д","с боковинами","0…+7",1.62,"1960х1100х895",137955.84,{"$f":"ROUND(I247*(1-$E$3)/Лист2!$A$6,0)","v":137956}]
[null,null,null,null,"без боковин",null,null,"1880х1100х895",125104.36,{"$f":"ROUND(I248*(1-$E$3)/Лист2!$A$6,0)","v":125104}]
[null,null,null,"Magnum SG 2500 Д","с боковинами","0…+7",2.15,"2580х1100х895",164192.4,{"$f":"ROUND(I249*(1-$E$3)/Лист2!$A$6,0)","v":164192}]
[null,null,null,null,"без боковин",null,null,"2500х1100х895",151340,{"$f":"ROUND(I250*(1-$E$3)/Лист2!$A$6,0)","v":151340}]
[null,null,null,"Magnum SG 3750 Д","с боковинами","0…+7",3.22,"3830х1100х895",205195.88,{"$f":"ROUND(I251*(1-$E$3)/Лист2!$A$6,0)","v":205196}]
[null,null,null,null,"без боковин",null,null,"3750х1100х895",192344.4,{"$f":"ROUND(I252*(1-$E$3)/Лист2!$A$6,0)","v":192344}]
[null,null,null,"Угловые витрины, ВПС"]
[null,null,null,"Magnum OC 90 Д","с боковинами","0…+7",1.1919999999999999,"1400х1400х1225",209472.04,{"$f":"ROUND(I254*(1-$E$3)/Лист2!$A$6,0)","v":209472}]
[null,null,null,null,"без боковин",null,null,"1360х1360х1225",196620.56,{"$f":"ROUND(I255*(1-$E$3)/Лист2!$A$6,0)","v":196621}]
[null,null,null,"Magnum ОC SG 90 Д","с боковинами","0…+7",1.1919999999999999,"1400х1400х897",165313.88,{"$f":"ROUND(I256*(1-$E$3)/Лист2!$A$6,0)","v":165314}]
[null,null,null,null,"без боковин",null,null,"1360х1360х897",152464.24000000002,{"$f":"ROUND(I257*(1-$E$3)/Лист2!$A$6,0)","v":152464}]
[null,null,null,"Magnum IC 90 Д","с боковинами","0…+7",1.08,"1353х1353х1225",203762.52000000002,{"$f":"ROUND(I258*(1-$E$3)/Лист2!$A$6,0)","v":203763}]
[null,null,null,null,"без боковин",null,null,"1313х1313х1225",190911.04,{"$f":"ROUND(I259*(1-$E$3)/Лист2!$A$6,0)","v":190911}]
[null,null,null,"Magnum IC SG 90 Д","с боковинами","0…+7",1.08,"1353х1353х897",192684.80000000002,{"$f":"ROUND(I260*(1-$E$3)/Лист2!$A$6,0)","v":192685}]
[null,null,null,null,"без боковин",null,null,"1313х1313х897",179834.24000000002,{"$f":"ROUND(I261*(1-$E$3)/Лист2!$A$6,0)","v":179834}]
[null,null,null,"Высокотемпературная, ВПТ"]
[null,null,null,"Magnum Н 1250","с боковинами","+30...+100",1.2150000000000001,"1330х1265х1198",110512.24,{"$f":"ROUND(I263*(1-$E$3)/Лист2!$A$6,0)","v":110512}]
[null,null,null,"Кассовые прилавки"]
[null,null,null,"Magnum КНП IC 90 ББ","без боковин","-","-","1313х1313х832",41327.32,{"$f":"ROUND(I265*(1-$E$3)/Лист2!$A$6,0)","v":41327}]
[null,null,null,"Magnum КНП OC 90 ББ","без боковин",null,null,"1360х1360х832",42153.48,{"$f":"ROUND(I266*(1-$E$3)/Лист2!$A$6,0)","v":42153}]
[null,null,null,"Magnum КНП 880","с боковинами",null,null,"880х1090х832",38639.08,{"$f":"ROUND(I267*(1-$E$3)/Лист2!$A$6,0)","v":38639}]
[null,null,null,"Magnum КНП 800 ББ","без боковин",null,null,"800х1090х832",27248.560000000001,{"$f":"ROUND(I268*(1-$E$3)/Лист2!$A$6,0)","v":27249}]
[null,null,null,"Magnum КНП 1020","с боковинами",null,null,"1020х1090х832",40765.200000000004,{"$f":"ROUND(I269*(1-$E$3)/Лист2!$A$6,0)","v":40765}]
[null,null,null,"Magnum КНП 940 ББ    ","без боковин",null,null,"940х1090х832",29374.68,{"$f":"ROUND(I270*(1-$E$3)/Лист2!$A$6,0)","v":29375}]
[11,"Витрины серии MAGNUM QUADRO, глубина выкладки 860 мм, стандартный Ral 7016",null,null,null,null,null,null,"Опции Magnum Quadro"]
[null,null,null,"                                                         Среднетемпературные, ВПС",null,null,null,null,null,null,"*нажмите чтобы перейти в список опций"]
[null,null,null,"Magnum Quadro 1250","с боковинами","0…+5",1.075,"1330х1090х1225",120799.13923057794,{"$f":"ROUND(I273*(1-$E$3)/Лист2!$A$6,0)","v":120799}]
[null,null,null,null,"без боковин",null,null,"1250х1090х1225",107672.17200854109,{"$f":"ROUND(I274*(1-$E$3)/Лист2!$A$6,0)","v":107672}]
[null,null,null,"Magnum Quadro 1875","с боковинами","0…+5",1.62,"1330х1090х1225",147311.79384751685,{"$f":"ROUND(I275*(1-$E$3)/Лист2!$A$6,0)","v":147312}]
[null,null,null,null,"без боковин",null,null,"1875х1090х1225",134184.82662548,{"$f":"ROUND(I276*(1-$E$3)/Лист2!$A$6,0)","v":134185}]
[null,null,null,"Magnum Quadro 2500","с боковинами","0…+5",2.15,"2580х1090х1225",170612.32104613684,{"$f":"ROUND(I277*(1-$E$3)/Лист2!$A$6,0)","v":170612}]
[null,null,null,null,"без боковин",null,null,"2500х1090х1225",157485.35382409999,{"$f":"ROUND(I278*(1-$E$3)/Лист2!$A$6,0)","v":157485}]
[null,null,null,"Средне-низкотемпературные, ВПСН"]
[null,null,null,"Magnum Quadro SN 1250","с боковинами","-5…+5",1.075,"1330х1090х1225",136234.43923057793,{"$f":"ROUND(I280*(1-$E$3)/Лист2!$A$6,0)","v":136234}]
[null,null,null,null,"без боковин",null,null,"1250х1090х1225",123107.47200854108,{"$f":"ROUND(I281*(1-$E$3)/Лист2!$A$6,0)","v":123107}]
[null,null,null,"Magnum Quadro SN 1875","с боковинами","-5…+5",1.62,"1330х1090х1225",166400.64384751685,{"$f":"ROUND(I282*(1-$E$3)/Лист2!$A$6,0)","v":166401}]
[null,null,null,null,"без боковин",null,null,"1875х1090х1225",153273.67662548,{"$f":"ROUND(I283*(1-$E$3)/Лист2!$A$6,0)","v":153274}]
[null,null,null,"Magnum Quadro SN 2500","с боковинами","-5…+5",2.15,"2580х1090х1225",193080.23904613685,{"$f":"ROUND(I284*(1-$E$3)/Лист2!$A$6,0)","v":193080}]
[null,null,null,null,"без боковин",null,null,"2500х1090х1225",179953.2718241,{"$f":"ROUND(I285*(1-$E$3)/Лист2!$A$6,0)","v":179953}]
[null,null,null,"Низкотемпературные, ВПН"]
[null,null,null,"ВПН Magnum Quadro 1250","с боковинами","-18...-15",1.075,"1330х1090х1225",148068.16923057794,{"$f":"ROUND(I287*(1-$E$3)/Лист2!$A$6,0)","v":148068}]
[null,null,null,null,"без боковин",null,null,"1250х1090х1225",134941.20200854109,{"$f":"ROUND(I288*(1-$E$3)/Лист2!$A$6,0)","v":134941}]
[null,null,null,"ВПН Magnum Quadro 1875","с боковинами","-18...-15",1.62,"1330х1090х1225",181035.42884751686,{"$f":"ROUND(I289*(1-$E$3)/Лист2!$A$6,0)","v":181035}]
[null,null,null,null,"без боковин",null,null,"1875х1090х1225",167908.46162548001,{"$f":"ROUND(I290*(1-$E$3)/Лист2!$A$6,0)","v":167908}]
[null,null,null,"Среднетемпературные с низким стеклом, ВПС Self"]
[null,null,null,"Magnum Quadro Self 1250","с боковинами","0…+5",1.075,"1330х1090х860",113705.75835213687,{"$f":"ROUND(I292*(1-$E$3)/Лист2!$A$6,0)","v":113706}]
[null,null,null,null,"без боковин",null,null,"1250х1090х860",100578.79113010001,{"$f":"ROUND(I293*(1-$E$3)/Лист2!$A$6,0)","v":100579}]
[null,null,null,"Magnum Quadro Self 1875","с боковинами","0…+5",1.62,"1330х1090х860",140595.48876079687,{"$f":"ROUND(I294*(1-$E$3)/Лист2!$A$6,0)","v":140595}]
[null,null,null,null,"без боковин",null,null,"1875х1090х860",127468.52153876002,{"$f":"ROUND(I295*(1-$E$3)/Лист2!$A$6,0)","v":127469}]
[null,null,null,"Magnum Quadro Self 2500","с боковинами","0…+5",2.15,"2580х1090х860",163220.20235941684,{"$f":"ROUND(I296*(1-$E$3)/Лист2!$A$6,0)","v":163220}]
[null,null,null,null,"без боковин",null,null,"2500х1090х860",150093.23513737999,{"$f":"ROUND(I297*(1-$E$3)/Лист2!$A$6,0)","v":150093}]
[null,null,null,"Угловые витрины, ВПС"]
[null,null,null,"Magnum Quadro OC 90","с боковинами","0…+5",1.1919999999999999,"1400х1400х1225",158496.27419424729,{"$f":"ROUND(I299*(1-$E$3)/Лист2!$A$6,0)","v":158496}]
[null,null,null,null,"без боковин",null,null,"1360х1360х1225",145369.30697221044,{"$f":"ROUND(I300*(1-$E$3)/Лист2!$A$6,0)","v":145369}]
[null,null,null,"Magnum Quadro Q IC 90","с боковинами","0…+5",1.08,"1353х1353х1225",151480.76569923887,{"$f":"ROUND(I301*(1-$E$3)/Лист2!$A$6,0)","v":151481}]
[null,null,null,null,"без боковин",null,null,"1313х1313х1225",138353.79847720201,{"$f":"ROUND(I302*(1-$E$3)/Лист2!$A$6,0)","v":138354}]
[null,null,null,"Magnum Quadro Self OC 90","с боковинами","0…+5",1.1919999999999999,"1400х1400х860",151444.81007658568,{"$f":"ROUND(I303*(1-$E$3)/Лист2!$A$6,0)","v":151445}]
[null,null,null,null,"без боковин",null,null,"1360х1360х860",138317.84285454883,{"$f":"ROUND(I304*(1-$E$3)/Лист2!$A$6,0)","v":138318}]
[null,null,null,"Magnum Quadro Self IC 90","с боковинами","0…+5",1.08,"1353х1353х860",144508.65921263385,{"$f":"ROUND(I305*(1-$E$3)/Лист2!$A$6,0)","v":144509}]
[null,null,null,null,"без боковин",null,null,"1313х1313х860",131381.691990597,{"$f":"ROUND(I306*(1-$E$3)/Лист2!$A$6,0)","v":131382}]
[null,null,null,"Рыбные витрины, ВСПН/ВПСН Self"]
[null,null,null,"Magnum Quadro Fish 1250 Д","с боковинами","0…+5",1.075,"1330х1090х1225",148068.16923057794,{"$f":"ROUND(I308*(1-$E$3)/Лист2!$A$6,0)","v":148068}]
[null,null,null,null,"без боковин",null,null,"1250х1090х1225",134941.20200854109,{"$f":"ROUND(I309*(1-$E$3)/Лист2!$A$6,0)","v":134941}]
[null,null,null,"Magnum Quadro Fish 1875 Д","с боковинами","0…+5",1.62,"1330х1090х1225",181035.42884751686,{"$f":"ROUND(I310*(1-$E$3)/Лист2!$A$6,0)","v":181035}]
[null,null,null,null,"без боковин",null,null,"1875х1090х1225",167908.46162548001,{"$f":"ROUND(I311*(1-$E$3)/Лист2!$A$6,0)","v":167908}]
[null,null,null,"Magnum Quadro Fish Self 1250 Д","с боковинами","0…+5",1.075,"1330х1090х860",139611.33685213685,{"$f":"ROUND(I312*(1-$E$3)/Лист2!$A$6,0)","v":139611}]
[null,null,null,null,"без боковин",null,null,"1250х1090х860",126484.3696301,{"$f":"ROUND(I313*(1-$E$3)/Лист2!$A$6,0)","v":126484}]
[null,null,null,"Magnum Quadro Fish Self 1875 Д","с боковинами","0…+5",1.62,"1330х1090х860",170087.76201079687,{"$f":"ROUND(I314*(1-$E$3)/Лист2!$A$6,0)","v":170088}]
[null,null,null,null,"без боковин",null,null,"1875х1090х860",156960.79478876002,{"$f":"ROUND(I315*(1-$E$3)/Лист2!$A$6,0)","v":156961}]
[]
[]
[]
[]
[]
[]
[null,null,null,null,null,null,null,"НАВЕРХ"]

{"sheet":"Охлаждаемые стеллажи","index":2,"n_rows":84,"n_cols":19,"rows_kept":84,"cut":false,"hidden":false,"merged":[[0,9,0,10],[36,5,37,5],[38,2,39,2],[1,1,1,2],[2,1,2,2],[3,1,3,2],[8,0,9,0],[8,1,9,1],[8,2,9,3],[8,4,9,4],[33,0,49,1],[23,2,24,2],[23,4,24,4],[23,5,24,5],[25,2,26,2],[25,4,26,4],[25,5,26,5],[16,5,17,5],[55,4,56,4],[55,5,56,5],[57,2,58,2],[18,4,19,4],[57,5,58,5],[10,0,11,0],[50,0,51,0],[72,2,79,8],[68,8,69,8],[66,6,67,6],[64,6,65,6],[62,6,63,6],[18,2,19,2],[61,0,69,1],[18,5,19,5],[80,5,81,5],[72,0,81,1],[68,4,69,4],[68,5,69,5],[62,4,63,4],[62,5,63,5],[64,2,65,2],[64,4,65,4],[64,5,65,5],[66,2,67,2],[66,4,67,4],[66,5,67,5],[62,2,63,2],[68,2,69,2],[68,3,69,3],[66,3,67,3],[64,3,65,3],[59,1,60,6],[82,1,84,1],[80,2,81,2],[80,4,81,4],[61,2,61,4],[61,5,61,8],[68,6,69,6],[59,7,60,8],[36,4,37,4],[52,2,52,4],[52,0,58,1],[52,5,52,8],[59,0,60,0],[62,3,63,3],[68,7,69,7],[66,8,67,8],[66,7,67,7],[64,7,65,7],[50,7,51,8],[50,1,51,6],[62,8,63,8],[80,7,81,8],[57,4,58,4],[38,4,39,4],[83,6,84,6],[53,2,54,2],[53,4,54,4],[53,5,54,5],[55,2,56,2],[62,7,63,7],[11,14,11,17],[11,18,11,21],[10,10,10,21],[30,10,30,21],[31,10,31,13],[31,14,31,17],[31,18,31,21],[50,10,50,13],[29,2,29,8],[16,2,17,2],[49,2,49,8],[33,2,33,8],[45,2,46,2],[45,4,46,4],[45,5,46,5],[47,2,48,2],[47,4,48,4],[47,5,48,5],[27,2,28,2],[16,4,17,4],[43,2,44,2],[43,4,44,4],[43,5,44,5],[34,2,35,2],[34,4,35,4],[8,6,9,6],[8,7,9,7],[10,1,11,6],[38,5,39,5],[41,2,42,2],[41,4,42,4],[41,5,42,5],[8,5,9,5],[21,4,22,4],[21,5,22,5],[34,5,35,5],[36,2,37,2],[14,5,15,5],[21,2,22,2],[27,4,28,4],[27,5,28,5],[59,10,59,13],[70,10,70,13],[5,0,7,8],[0,6,4,8],[12,4,12,8],[12,0,12,3],[32,4,32,8],[32,0,32,3],[11,10,11,13],[70,1,71,6],[70,0,71,0],[70,7,71,8],[30,1,31,6],[30,0,31,0],[30,7,31,8],[13,0,29,1],[13,2,13,8],[10,7,11,8],[14,2,15,2],[14,4,15,4],[64,8,65,8],[20,2,20,8],[40,2,40,8],[8,8,9,8]]}
[null,null,null,null,null,null,"ЗАВОД «ОПК»\nТел.: +7 (495) 987-4388\ne-mail: info@cryspi.ru\nсайт: cryspi.ru",null,null,"На главную"]
[]
[null,"Ваша скидка:",null,{"$f":"Содержание!D2","v":0}]
[null,"НДС:",null,{"$f":"IF(Лист2!A1=TRUE,\"С НДС\",\"БЕЗ НДС\")","v":"С НДС"}]
[]
["Охлаждаемые стеллажи Cryspi со встроенным агрегатом"]
[]
[]
["№","Изображение","Наименование",null,"Температурный режим,°C","Площадь экспозиции, кв.м.","Габариты, \n(LxWxH) мм","Базовая \nцена, руб.\n(с НДС)",{"$f":"[5]Лист2!$A$5","v":"Ваша цена, руб."}]
[]
[1,"Solo L7",null,null,null,null,null,"Опции SOLO L7",null,null,"СЕЧЕНИЯ"]
[null,null,null,null,null,null,null,null,null,null,"Solo L7",null,null,null,"Solo L7 Фруктовая",null,null,null,"Solo L7 DG"]
["Стандартная комплектация стеллажа:      \n- внутренний объем - оцинкованный металл\n- внутренняя поверхность ванны из оцинкованного пластификата (двойная защита от коррозии)\n- стандартные электродвигатели\n- электронный контроллер CAREL",null,null,null,"- общее освещение - нейтральное (4000К)\n- цифровой термометр\n- 5 ярусов оцинкованных полок c кронштейнами и ценникодержателями глубиной 400 мм.\n- компрессор Embraco R-290, оттайка горячим газом для версий с остеклением                         - комплект панорамных боковин                                                                                                                                                - система выпаривания конденсата (выпариватель)\n- деревянная усиленная упаковка"]
[null,null,"Solo L7 Открытое исполнение  (ночные шторки)"]
[null,null,"Стеллаж холодильный ВПВ С (SOLO L7 1250) R290","с боковинами","+1…+7 С",2.8,"1330х700х2090",157993,{"$f":"ROUND(H15*(1-$D$3)/Лист2!$A$6,0)","v":157993}]
[null,null,null,"без боковин",null,null,"1250х700х2090",{"$f":"H15-'Опции для горок'!F57-'Опции для горок'!F58","v":136580.91999999998},{"$f":"ROUND(H16*(1-$D$3)/Лист2!$A$6,0)","v":136581}]
[null,null,"Стеллаж холодильный ВПВ С (SOLO L7 1500) R290","с боковинами","+1…+7 С",3.36,"1580х700х2090",182577,{"$f":"ROUND(H17*(1-$D$3)/Лист2!$A$6,0)","v":182577}]
[null,null,null,"без боковин",null,null,"1500х700х2090",{"$f":"H17-'Опции для горок'!F57-'Опции для горок'!F58","v":161164.91999999998},{"$f":"ROUND(H18*(1-$D$3)/Лист2!$A$6,0)","v":161165}]
[null,null,"Стеллаж холодильный ВПВ С (SOLO L7 1875) R290","с боковинами","+1…+7 С",4.2,"1955х700х2090",196523,{"$f":"ROUND(H19*(1-$D$3)/Лист2!$A$6,0)","v":196523}]
[null,null,null,"без боковин",null,null,"1875х700х2090",{"$f":"H19-'Опции для горок'!F57-'Опции для горок'!F58","v":175110.91999999998},{"$f":"ROUND(H20*(1-$D$3)/Лист2!$A$6,0)","v":175111}]
[null,null,"Solo L7 DG. Фронтальный блок остекления - стеклопакет (DG - Double Glass)"]
[null,null,"Стеллаж холодильный ВПВ С (SOLO L7 DG 1250) R290","с боковинами","-1…+5 С",2.8,"1330х700х2090",175139,{"$f":"ROUND(H22*(1-$D$3)/Лист2!$A$6,0)","v":175139}]
[null,null,null,"без боковин",null,null,"1250х700х2090",{"$f":"H22-'Опции для горок'!F57-'Опции для горок'!F58","v":153726.91999999998},{"$f":"ROUND(H23*(1-$D$3)/Лист2!$A$6,0)","v":153727}]
[null,null,"Стеллаж холодильный ВПВ С (SOLO L7 DG 1500) R290","с боковинами","-1…+5 С",3.36,"1580х700х2090",190512,{"$f":"ROUND(H24*(1-$D$3)/Лист2!$A$6,0)","v":190512}]
[null,null,null,"без боковин",null,null,"1500х700х2090",{"$f":"H24-'Опции для горок'!F57-'Опции для горок'!F58","v":169099.91999999998},{"$f":"ROUND(H25*(1-$D$3)/Лист2!$A$6,0)","v":169100}]
[null,null,"Стеллаж холодильный ВПВ С (SOLO L7 DG 1875) R290","с боковинами","-1…+5 С",4.2,"1955х700х2090",211500,{"$f":"ROUND(H26*(1-$D$3)/Лист2!$A$6,0)","v":211500}]
[null,null,null,"без боковин",null,null,"1875х700х2090",{"$f":"H26-'Опции для горок'!F57-'Опции для горок'!F58","v":190087.91999999998},{"$f":"ROUND(H27*(1-$D$3)/Лист2!$A$6,0)","v":190088}]
[null,null,"Стеллаж холодильный ВПВ С (SOLO L7 DG 2500) R290","с боковинами","-1…+5 С",5.6,"2580х700х2090",302107,{"$f":"ROUND(H28*(1-$D$3)/Лист2!$A$6,0)","v":302107}]
[null,null,null,"без боковин",null,null,"2500х700х2090",{"$f":"H28-'Опции для горок'!F57-'Опции для горок'!F58","v":280694.92000000004},{"$f":"ROUND(H29*(1-$D$3)/Лист2!$A$6,0)","v":280695}]
[null,null,"(Модуль 1250 мм. - 1 дверной блок (2 двери); 1875 мм. - 1 дверной блок (3 двери); 2500 мм. - 2 дверных блока по 2 двери)"]
[2,"Solo L9",null,null,null,null,null,"Опции SOLO L9"]
[null,null,null,null,null,null,null,null,null,null,"Solo L9",null,null,null,"Solo L9 Фруктовая",null,null,null,"Solo L9 DG"]
["Стандартная комплектация стеллажа:\n- внутренний объем - оцинкованный металл\n- внутренняя поверхность ванны из оцинкованного пластификата (двойная защита от коррозии)\n- стандартные вентиляторы\n- электронный контроллер CAREL\n",null,null,null,"- общее освещение - нейтральное (4000К)\n- цифровой термометр\n- 5 ярусов оцинкованных полок c кронштейнами и ценникодержателями глубиной 500 мм.\n- компрессор Embraco R-290, оттайка горячим газом для версий с остеклением                         - комплект панорамных боковин                                                                                                                                                - система выпаривания конденсата (выпариватель)\n- деревянная усиленная упаковка"]
[null,null,"Solo L9 Открытое исполнение (ночные шторки)"]
[null,null,"Стеллаж холодильный ВПВ С (SOLO L9 1250) R290","с боковинами","+1…+7 С",3.76,"1330х910х2090",169480,{"$f":"ROUND(H35*(1-$D$3)/Лист2!$A$6,0)","v":169480}]
[null,null,null,"без боковин",null,null,"1250х910х2090",{"$f":"H35-'Опции для горок'!F55-'Опции для горок'!F56","v":146140.83279999997},{"$f":"ROUND(H36*(1-$D$3)/Лист2!$A$6,0)","v":146141}]
[null,null,"Стеллаж холодильный ВПВ С (SOLO L9 1500) R290","с боковинами","+1…+7 С",4.51,"1580х910х2090",190145,{"$f":"ROUND(H37*(1-$D$3)/Лист2!$A$6,0)","v":190145}]
[null,null,null,"без боковин",null,null,"1500х910х2090",{"$f":"H37-'Опции для горок'!F55-'Опции для горок'!F56","v":166805.83279999997},{"$f":"ROUND(H38*(1-$D$3)/Лист2!$A$6,0)","v":166806}]
[null,null,"Стеллаж холодильный ВПВ С (SOLO L9 1875) R290","с боковинами","+1…+7 С",5.63,"1955х910х2090",210708,{"$f":"ROUND(H39*(1-$D$3)/Лист2!$A$6,0)","v":210708}]
[null,null,null,"без боковин",null,null,"1875х910х2090",{"$f":"H39-'Опции для горок'!F55-'Опции для горок'!F56","v":187368.83279999997},{"$f":"ROUND(H40*(1-$D$3)/Лист2!$A$6,0)","v":187369}]
[null,null,"Solo L9 DG. Фронтальный блок остекления - стеклопакет (DG - Double Glass)"]
[null,null,"Стеллаж холодильный ВПВ С (SOLO L9 DG 1250) R290","с боковинами","-1…+5 С",3.76,"1330х910х2090",189364,{"$f":"ROUND(H42*(1-$D$3)/Лист2!$A$6,0)","v":189364}]
[null,null,null,"без боковин",null,null,"1250х910х2090",{"$f":"H42-'Опции для горок'!F55-'Опции для горок'!F56","v":166024.83279999997},{"$f":"ROUND(H43*(1-$D$3)/Лист2!$A$6,0)","v":166025}]
[null,null,"Стеллаж холодильный ВПВ С (SOLO L9 DG 1500) R290","с боковинами","-1…+5 С",4.51,"1580х910х2090",205967,{"$f":"ROUND(H44*(1-$D$3)/Лист2!$A$6,0)","v":205967}]
[null,null,null,"без боковин",null,null,"1500х910х2090",{"$f":"H44-'Опции для горок'!F55-'Опции для горок'!F56","v":182627.83279999997},{"$f":"ROUND(H45*(1-$D$3)/Лист2!$A$6,0)","v":182628}]
[null,null,"Стеллаж холодильный ВПВ С (SOLO L9 DG 1875) R290","с боковинами","-1…+5 С",5.63,"1955х910х2090",228731,{"$f":"ROUND(H46*(1-$D$3)/Лист2!$A$6,0)","v":228731}]
[null,null,null,"без боковин",null,null,"1875х910х2090",{"$f":"H46-'Опции для горок'!F55-'Опции для горок'!F56","v":205391.83279999997},{"$f":"ROUND(H47*(1-$D$3)/Лист2!$A$6,0)","v":205392}]
[null,null,"Стеллаж холодильный ВПВ С (SOLO L9 DG 2500) R290","с боковинами","-1…+5 С",7.51,"2580х910х2090",334911,{"$f":"ROUND(H48*(1-$D$3)/Лист2!$A$6,0)","v":334911}]
[null,null,null,"без боковин",null,null,"2500х910х2090",{"$f":"H48-'Опции для горок'!F55-'Опции для горок'!F56","v":311571.83279999997},{"$f":"ROUND(H49*(1-$D$3)/Лист2!$A$6,0)","v":311572}]
[null,null,"(Модуль 1250 мм. - 1 дверной блок (2 двери); 1875 мм. - 1 дверной блок (3 двери); 2500 мм. - 2 дверных блока по 2 двери)"]
[3,"Solo L9 Light",null,null,null,null,null,"Опции Solo L9 Light",null,null,"Solo L9 Light"]
[]
[null,null,"Стандартная комплектация стеллажа:\n- внутренний объем -  черный крашенный металл\n- внутренняя поверхность ванны из оцинкованного пластификата (двойная защита от коррозии)\n- стандартные вентиляторы\n- электронный контроллер CAREL\n- общее освещение - нейтральное (4000К)",null,null,"- общее освещение - нейтральное (4000К)\n- цифровой термометр\n- 4 ярусов  полок c кронштейнами и ценникодержателями глубиной 500 мм.\n- компрессор Embraco R-290                                                                                                    - комплект  боковин глухих                                                                                                          - емкость для сбора талой воды (выпариватель доступен опционально);        \n- деревянная усиленная упаковка"]
[null,null,"Стеллаж холодильный ВПВ С (SOLO L9 LIGHT 1250) R290 ","с боковинами","+1…+7 С",3.12,"1330х910х2090",129195.75440000001,{"$f":"ROUND(H54*(1-$D$3)/Лист2!$A$6,0)","v":129196}]
[null,null,null,"без боковин",null,null,"1250х910х2090",{"$f":"H54-'Опции для горок'!F150-'Опции для горок'!F151","v":113693},{"$f":"ROUND(H55*(1-$D$3)/Лист2!$A$6,0)","v":113693}]
[null,null,"Стеллаж холодильный ВПВ С (SOLO L9 LIGHT 1500) R290 ","с боковинами","+1…+7 С",3.74,"1580х910х2090",144439.75439999998,{"$f":"ROUND(H56*(1-$D$3)/Лист2!$A$6,0)","v":144440}]
[null,null,null,"без боковин",null,null,"1500х910х2090",{"$f":"H56-'Опции для горок'!F150-'Опции для горок'!F151","v":128936.99999999999},{"$f":"ROUND(H57*(1-$D$3)/Лист2!$A$6,0)","v":128937}]
[null,null,"Стеллаж холодильный ВПВ С (SOLO L9 LIGHT 1875) R290 ","с боковинами","+1…+7 С",4.67,"1955х910х2090",159923.75439999998,{"$f":"ROUND(H58*(1-$D$3)/Лист2!$A$6,0)","v":159924}]
[null,null,null,"без боковин",null,null,"1875х910х2090",{"$f":"H58-'Опции для горок'!F150-'Опции для горок'!F151","v":144421},{"$f":"ROUND(H59*(1-$D$3)/Лист2!$A$6,0)","v":144421}]
[4,"Solo SML",null,null,null,null,null,"Опции Solo SML",null,null,"Solo SML"]
[]
[null,null,"Стандартная комплектация стеллажа:\n- Внутренняя поверхность ванны из оцинкованного пластификата (двойная защита от коррозии)\n- стандартные вентиляторы\n- контроллер Carel\n- общее освещение - нейтральное (4500К)\n- 3 яруса оцинкованных полок c кронштейнами и ценникодержателями (300, 400, 500 мм)",null,null,"- с автоматической системой выпаривания конденсата\n- Комплект ночных шторок\n- Компрессор Embraco, хладагент R-290, оттайка горячим газом\n- Электронный контроллер CAREL\n- Цифровой термометр\n- Без противоударного бампера\n- Деревянная упаковка"]
[null,null,"Стеллаж холодильный ВПВ С (SOLO SML 1250 Д) R290","с боковинами","+1...+10 С",2.4300000000000002,"1300х854х1600",163208,{"$f":"ROUND(H63*(1-$D$3)/Лист2!$A$6,0)","v":163208}]
[]
[null,null,"Стеллаж холодильный ВПВ С (SOLO SML 1250 Д) R290 ББ","без боковин","+1...+10 С",2.4300000000000002,"1250х854х1600",{"$f":"H63-'Опции для горок'!F224-'Опции для горок'!F225","v":138428.71999999997},{"$f":"ROUND(H65*(1-$D$3)/Лист2!$A$6,0)","v":138429}]
[]
[null,null,"Стеллаж холодильный ВПВ С (SOLO SML 1875 Д) R290","с боковинами","+1...+10 С",3.64,"1925х854х1600",212170,{"$f":"ROUND(H67*(1-$D$3)/Лист2!$A$6,0)","v":212170}]
[]
[null,null,"Стеллаж холодильный ВПВ С (SOLO SML 1875 Д) R290 ББ","без боковин","+1...+10 С",3.64,"1875х854х1600",{"$f":"H67-'Опции для горок'!F224-'Опции для горок'!F225","v":187390.71999999997},{"$f":"ROUND(H69*(1-$D$3)/Лист2!$A$6,0)","v":187391}]
[]
[5,"UNIT L9",null,null,null,null,null,"Опции UNIT",null,null,"UNIT L9"]
[]
[null,null,"Стандартная комплектация:\n- LED подсветка в стойках и верхняя (4000К)\n- Кассетный компресссорный блок EMBRACO R-290\n- Дверной блок со стеклопакетом\n- Оцинкованные элементы внутреннего объёма\n- 5 ярусов оцинкованных полок с кронштейнами и ценникодержателями\n\n"]
[]
[]
[]
[]
[]
[]
[]
[null,null,"Стеллаж холодильный ВПВ C (Cryspi Unit L91250 Д)","с боковинами","0...+2, +2...+4, +4...+6",3.76,"1330x880x2310","По запросу"]
[null,null,null,"без боковин",null,null,"1250x880x2310"]
[]
[null,null,null,null,null,null,"НАВЕРХ"]

{"sheet":"Кондитерские витрины","index":3,"n_rows":53,"n_cols":21,"rows_kept":53,"cut":false,"hidden":false,"merged":[[41,1,42,8],[12,0,12,3],[1,1,1,2],[2,1,2,2],[3,1,3,2],[8,6,9,6],[8,7,9,7],[8,8,9,8],[10,0,11,0],[10,1,11,6],[10,7,11,8],[8,0,9,0],[8,1,9,1],[8,2,9,3],[20,2,20,3],[21,2,21,3],[14,2,14,3],[15,2,15,3],[16,2,16,3],[17,2,17,3],[19,2,19,3],[41,0,42,0],[40,2,40,3],[31,2,31,3],[32,2,32,3],[23,2,23,8],[28,2,28,8],[33,2,33,8],[36,2,36,8],[37,2,37,3],[38,2,38,3],[39,2,39,3],[34,2,34,3],[35,2,35,3],[29,2,29,3],[30,2,30,3],[24,2,24,3],[43,2,43,4],[43,5,43,8],[44,2,44,8],[43,0,50,1],[51,1,53,1],[52,6,53,6],[5,0,7,8],[0,6,4,8],[18,2,18,8],[11,20,11,24],[11,15,11,19],[11,10,11,14],[10,10,10,24],[8,4,9,4],[8,5,9,5],[13,2,13,8],[12,4,12,8],[13,0,40,1],[25,2,25,3],[26,2,26,3],[27,2,27,3],[22,2,22,3]]}
[null,null,null,null,null,null,"ЗАВОД «ОПК»\nТел.: +7 (495) 987-4388\ne-mail: info@cryspi.ru\nсайт: cryspi.ru",null,null,"На главную"]
[]
[null,"Ваша скидка:",null,{"$f":"Содержание!D2","v":0}]
[null,"НДС:",null,{"$f":"IF(Лист2!A1=TRUE,\"С НДС\",\"БЕЗ НДС\")","v":"С НДС"}]
[]
["Кондитерские витрины Cryspi со встроенным агрегатом"]
[]
[]
["№","Изображение","Наименование",null,"Температурный режим,°C","Площадь экспозиции, кв.м.","Габариты, \n(LxWxH) мм","Базовая \nцена, руб.\n(с НДС)",{"$f":"[5]Лист2!$A$5","v":"Ваша цена, руб."}]
[]
[1,"ADAGIO",null,null,null,null,null,"Опции Adagio",null,null,"СЕЧЕНИЯ"]
[null,null,null,null,null,null,null,null,null,null,"ADAGIO",null,null,null,null,"ADAGIO CUBE",null,null,null,null,"ELEGIA"]
["Стандартная комплектация:               \n- 3 уровня навесных полок, 230, 320, 380 мм (Adagio/Adagio LX),  380 мм (Adagio Cube/Adagio LX Cube); \n- подсветка всех полок (нейтральный или теплый спектр) \n- фронтальная металическая панель\n- Возможно применение фронтальной панели из ЛДСП с наценкой в 4%.\n- Компрессор Embraco, хладагент R-290\n- Электронный контроллер Carel\n- Цифровой термометр на фронтальной части столешницы",null,null,null,"- Оттайка испарителя естественным способом; Автоматическое выпаривание конденсата\n- Задняя дверца - оргстекло (Adagio),  закаленный стеклопакет (Adagio LX);\n- Вентилируемое (динамическое) охлаждение\n- Внутренний объем - сталь оцинкованная\n- зона выкладки - сталь оцинкованна с покраской\n- шелкография стекол черного цвета (Ral 9005)\n- Деревянная упаковка"]
[null,null,"Витрины охлаждаемые, кондитерские, закаленное стекло"]
[null,null,"Витрина холодильная ВПВ (ADAGIO 900 Д)",null,"+6..+12°С",1.27,"900х620х1330",79147.508000000002,{"$f":"ROUND(H15*(1-$D$3)/Лист2!$A$6,0)","v":79148}]
[null,null,"Витрина холодильная ВПВ (ADAGIO 1300 Д)",null,"+6..+12°С",1.58,"1300Х620Х1330",85325.768000000011,{"$f":"ROUND(H16*(1-$D$3)/Лист2!$A$6,0)","v":85326}]
[null,null,"Витрина холодильная ВПВ (ADAGIO Cube 900 Д)",null,"+6..+12°С",1.46,"900х620х1330",79147.508000000002,{"$f":"ROUND(H17*(1-$D$3)/Лист2!$A$6,0)","v":79148}]
[null,null,"Витрина холодильная ВПВ (ADAGIO Cube 1300 Д)",null,"+6..+12°С",1.83,"1300Х620Х1330",85325.768000000011,{"$f":"ROUND(H18*(1-$D$3)/Лист2!$A$6,0)","v":85326}]
[null,null,"Витрины охлаждаемые, кондитерские, закаленный стеклопакет"]
[null,null,"Витрина холодильная ВПС (ADAGIO LX 900 Д)",null,"0..+7°С",1.27,"900х620х1330",104076.10400000001,{"$f":"ROUND(H20*(1-$D$3)/Лист2!$A$6,0)","v":104076}]
[null,null,"Витрина холодильная ВПС (ADAGIO LX 1300 Д)",null,"0..+7°С",1.58,"1300Х620Х1330",123228.20400000001,{"$f":"ROUND(H21*(1-$D$3)/Лист2!$A$6,0)","v":123228}]
[null,null,"Витрина холодильная ВПС (ADAGIO LX Cube 900 Д)",null,"0..+7°С",1.46,"900х620х1330",104076.10400000001,{"$f":"ROUND(H22*(1-$D$3)/Лист2!$A$6,0)","v":104076}]
[null,null,"Витрина холодильная ВПС (ADAGIO LX Cube 1300 Д)",null,"0..+7°С",1.83,"1300Х620Х1330",123228.20400000001,{"$f":"ROUND(H23*(1-$D$3)/Лист2!$A$6,0)","v":123228}]
[null,null,"Витрины для самообслуживания охлаждаемые, кондитерские "]
[null,null,"Витрина холодильная ВПВ (ADAGIO Self  900 Д)",null,"+1..+10°С",1.27,"900х620х1330",116489.296,{"$f":"ROUND(H25*(1-$D$3)/Лист2!$A$6,0)","v":116489}]
[null,null,"Витрина холодильная ВПВ (ADAGIO Self 1300 Д)",null,"+1..+10°С",1.58,"1300Х620Х1330",137677.54,{"$f":"ROUND(H26*(1-$D$3)/Лист2!$A$6,0)","v":137678}]
[null,null,"Витрина холодильная ВПВ (ADAGIO Self Cube 900 Д)",null,"+1..+10°С",1.46,"900х620х1330",118107.484,{"$f":"ROUND(H27*(1-$D$3)/Лист2!$A$6,0)","v":118107}]
[null,null,"Витрина холодильная ВПВ (ADAGIO Self Cube 1300 Д)",null,"+1..+10°С",1.83,"1300Х620Х1330",139561.88400000002,{"$f":"ROUND(H28*(1-$D$3)/Лист2!$A$6,0)","v":139562}]
[null,null,"Витрины нейтральные, кондитерские без охлаждения для самообслуживания"]
[null,null,"Витрина нейтральная ВП (ADAGIO N Self 900)",null,"-",1.27,"900х620х1330",61348.452000000005,{"$f":"ROUND(H30*(1-$D$3)/Лист2!$A$6,0)","v":61348}]
[null,null,"Витрина нейтральная ВП (ADAGIO N Self 1300)",null,"-",1.58,"1300Х620Х1330",68197.668000000005,{"$f":"ROUND(H31*(1-$D$3)/Лист2!$A$6,0)","v":68198}]
[null,null,"Витрина холодильная ВПВ (ADAGIO N Self Cube 900 Д)",null,"-",1.46,"900х620х1330",63041.528000000006,{"$f":"ROUND(H32*(1-$D$3)/Лист2!$A$6,0)","v":63042}]
[null,null,"Витрина холодильная ВПВ (ADAGIO N Self Cube 1300 Д)",null,"-",1.83,"1300Х620Х1330",66401.368000000002,{"$f":"ROUND(H33*(1-$D$3)/Лист2!$A$6,0)","v":66401}]
[null,null,"Витрины нейтральные, кондитерские без охлаждения для самообслуживания. Хлебная модификация"]
[null,null,"Витрина холодильная ВПВ (ADAGIO N Self Cube 900 Д)",null,"-",1.46,"900х620х1330",59985.288,{"$f":"ROUND(H35*(1-$D$3)/Лист2!$A$6,0)","v":59985}]
[null,null,"Витрина холодильная ВПВ (ADAGIO N Self Cube 1300 Д)",null,"-",1.83,"1300Х620Х1330",64583.815999999999,{"$f":"ROUND(H36*(1-$D$3)/Лист2!$A$6,0)","v":64584}]
[null,null,"Кассовый нейтральный прилавок (КНП) "]
[null,null,"Прилавок КНП ADAGIO 600 (фронтальные панели металл)",null,"-","-","600х650х906",19924.255999999998,{"$f":"ROUND(H38*(1-$D$3)/Лист2!$A$6,0)","v":19924}]
[null,null,"Прилавок КНП ADAGIO 900 (фронтальные панели металл)",null,"-","-","900Х650Х906",24227.279999999999,{"$f":"ROUND(H39*(1-$D$3)/Лист2!$A$6,0)","v":24227}]
[null,null,"Прилавок КНП ADAGIO 600 (фронтальные панели ЛДСП)",null,"-","-","600х650х906",21899.9836,{"$f":"ROUND(H40*(1-$D$3)/Лист2!$A$6,0)","v":21900}]
[null,null,"Прилавок КНП ADAGIO 900 (фронтальные панели ЛДСП)",null,"-","-","900Х650Х906",25356.671999999999,{"$f":"ROUND(H41*(1-$D$3)/Лист2!$A$6,0)","v":25357}]
[2,"ELEGIA QUADRO"]
[]
[null,null,"Стандартная комплектация:\n- Компрессор Embraco, хладагент R-290\n- стеклопакеты по периметру;\n",null,null,"- фронтальное стекло (кроме версии SELF);\n- выпариватель;\n- LED подсветка в стойках и полках\n- ТЭНы оттайки испарителей\n- Деревянная упаковка"]
[]
[null,null,"Elegia Quadro К 850",null,"+1...+10",1.23,"850х764х1312",130489.12000000001,{"$f":"ROUND(H46*(1-$D$3)/Лист2!$A$6,0)","v":130489}]
[null,null,"Elegia Quadro К 1000",null,"+1...+10",1.46,"1 000×764×1 312",143897.20000000001,{"$f":"ROUND(H47*(1-$D$3)/Лист2!$A$6,0)","v":143897}]
[null,null,"Elegia Quadro K 1250",null,"+1...+10",1.85,"1 250×764×1 312",157415.67999999999,{"$f":"ROUND(H48*(1-$D$3)/Лист2!$A$6,0)","v":157416}]
[null,null,"Elegia Quadro SELF 1000 (для самообслуживания)",null,"+1...+10",1.39,"1 000×764×1 312",143897.20000000001,{"$f":"ROUND(H49*(1-$D$3)/Лист2!$A$6,0)","v":143897}]
[null,null,"Elegia Quadro SELF 1250 (для самообслуживания)",null,"+1...+10",1.72,"1 254×764×1 312",144555,{"$f":"ROUND(H50*(1-$D$3)/Лист2!$A$6,0)","v":144555}]
[null,null,"Прилавок КНП Elegia Quadro 600",null,"-","-","600х764х870",23230.920000000002,{"$f":"ROUND(H51*(1-$D$3)/Лист2!$A$6,0)","v":23231}]
[]
[null,null,null,null,null,null,"НАВЕРХ"]

{"sheet":"Gamma в линию","index":4,"n_rows":34,"n_cols":51,"rows_kept":34,"cut":false,"hidden":true,"merged":[[1,0,1,49],[2,0,2,49],[6,2,9,2],[6,4,9,13],[6,15,9,24],[6,26,9,35],[6,37,9,37],[17,2,17,44],[17,45,17,49],[12,2,12,44],[12,45,12,49],[13,2,13,25],[13,26,13,44],[13,45,13,49],[14,2,14,25],[14,26,14,44],[14,45,14,49],[15,2,15,25],[15,26,15,44],[15,45,15,49],[16,2,16,44],[16,45,16,49],[22,41,25,41],[28,2,28,44],[28,45,28,49],[29,2,29,25],[29,26,29,44],[29,45,29,49],[22,2,25,2],[22,4,25,13],[22,15,25,15],[22,17,25,26],[22,28,25,28],[22,30,25,39],[32,2,32,44],[32,45,32,49],[33,2,33,44],[33,45,33,49],[30,2,30,25],[30,26,30,44],[30,45,30,49],[31,2,31,25],[31,26,31,44],[31,45,31,49]]}
["Примечания:",null,null,null,null,null,null,null,null,null,null,null,null,null,null,null,null,null,null,null,null,null,null,null,null,null,null,null,null,null,null,null,null,null,null,null,null,null,null,null,null,null,null,null,null,null,null,null,null,null,"В содержание"]
["1. Витрины с различными температурными режимами желательно разделять боковинами"]
["2. В комплект герметичного разделителя входит комплект соединительный"]
[]
["1. Линия витрин GAMMA-2"]
[]
[null,null,"боковина",null,"GAMMA-2 ББ",null,null,null,null,null,null,null,null,null,null,"GAMMA-2 ББ",null,null,null,null,null,null,null,null,null,null,"GAMMA-2 ББ",null,null,null,null,null,null,null,null,null,null,"боковина"]
[]
[]
[]
[]
[null,null,"Вариант спецификации"]
[null,null,"Наименование",null,null,null,null,null,null,null,null,null,null,null,null,null,null,null,null,null,null,null,null,null,null,null,null,null,null,null,null,null,null,null,null,null,null,null,null,null,null,null,null,null,null,"Кол-во"]
[null,null,"Gamma-2 1200",null,null,null,null,null,null,null,null,null,null,null,null,null,null,null,null,null,null,null,null,null,null,null,"без боковин",null,null,null,null,null,null,null,null,null,null,null,null,null,null,null,null,null,null,1]
[null,null,"Gamma-2 1500",null,null,null,null,null,null,null,null,null,null,null,null,null,null,null,null,null,null,null,null,null,null,null,"без боковин",null,null,null,null,null,null,null,null,null,null,null,null,null,null,null,null,null,null,1]
[null,null,"Gamma-2 1800",null,null,null,null,null,null,null,null,null,null,null,null,null,null,null,null,null,null,null,null,null,null,null,"без боковин",null,null,null,null,null,null,null,null,null,null,null,null,null,null,null,null,null,null,1]
[null,null,"Комплект соединительный 337.50.00.00 для ВПС/ВПСН/ВПН Gamma-2",null,null,null,null,null,null,null,null,null,null,null,null,null,null,null,null,null,null,null,null,null,null,null,null,null,null,null,null,null,null,null,null,null,null,null,null,null,null,null,null,null,null,2]
[null,null,"Комплект боковин 337.40.00.00 для ВПС/ВПСН Gamma 2",null,null,null,null,null,null,null,null,null,null,null,null,null,null,null,null,null,null,null,null,null,null,null,null,null,null,null,null,null,null,null,null,null,null,null,null,null,null,null,null,null,null,1]
[]
[]
["2. Линия витрин GAMMA-2 через герметичный разделитель"]
[]
[null,null,"боковина",null,"GAMMA-2 ББ",null,null,null,null,null,null,null,null,null,null,"герм.разд.",null,"GAMMA-2 ББ",null,null,null,null,null,null,null,null,null,null,"герм.разд.",null,"GAMMA-2 ББ",null,null,null,null,null,null,null,null,null,null,"боковина"]
[]
[]
[]
[]
[null,null,"Вариант спецификации"]
[null,null,"Наименование",null,null,null,null,null,null,null,null,null,null,null,null,null,null,null,null,null,null,null,null,null,null,null,null,null,null,null,null,null,null,null,null,null,null,null,null,null,null,null,null,null,null,"Кол-во"]
[null,null,"Gamma-2 1200",null,null,null,null,null,null,null,null,null,null,null,null,null,null,null,null,null,null,null,null,null,null,null,"без боковин",null,null,null,null,null,null,null,null,null,null,null,null,null,null,null,null,null,null,1]
[null,null,"Gamma-2 1500",null,null,null,null,null,null,null,null,null,null,null,null,null,null,null,null,null,null,null,null,null,null,null,"без боковин",null,null,null,null,null,null,null,null,null,null,null,null,null,null,null,null,null,null,1]
[null,null,"Gamma-2 1800",null,null,null,null,null,null,null,null,null,null,null,null,null,null,null,null,null,null,null,null,null,null,null,"без боковин",null,null,null,null,null,null,null,null,null,null,null,null,null,null,null,null,null,null,1]
[null,null,"Комплект герметичного разделителя 337.83.00.00 для ВПС/ВПСН/ВПН Gamma-2",null,null,null,null,null,null,null,null,null,null,null,null,null,null,null,null,null,null,null,null,null,null,null,null,null,null,null,null,null,null,null,null,null,null,null,null,null,null,null,null,null,null,2]
[null,null,"Комплект боковин 337.40.00.00 для ВПС/ВПСН Gamma 2",null,null,null,null,null,null,null,null,null,null,null,null,null,null,null,null,null,null,null,null,null,null,null,null,null,null,null,null,null,null,null,null,null,null,null,null,null,null,null,null,null,null,1]

{"sheet":"Низкотемпературные шкафы","index":5,"n_rows":40,"n_cols":21,"rows_kept":40,"cut":false,"hidden":false,"merged":[[0,6,4,8],[1,1,1,2],[2,1,2,2],[3,1,3,2],[8,0,9,0],[8,1,9,1],[8,2,9,3],[19,0,20,0],[21,0,26,1],[14,6,17,6],[14,5,17,5],[12,2,12,4],[12,5,12,8],[13,2,13,8],[23,2,26,3],[14,4,17,4],[18,2,18,8],[30,2,31,3],[21,2,21,4],[21,5,21,8],[22,2,22,8],[36,5,37,5],[23,8,26,8],[23,7,26,7],[23,6,26,6],[23,5,26,5],[23,4,26,4],[32,8,33,8],[30,8,31,8],[30,7,31,7],[27,0,28,0],[27,1,28,8],[36,2,37,3],[34,2,35,3],[34,4,35,4],[34,5,35,5],[32,2,33,3],[36,6,37,6],[34,6,35,6],[32,6,33,6],[30,6,31,6],[36,8,37,8],[36,7,37,7],[34,8,35,8],[34,7,35,7],[32,7,33,7],[38,1,40,1],[39,6,40,6],[10,1,11,8],[19,1,20,8],[12,0,18,1],[14,2,17,3],[14,8,17,8],[14,7,17,7],[29,0,37,1],[29,2,29,4],[29,5,29,8],[30,4,31,4],[30,5,31,5],[32,4,33,4],[32,5,33,5],[36,4,37,4],[10,10,10,24],[11,20,11,24],[11,14,11,19],[11,10,11,13],[5,0,7,8],[8,6,9,6],[8,7,9,7],[8,8,9,8],[10,0,11,0],[8,4,9,4],[8,5,9,5]]}
[null,null,null,null,null,null,"ЗАВОД «ОПК»\nТел.: +7 (495) 987-4388\ne-mail: info@cryspi.ru\nсайт: cryspi.ru",null,null,"На главную"]
[]
[null,"Ваша скидка:",null,{"$f":"Содержание!D2","v":0}]
[null,"НДС:",null,{"$f":"IF(Лист2!A1=TRUE,\"С НДС\",\"БЕЗ НДС\")","v":"С НДС"}]
[]
["Низкотемпературные шкафы Cryspi со встроенным агрегатом"]
[]
[]
["№","Изображение","Наименование",null,"Температурный режим,°C","Площадь экспозиции, кв.м.","Габариты, \n(LxWxH) мм","Базовая \nцена, руб.\n(с НДС)",{"$f":"[5]Лист2!$A$5","v":"Ваша цена, руб."}]
[]
[1,"Шкаф-надстройка Verona",null,null,null,null,null,null,null,null,"СЕЧЕНИЯ"]
[null,null,null,null,null,null,null,null,null,null,"VERONA",null,null,null,"CORSA",null,null,null,null,null,"ANZIO"]
[null,null,"Стандартная комплектация:     \n- подставка с комплектом крепежа\n- светодиодная подсветка внутреннего объема (4500К, 6500К) без изменения цены\n- автоматическая оттайка горячим газом\n- автоматическое выпаривание конденсата\n- 4 уровня решетчатых полок\n",null,null,"Тип охлаждения - динамический\n- Климатический класс - 3\n- Температура окружающей среды, С°  - max +25\n- Относительная влажность воздуха, % - max 60\n- Хладагент - R290\n- Напряжение, В - 220"]
[]
[null,null,"Шкаф низкотемпературный ШН Verona 1220",null,"-23…-18",1.0760000000000001,"1217х750х2210",156293.28,{"$f":"ROUND(H15*(1-$D$3)/Лист2!$A$6,0)","v":156293}]
[]
[]
[]
[null,null,"Надстройка для ларя 400 л."]
[2,"CORSA"]
[]
[null,null,"Стандартная комплектация:     \n- подставка с комплектом крепежа\n- светодиодная подсветка внутреннего объема\n- автоматическая оттайка горячим газом\n- автоматическое выпаривание конденсата\n- 2 уровня решетчатых полок\n",null,null,"- Тип охлаждения - динамический \n- Климатический класс - 3 \n- Температура окружающей среды, С°  max - +25 \n- Относительная влажность воздуха,%  max - 60 \n- Хладагент - R404a \n- Напряжение, В - 220"]
[]
[null,null,"Шкаф низкотемпературный ШН 0,73-2,8 CORSA LT 2500",null,"-23…-18",2.71,"2500х1020х2480",468122.68,{"$f":"ROUND(H24*(1-$D$3)/Лист2!$A$6,0)","v":468123}]
[]
[]
[]
[3,"ANZIO"]
[]
[null,null,"\nОпции:\nСистема выпаривания конденсата + 1,5% к цене шкафа\n\nСтандартная комплектация:     \n- светодиодная подсветка внутреннего объема (4000/6000К) верхняя и вертикальная \n- автоматическая оттайка горячим газом\n- сифон для подключения к канализации\n- 4 уровня решетчатых полок\n- базовые полки-решетки",null,null,"- Тип охлаждения - динамический \n- Климатический класс - 3 \n- Температура окружающей среды, С°  max - +25 \n- Относительная влажность воздуха,%  max - 60 \n- Хладагент - R 290 \n- Напряжение, В - 220 "]
[null,null,"Шкаф низкотемпературный ШН-1.20-4.0 ANZIO LT 2D 1562R290",null,"-22…-18",4,"1684х885х2210",296679.75,{"$f":"ROUND(H31*(1-$D$3)/Лист2!$A$6,0)","v":296680}]
[]
[null,null,"Шкаф низкотемпературный ШН 1.80-6.0 ANZIO LT 3D 2343R290",null,"-22…-18",6.02,"2465х885х2210",479150.1,{"$f":"ROUND(H33*(1-$D$3)/Лист2!$A$6,0)","v":479150}]
[]
[null,null,"Полка сетчатая навесная с кронштейнами 780x513 мм для Anzio/Milan с ограничителем (775.58.00.00)",null,"-","-","-",1880,{"$f":"ROUND(H35*(1-$D$3)/Лист2!$A$6,0)","v":1880}]
[]
[null,null,"Ценникодержатель съемный, L=1000 мм, прозрачный, откидной (на полки, рёшётку) (845.00.00.11)",null,"-","-","-",144,{"$f":"ROUND(H37*(1-$D$3)/Лист2!$A$6,0)","v":144}]
[]
[]
[null,null,null,null,null,null,"НАВЕРХ"]

{"sheet":"Лари ItalFrost","index":6,"n_rows":98,"n_cols":22,"rows_kept":98,"cut":false,"hidden":false,"merged":[[47,6,48,6],[84,2,84,3],[6,9,7,13],[97,7,98,7],[42,1,42,8],[43,0,52,1],[43,2,44,2],[43,4,44,4],[43,5,44,5],[43,6,44,6],[49,2,50,2],[49,4,50,4],[49,5,50,5],[49,6,50,6],[51,2,52,2],[51,4,52,4],[51,5,52,5],[51,6,52,6],[45,2,46,2],[45,4,46,4],[45,5,46,5],[45,6,46,6],[47,2,48,2],[47,4,48,4],[47,5,48,5],[6,7,7,7],[8,1,8,8],[6,0,7,0],[6,1,7,1],[6,2,7,3],[6,4,7,4],[6,5,7,5],[6,6,7,6],[36,2,37,2],[36,4,37,4],[36,5,37,5],[36,6,37,6],[19,1,19,8],[17,4,18,4],[15,4,16,4],[13,4,14,4],[11,4,12,4],[9,4,10,4],[17,2,18,2],[15,2,16,2],[13,2,14,2],[11,2,12,2],[15,6,16,6],[13,6,14,6],[1,0,1,1],[2,0,2,1],[3,0,3,1],[6,8,7,8],[71,2,72,2],[71,4,72,4],[71,5,72,5],[71,6,72,6],[73,2,74,2],[73,4,74,4],[73,5,74,5],[73,6,74,6],[67,2,68,2],[67,4,68,4],[67,5,68,5],[67,6,68,6],[69,2,70,2],[69,4,70,4],[69,5,70,5],[69,6,70,6],[64,1,64,8],[65,0,74,1],[65,2,66,2],[65,4,66,4],[20,6,21,6],[20,5,21,5],[20,4,21,4],[28,2,29,2],[4,0,5,8],[88,1,92,1],[65,5,66,5],[65,6,66,6],[76,1,76,8],[77,0,79,1],[80,1,80,8],[58,2,59,2],[58,4,59,4],[58,5,59,5],[58,6,59,6],[60,2,61,2],[60,4,61,4],[60,5,61,5],[60,6,61,6],[53,1,53,8],[54,0,63,1],[54,2,55,2],[54,4,55,4],[54,5,55,5],[20,2,21,2],[20,0,29,1],[9,2,10,2],[17,6,18,6],[11,6,12,6],[9,6,10,6],[17,5,18,5],[15,5,16,5],[13,5,14,5],[11,5,12,5],[9,5,10,5],[9,0,18,1],[28,6,29,6],[28,5,29,5],[28,4,29,4],[26,4,27,4],[26,5,27,5],[26,6,27,6],[24,6,25,6],[24,5,25,5],[24,4,25,4],[22,6,23,6],[22,5,23,5],[22,4,23,4],[24,2,25,2],[22,2,23,2],[54,6,55,6],[56,2,57,2],[56,4,57,4],[56,5,57,5],[56,6,57,6],[62,2,63,2],[62,4,63,4],[62,5,63,5],[62,6,63,6],[38,4,39,4],[38,5,39,5],[38,6,39,6],[31,1,31,8],[32,0,41,1],[32,2,33,2],[32,4,33,4],[32,5,33,5],[32,6,33,6],[34,2,35,2],[34,4,35,4],[34,5,35,5],[34,6,35,6],[30,0,30,8],[75,0,75,8],[88,4,92,4],[78,9,78,11],[79,9,79,11],[80,9,80,11],[81,9,81,11],[82,9,82,11],[26,2,27,2],[40,2,41,2],[40,4,41,4],[40,5,41,5],[40,6,41,6],[38,2,39,2],[88,2,88,3],[87,2,87,3],[86,2,86,3],[85,2,85,3],[92,2,92,3],[91,2,91,3],[90,2,90,3],[89,2,89,3],[81,0,84,1],[85,0,87,1]]}
[null,null,null,null,null,null,null,null,null,"На главную"]
[]
["Ваша скидка:",null,{"$f":"Содержание!D2","v":0}]
["НДС:",null,{"$f":"IF(Лист2!A1=TRUE,\"С НДС\",\"БЕЗ НДС\")","v":"С НДС"}]
["Морозильные и холодильные лари Italfrost"]
[]
["№","Изображение","Наименование",null,"Температур-ный режим, °C","Объем, л","Габариты, \n(LxWxH) мм","Базовая \nцена, руб.\n(с НДС)",{"$f":"Лист2!$A$5","v":"Ваша цена, руб."},"Нажмите для расчета стоимости брендирования"]
[]
[1,"Морозильные лари с гнутыми раздвижными стеклами",null,null,null,null,null,null,null,null,"Сечение ларей с радиусной стеклянной крышкой",null,null,null,null,null,null,null,null,null,null,"Сечение ларей с радиусной стеклянной крышкой и товарным накопителем"]
[null,null,"CF200C","без корзин","-18…-25",235,"807х662х925",33033,{"$f":"ROUND(H10*(1-$C$3)/Лист2!$A$6,0)","v":33033}]
[null,null,null,"3 корзины",null,null,null,34539,{"$f":"ROUND(H11*(1-$C$3)/Лист2!$A$6,0)","v":34539}]
[null,null,"CF300C","без корзин","-18…-25",319,"1017х662х925",36305,{"$f":"ROUND(H12*(1-$C$3)/Лист2!$A$6,0)","v":36305}]
[null,null,null,"4 корзины",null,null,null,38313,{"$f":"ROUND(H13*(1-$C$3)/Лист2!$A$6,0)","v":38313}]
[null,null,"CF400C","без корзин","-18…-25",398,"1217х662х925",39363,{"$f":"ROUND(H14*(1-$C$3)/Лист2!$A$6,0)","v":39363}]
[null,null,null,"5 корзин",null,null,null,41873,{"$f":"ROUND(H15*(1-$C$3)/Лист2!$A$6,0)","v":41873}]
[null,null,"CF500C","без корзин","-18…-25",485,"1437х662х925",43015,{"$f":"ROUND(H16*(1-$C$3)/Лист2!$A$6,0)","v":43015}]
[null,null,null,"6 корзин",null,null,null,46027,{"$f":"ROUND(H17*(1-$C$3)/Лист2!$A$6,0)","v":46027}]
[null,null,"CF600C","без корзин","-18…-25",572,"1657х662х925",46246,{"$f":"ROUND(H18*(1-$C$3)/Лист2!$A$6,0)","v":46246}]
[null,null,null,"7 корзин",null,null,null,49760,{"$f":"ROUND(H19*(1-$C$3)/Лист2!$A$6,0)","v":49760}]
[2,"Морозильные лари с прямыми раздвижными стеклами"]
[null,null,"CF200F","без корзин","-18…-25",235,"807х662х925",32096,{"$f":"ROUND(H21*(1-$C$3)/Лист2!$A$6,0)","v":32096}]
[null,null,null,"3 корзины",null,null,null,33404,{"$f":"ROUND(H22*(1-$C$3)/Лист2!$A$6,0)","v":33404}]
[null,null,"CF300F","без корзин","-18…-25",319,"1017х662х925",35643,{"$f":"ROUND(H23*(1-$C$3)/Лист2!$A$6,0)","v":35643}]
[null,null,null,"4 корзины",null,null,null,35387,{"$f":"ROUND(H24*(1-$C$3)/Лист2!$A$6,0)","v":35387}]
[null,null,"CF400F","без корзин","-18…-25",398,"1217х662х925",39247,{"$f":"ROUND(H25*(1-$C$3)/Лист2!$A$6,0)","v":39247}]
[null,null,null,"5 корзин",null,null,null,41427,{"$f":"ROUND(H26*(1-$C$3)/Лист2!$A$6,0)","v":41427}]
[null,null,"CF500F","без корзин","-18…-25",485,"1437х662х925",43197,{"$f":"ROUND(H27*(1-$C$3)/Лист2!$A$6,0)","v":43197}]
[null,null,null,"6 корзин",null,null,null,45813,{"$f":"ROUND(H28*(1-$C$3)/Лист2!$A$6,0)","v":45813}]
[null,null,"CF600F","без корзин","-18…-25",572,"1657х662х925",46517,{"$f":"ROUND(H29*(1-$C$3)/Лист2!$A$6,0)","v":46517}]
[null,null,null,"7 корзин",null,null,null,49569,{"$f":"ROUND(H30*(1-$C$3)/Лист2!$A$6,0)","v":49569}]
["К заказу доступны лари с прямой составной короной серого цвета, скидка составит 770,0 рублей с НДС от базовой цены"]
[3,"Морозильные лари с глухой крышкой"]
[null,null,"CF200S","без корзин","-18…-25",235,"808х743х904",{"$f":"H34-436","v":32522.884729999998},{"$f":"ROUND(H33*(1-$C$3)/Лист2!$A$6,0)","v":32523}]
[null,null,null,"1 корзина",null,null,null,32958.884729999998,{"$f":"ROUND(H34*(1-$C$3)/Лист2!$A$6,0)","v":32959},null,"Сечение ларей с прямой стеклянной крышкой",null,null,null,null,null,null,null,null,null,null,"Сечение ларей с прямой стеклянной крышкой и товарным накопителем"]
[null,null,"CF300S","без корзин","-18…-25",319,"1018х743х904",{"$f":"H36-436","v":35554.193590000003},{"$f":"ROUND(H35*(1-$C$3)/Лист2!$A$6,0)","v":35554}]
[null,null,null,"1 корзина",null,null,null,35990.193590000003,{"$f":"ROUND(H36*(1-$C$3)/Лист2!$A$6,0)","v":35990}]
[null,null,"CF400S","без корзин","-18…-25",398,"1218х743х904",{"$f":"H38-436","v":42328.780075000002},{"$f":"ROUND(H37*(1-$C$3)/Лист2!$A$6,0)","v":42329}]
[null,null,null,"1 корзина",null,null,null,42764.780075000002,{"$f":"ROUND(H38*(1-$C$3)/Лист2!$A$6,0)","v":42765}]
[null,null,"CF500S","без корзин","-18…-25",485,"1438х743х904",{"$f":"H40-436","v":43024.25245},{"$f":"ROUND(H39*(1-$C$3)/Лист2!$A$6,0)","v":43024}]
[null,null,null,"1 корзина",null,null,null,43460.25245,{"$f":"ROUND(H40*(1-$C$3)/Лист2!$A$6,0)","v":43460}]
[null,null,"CF600S","без корзин","-18…-25",572,"1658х743х904",{"$f":"H42-426","v":46927.12745},{"$f":"ROUND(H41*(1-$C$3)/Лист2!$A$6,0)","v":46927}]
[null,null,null,"1 корзина",null,null,null,47353.12745,{"$f":"ROUND(H42*(1-$C$3)/Лист2!$A$6,0)","v":47353}]
[4,"Морозильные лари с глухой крышкой (крышка из нержавеющей стали)"]
[null,null,"CF200S нерж","без корзин","-18…-25",235,"808х743х904",{"$f":"H45-436","v":36865.168899999997},{"$f":"ROUND(H44*(1-$C$3)/Лист2!$A$6,0)","v":36865}]
[null,null,null,"1 корзина",null,null,null,37301.168899999997,{"$f":"ROUND(H45*(1-$C$3)/Лист2!$A$6,0)","v":37301}]
[null,null,"CF300S нерж","без корзин","-18…-25",319,"1018х743х904",{"$f":"H47-436","v":40932.671054999999},{"$f":"ROUND(H46*(1-$C$3)/Лист2!$A$6,0)","v":40933}]
[null,null,null,"1 корзина",null,null,null,41368.671054999999,{"$f":"ROUND(H47*(1-$C$3)/Лист2!$A$6,0)","v":41369}]
[null,null,"CF400S нерж","без корзин","-18…-25",398,"1218х743х904",{"$f":"H49-436","v":48518.549115000002},{"$f":"ROUND(H48*(1-$C$3)/Лист2!$A$6,0)","v":48519}]
[null,null,null,"1 корзина",null,null,null,48954.549115000002,{"$f":"ROUND(H49*(1-$C$3)/Лист2!$A$6,0)","v":48955}]
[null,null,"CF500S нерж","без корзин","-18…-25",485,"1438х743х904",{"$f":"H51-436","v":49392.625019999999},{"$f":"ROUND(H50*(1-$C$3)/Лист2!$A$6,0)","v":49393}]
[null,null,null,"1 корзина",null,null,null,49828.625019999999,{"$f":"ROUND(H51*(1-$C$3)/Лист2!$A$6,0)","v":49829}]
[null,null,"CF600S нерж","без корзин","-18…-25",572,"1658х743х904",{"$f":"H53-436","v":53257.839749999999},{"$f":"ROUND(H52*(1-$C$3)/Лист2!$A$6,0)","v":53258}]
[null,null,null,"1 корзина",null,null,null,53693.839749999999,{"$f":"ROUND(H53*(1-$C$3)/Лист2!$A$6,0)","v":53694}]
[5,"Морозильные лари с гнутыми раздвижными стеклами (климатический класс 4+)"]
[null,null,"CFТ200C","без корзин","-18…-25",235,"807х662х925",41459.136104999998,{"$f":"ROUND(H55*(1-$C$3)/Лист2!$A$6,0)","v":41459}]
[null,null,null,"3 корзины",null,null,null,{"$f":"H55+502*3","v":42965.136104999998},{"$f":"ROUND(H56*(1-$C$3)/Лист2!$A$6,0)","v":42965}]
[null,null,"CFТ300C","без корзин","-18…-25",319,"1017х662х925",43816.297859999999,{"$f":"ROUND(H57*(1-$C$3)/Лист2!$A$6,0)","v":43816}]
[null,null,null,"4 корзины",null,null,null,{"$f":"H57+502*4","v":45824.297859999999},{"$f":"ROUND(H58*(1-$C$3)/Лист2!$A$6,0)","v":45824},null,"Сечение ларей с глухой крышкой ",null,null,null,null,null,null,null,null,null,null,"Внешний вид тыльной стороны ларя с запасником"]
[null,null,"CFT400C","без корзин","-18…-25",398,"1217х662х925",47065.662090000005,{"$f":"ROUND(H59*(1-$C$3)/Лист2!$A$6,0)","v":47066}]
[null,null,null,"5 корзин",null,null,null,{"$f":"H59+502*5","v":49575.662090000005},{"$f":"ROUND(H60*(1-$C$3)/Лист2!$A$6,0)","v":49576}]
[null,null,"CFТ500C","без корзин","-18…-25",485,"1437х662х925",46855.873209999998,{"$f":"ROUND(H61*(1-$C$3)/Лист2!$A$6,0)","v":46856}]
[null,null,null,"6 корзин",null,null,null,{"$f":"H61+502*6","v":49867.873209999998},{"$f":"ROUND(H62*(1-$C$3)/Лист2!$A$6,0)","v":49868}]
[null,null,"CFТ600C","без корзин","-18…-25",572,"1657х662х925",50688.401400000002,{"$f":"ROUND(H63*(1-$C$3)/Лист2!$A$6,0)","v":50688}]
[null,null,null,"7 корзин",null,null,null,{"$f":"H63+502*7","v":54202.401400000002},{"$f":"ROUND(H64*(1-$C$3)/Лист2!$A$6,0)","v":54202}]
[6,"Морозильные лари с прямыми раздвижными стеклами (климатический класс 4+)"]
[null,null,"CFТ200F","без корзин","-18…-25",235,"807х662х925",39533.292780000003,{"$f":"ROUND(H66*(1-$C$3)/Лист2!$A$6,0)","v":39533}]
[null,null,null,"3 корзины",null,null,null,{"$f":"H66+436*3","v":40841.292780000003},{"$f":"ROUND(H67*(1-$C$3)/Лист2!$A$6,0)","v":40841}]
[null,null,"CFТ300F","без корзин","-18…-25",319,"1017х662х925",44108.633759999997,{"$f":"ROUND(H68*(1-$C$3)/Лист2!$A$6,0)","v":44109}]
[null,null,null,"4 корзины",null,null,null,{"$f":"H68+436*4","v":45852.633759999997},{"$f":"ROUND(H69*(1-$C$3)/Лист2!$A$6,0)","v":45853}]
[null,null,"CFT400F","без корзин","-18…-25",398,"1217х662х925",48021.511050000001,{"$f":"ROUND(H70*(1-$C$3)/Лист2!$A$6,0)","v":48022}]
[null,null,null,"5 корзин",null,null,null,{"$f":"H70+436*5","v":50201.511050000001},{"$f":"ROUND(H71*(1-$C$3)/Лист2!$A$6,0)","v":50202}]
[null,null,"CFТ500F","без корзин","-18…-25",485,"1437х662х925",47055.965250000001,{"$f":"ROUND(H72*(1-$C$3)/Лист2!$A$6,0)","v":47056}]
[null,null,null,"6 корзин",null,null,null,{"$f":"H72+436*6","v":49671.965250000001},{"$f":"ROUND(H73*(1-$C$3)/Лист2!$A$6,0)","v":49672}]
[null,null,"CFТ600F","без корзин","-18…-25",572,"1657х662х925",51113.32576,{"$f":"ROUND(H74*(1-$C$3)/Лист2!$A$6,0)","v":51113}]
[null,null,null,"7 корзин",null,null,null,{"$f":"H74+436*7","v":54165.32576},{"$f":"ROUND(H75*(1-$C$3)/Лист2!$A$6,0)","v":54165}]
["К заказу доступны лари с прямой составной короной серого цвета, скидка составит 770,0 рублей с НДС от базовой цены"]
[7,"Морозильные лари для мягкого мороженного (комплектация - стеклянная суперструктура, товарный накопитель, электронный контроллер, полка навесная для установки гастроемкостей"]
[null,null,"CF300CS","-","-18…-25",319,"1017х662х1310",52777,{"$f":"ROUND(H78*(1-$C$3)/Лист2!$A$6,0)","v":52777}]
[null,null,"CF400CS","-","-18…-25",398,"1217х662х1310",57061,{"$f":"ROUND(H79*(1-$C$3)/Лист2!$A$6,0)","v":57061}]
[null,null,"CF500CS","-","-18…-25",485,"1437х662х1310",63436,{"$f":"ROUND(H80*(1-$C$3)/Лист2!$A$6,0)","v":63436}]
[8,"Опции для ларей"]
[null,null,"Корзина для ларя с гнут. стек.","087.42.00.00","-","-","214х498х320",502,{"$f":"ROUND(H82*(1-$C$3)/Лист2!$A$6,0)","v":502}]
[null,null,"Корзина для ларя с прям. стек.","086.42.00.00","-","-","214х493х250",436,{"$f":"ROUND(H83*(1-$C$3)/Лист2!$A$6,0)","v":436}]
[null,null,"Корзина для ларя с глух. крыш.","086.42.00.00","-","-","214х493х250",436,{"$f":"ROUND(H84*(1-$C$3)/Лист2!$A$6,0)","v":436}]
[null,null,"Накопитель для ларя",null,"-","-","-",3850,3850]
[null,null,"Надстройка стеклянная 1145.12.00.00 для ЛВН 300 Г",null,null,null,null,7339.0919999999996,{"$f":"ROUND(H86*(1-$C$3)/Лист2!$A$6,0)","v":7339}]
[null,null,"Надстройка стеклянная 1145.12.00.00-01 для ЛВН 400 Г",null,null,null,null,7981.5960000000005,{"$f":"ROUND(H87*(1-$C$3)/Лист2!$A$6,0)","v":7982}]
[null,null,"Надстройка стеклянная 1145.12.00.00-02 для ЛВН 500 Г",null,null,null,null,8937.9562499999993,{"$f":"ROUND(H88*(1-$C$3)/Лист2!$A$6,0)","v":8938}]
[null,null,"Комплект подсветки для ларя CF200C",null,"Спектр 4000К/6000К",null,null,{"$f":"H90*0.98","v":2055.6479999999997},{"$f":"ROUND(H89*(1-$C$3)/Лист2!$A$6,0)","v":2056}]
[null,null,"Комплект подсветки для ларя CF300C",null,null,null,null,2097.6,{"$f":"ROUND(H90*(1-$C$3)/Лист2!$A$6,0)","v":2098}]
[null,null,"Комплект подсветки для ларя CF400C",null,null,null,null,2280,{"$f":"ROUND(H91*(1-$C$3)/Лист2!$A$6,0)","v":2280}]
[null,null,"Комплект подсветки для ларя CF500C",null,null,null,null,2622,{"$f":"ROUND(H92*(1-$C$3)/Лист2!$A$6,0)","v":2622}]
[null,null,"Комплект подсветки для ларя CF600C",null,null,null,null,{"$f":"H92*1.15","v":3015.2999999999997},{"$f":"ROUND(H93*(1-$C$3)/Лист2!$A$6,0)","v":3015}]
[]
[null,"Стандартный цвет короны ларя  - Серый"]
[null,"Опционально доступны иные цвета короны  - наличие уточнять у менеджеров, наценка +1,5% к цене ларя"]
[]
[null,null,null,null,null,null,null,"НАВЕРХ"]

{"sheet":"Лари-бонеты Italfrost","index":7,"n_rows":119,"n_cols":11,"rows_kept":119,"cut":false,"hidden":false,"merged":[[12,10,30,24],[14,3,14,4],[15,3,15,4],[16,3,16,4],[17,3,17,4],[18,3,18,4],[19,3,19,4],[20,3,20,4],[21,3,21,4],[26,3,26,4],[27,3,27,4],[28,3,28,4],[29,3,29,4],[30,3,30,4],[118,6,119,6],[20,2,21,2],[18,2,19,2],[16,2,17,2],[13,2,13,8],[13,0,21,1],[12,0,12,3],[12,4,12,8],[24,0,24,3],[24,4,24,8],[25,0,33,1],[37,0,45,1],[31,3,31,4],[32,3,32,4],[33,3,33,4],[38,3,38,4],[39,3,39,4],[40,3,40,4],[41,3,41,4],[42,3,42,4],[43,3,43,4],[44,3,44,4],[45,3,45,4],[50,3,50,4],[34,0,35,0],[34,1,35,8],[36,0,36,3],[36,4,36,8],[37,2,37,8],[38,5,45,5],[14,2,15,2],[14,6,15,6],[16,6,17,6],[18,6,19,6],[20,6,21,6],[14,5,21,5],[22,0,23,0],[22,1,23,8],[25,2,25,8],[26,2,27,2],[26,5,33,5],[26,6,27,6],[28,2,29,2],[28,6,29,6],[30,2,31,2],[30,6,31,6],[32,2,33,2],[32,6,33,6],[10,10,10,24],[0,6,4,8],[8,6,9,6],[8,7,9,7],[8,8,9,8],[10,0,11,0],[10,1,11,8],[11,10,11,24],[1,1,1,2],[2,1,2,2],[3,1,3,2],[5,0,7,8],[8,0,9,0],[8,1,9,1],[8,2,9,3],[8,4,9,4],[8,5,9,5],[38,6,39,6],[40,6,41,6],[42,6,43,6],[44,6,45,6],[50,6,51,6],[38,2,39,2],[40,2,41,2],[42,2,43,2],[44,2,45,2],[50,2,51,2],[48,0,48,3],[48,4,48,8],[49,0,57,1],[49,2,49,8],[50,5,57,5],[52,2,53,2],[54,2,55,2],[56,2,57,2],[46,0,47,0],[46,1,47,8],[51,3,51,4],[52,3,52,4],[53,3,53,4],[54,3,54,4],[52,6,53,6],[54,6,55,6],[56,6,57,6],[60,0,60,8],[69,0,69,8],[67,2,67,6],[66,2,66,6],[65,2,65,6],[64,2,64,6],[63,2,63,6],[62,2,62,6],[61,2,61,6],[58,0,59,0],[58,1,59,8],[55,3,55,4],[56,3,56,4],[57,3,57,4],[91,2,91,6],[90,2,90,6],[89,2,89,6],[88,2,88,6],[101,0,101,8],[109,0,109,8],[77,0,79,1],[61,0,68,1],[80,0,80,8],[87,0,87,8],[94,0,94,8],[70,0,70,1],[71,0,72,1],[73,0,73,8],[74,0,76,1],[95,0,100,1],[102,0,104,1],[105,0,108,1],[110,0,116,1],[68,2,68,6],[72,2,72,6],[71,2,71,6],[70,2,70,6],[79,2,79,6],[78,2,78,6],[77,2,77,6],[76,2,76,6],[75,2,75,6],[74,2,74,6],[86,2,86,6],[85,2,85,6],[81,0,86,1],[88,0,93,1],[84,2,84,6],[83,2,83,6],[82,2,82,6],[81,2,81,6],[93,2,93,6],[92,2,92,6],[111,2,111,6],[110,2,110,6],[116,2,116,6],[115,2,115,6],[114,2,114,6],[113,2,113,6],[112,2,112,6],[95,2,95,6],[108,2,108,6],[107,2,107,6],[106,2,106,6],[105,2,105,6],[104,2,104,6],[103,2,103,6],[102,2,102,6],[100,2,100,6],[99,2,99,6],[98,2,98,6],[97,2,97,6],[96,2,96,6]]}
[null,null,null,null,null,null,"ЗАВОД «ОПК»\nТел.: +7 (495) 987-4388\ne-mail: info@cryspi.ru\nсайт: cryspi.ru",null,null,"На главную"]
[]
[null,"Ваша скидка:",null,{"$f":"Содержание!D2","v":0}]
[null,"НДС:",null,{"$f":"IF(Лист2!A1=TRUE,\"С НДС\",\"БЕЗ НДС\")","v":"С НДС"}]
[]
["Двухрежимные ларь-бонеты ITALFROST"]
[]
[]
["№","Изображение","Наименование",null,"Колличество делителей/корзин","Температурный режим,°C","Габариты, \n(LxWxH) мм","Базовая \nцена, руб.\n(с НДС)",{"$f":"[5]Лист2!$A$5","v":"Ваша цена, руб."}]
[]
[1,"ЛВН двухрежимный  ITALFROST",null,null,null,null,null,null,null,null,"СЕЧЕНИЕ"]
[]
["- Стандартная комплектация ЛВН Italfrost:\n- Корпус внешний - оцинкованный металл (RAL 9003);\n- Охлаждаемый объем - буклированный алюминий, цвет решеток/делителей RAL 9003;\n- Компрессор Embraco, хладагент R-290, оттайка горячим газом, система выпаривания конденсата;\n- Электронный контроллер CAREL;",null,null,null,"- Комплект верхнего бампера;\n- Система решеток по периметру охлаждаемого объема (1 разделитель, устанавливаемый возле агрегатного отсека во всю высоту охл.объема);\n- Цвет пластиковых элеметов RAL 7035 (крышка, окантовка стекла, бампер, ручки);\n-Деревянная обрешетка;"]
[]
[null,null,"Ларь-витрина низкотемпературный ЛВН 1850 (ЛБТ2 М 1850)","С комплектом делителей (2 шт.)",null,"Возможен выбор температурного режима \n(НТ -18..-24  ̊С/ \nСТ -2..+6  ̊С)","1850х858х869",140679,{"$f":"ROUND(H15*(1-$D$3)/Лист2!$A$6,0)","v":140679}]
[null,null,null,"С комплектом корзинами (3 шт.)",null,null,null,144407,{"$f":"ROUND(H16*(1-$D$3)/Лист2!$A$6,0)","v":144407}]
[null,null,"Ларь-витрина низкотемпературный ЛВН 1850 (ЛБ2 М 1850)","С комплектом делителей (2 шт.)",null,null,"1850х858х869",134417,{"$f":"ROUND(H17*(1-$D$3)/Лист2!$A$6,0)","v":134417}]
[null,null,null,"С комплектом корзинами (3 шт.)",null,null,null,138145,{"$f":"ROUND(H18*(1-$D$3)/Лист2!$A$6,0)","v":138145}]
[null,null,"Ларь-витрина низкотемпературный ЛВН 2100 (ЛБ2 М 2100)","С комплектом делителей (3 шт.)",null,null,"2100х858х869",140966,{"$f":"ROUND(H19*(1-$D$3)/Лист2!$A$6,0)","v":140966}]
[null,null,null,"С комплектом корзинами (4 шт.)",null,null,null,145225,{"$f":"ROUND(H20*(1-$D$3)/Лист2!$A$6,0)","v":145225}]
[null,null,"Ларь-витрина низкотемпературный ЛВН 2500 (ЛБ2 М 2500)","С комплектом делителей (4 шт.)",null,null,"2500х858х869",146157,{"$f":"ROUND(H21*(1-$D$3)/Лист2!$A$6,0)","v":146157}]
[null,null,null,"С комплектом корзинами (5 шт.)",null,null,null,150947,{"$f":"ROUND(H22*(1-$D$3)/Лист2!$A$6,0)","v":150947}]
[2,"ЛВН двухрежимный  ITALFROST Push"]
[]
[" - Стандартная комплектация ЛВН Italfrost:\n- Корпус внешний - оцинкованный металл (RAL 9003); \n- Охлаждаемый объем - буклированный алюминий, цвет решеток/делителей RAL 9003;\n- Компрессор Embraco, хладагент R-290, оттайка горячим газом, система выпаривания конденсата;\n- Электронный контроллер CAREL;",null,null,null,"- Комплект верхнего бампера;\n- Система решеток по периметру охлаждаемого объема (1 разделитель, устанавливаемый возле агрегатного отсека во всю высоту охл.объема);\n- Цвет пластиковых элеметов RAL 7035 (крышка, окантовка стекла, бампер, ручки);\n- Деревянная обрешетка;"]
[]
[null,null,"Ларь-витрина низкотемпературный ЛВН 1850 (ЛБТ2 М 1850) PUSH","С комплектом делителей (2 шт.)",null,"Возможен выбор температурного режима \n(НТ -18..-24  ̊С/ \nСТ -2..+6  ̊С)","1850х858х869",140679,{"$f":"ROUND(H27*(1-$D$3)/Лист2!$A$6,0)","v":140679}]
[null,null,null,"С комплектом корзинами (3 шт.)",null,null,null,144407,{"$f":"ROUND(H28*(1-$D$3)/Лист2!$A$6,0)","v":144407}]
[null,null,"Ларь-витрина низкотемпературный ЛВН 1850 (ЛБ2 М 1850) PUSH","С комплектом делителей (2 шт.)",null,null,"1850х858х869",134417,{"$f":"ROUND(H29*(1-$D$3)/Лист2!$A$6,0)","v":134417}]
[null,null,null,"С комплектом корзинами (3 шт.)",null,null,null,138145,{"$f":"ROUND(H30*(1-$D$3)/Лист2!$A$6,0)","v":138145}]
[null,null,"Ларь-витрина низкотемпературный ЛВН 2100 (ЛБ2 М 2100) PUSH","С комплектом делителей (3 шт.)",null,null,"2100х858х869",140966,{"$f":"ROUND(H31*(1-$D$3)/Лист2!$A$6,0)","v":140966}]
[null,null,null,"С комплектом корзинами (4 шт.)",null,null,null,145225,{"$f":"ROUND(H32*(1-$D$3)/Лист2!$A$6,0)","v":145225}]
[null,null,"Ларь-витрина низкотемпературный ЛВН 2500 (ЛБ2 М 2500) PUSH","С комплектом делителей (4 шт.)",null,null,"2500х858х869",146157,{"$f":"ROUND(H33*(1-$D$3)/Лист2!$A$6,0)","v":146157}]
[null,null,null,"С комплектом корзинами (5 шт.)",null,null,null,150947,{"$f":"ROUND(H34*(1-$D$3)/Лист2!$A$6,0)","v":150947}]
[3,"ЛВН двухрежимный  RONDO с термостатом"]
[]
["- Стандартная комплектация ЛВН Italfrost:\n- Корпус внешний - оцинкованный металл (RAL 9003);\n- Охлаждаемый объем - буклированный алюминий, цвет решеток/делителей RAL 9003;\n- Компрессор Embraco, хладагент R-290, \n- БЕЗ оттайки горячим газом, БЕЗ системы выпаривания конденсата;\n- Термостат (управление температурой в объеме);",null,null,null,"- БЕЗ верхнего бампера;\n- Система решеток по периметру охлаждаемого объема (1 разделитель, устанавливаемый возле агрегатного отсека во всю высоту охл.объема);\n- Возможен выбор температурного режима НТ/СТ (НТ -18..-24  ̊С/ СТ -2..+6  ̊С);\n- Цвет пластиковых элеметов RAL 7035 (крышка, окантовка стекла, бампер, ручки); \n- Деревянная обрешетка;"]
[]
[null,null,"Ларь-витрина низкотемпературный ЛВНР 1850 (ЛБТР М 1850)","С комплектом делителей (2 шт.)",null," -18..-24  ̊С","1850х858х869",99472.400000000009,{"$f":"ROUND(H39*(1-$D$3)/Лист2!$A$6,0)","v":99472}]
[null,null,null,"С комплектом корзинами (3 шт.)",null,null,null,103200.40000000001,{"$f":"ROUND(H40*(1-$D$3)/Лист2!$A$6,0)","v":103200}]
[null,null,"Ларь-витрина низкотемпературный ЛВНР 1850 (ЛБР М 1850)","С комплектом делителей (2 шт.)",null,null,"1850х858х869",96663.650000000009,{"$f":"ROUND(H41*(1-$D$3)/Лист2!$A$6,0)","v":96664}]
[null,null,null,"С комплектом корзинами (3 шт.)",null,null,null,100391.65000000001,{"$f":"ROUND(H42*(1-$D$3)/Лист2!$A$6,0)","v":100392}]
[null,null,"Ларь-витрина низкотемпературный ЛВНР 2100 (ЛБР М 2100)","С комплектом делителей (3 шт.)",null,null,"2100х858х869",100274.40000000001,{"$f":"ROUND(H43*(1-$D$3)/Лист2!$A$6,0)","v":100274}]
[null,null,null,"С комплектом корзинами (4 шт.)",null,null,null,104533.40000000001,{"$f":"ROUND(H44*(1-$D$3)/Лист2!$A$6,0)","v":104533}]
[null,null,"Ларь-витрина низкотемпературный ЛВНР 2500 (ЛБР М 2500)","С комплектом делителей (4 шт.)",null,null,"2500х858х869",115811.05,{"$f":"ROUND(H45*(1-$D$3)/Лист2!$A$6,0)","v":115811}]
[null,null,null,"С комплектом корзинами (5 шт.)",null,null,null,120601.05,{"$f":"ROUND(H46*(1-$D$3)/Лист2!$A$6,0)","v":120601}]
[4,"ЛВН двухрежимный  RONDO с контроллером"]
[]
["- Стандартная комплектация ЛВН Italfrost:\n- Корпус внешний - оцинкованный металл (RAL 9003);\n- Охлаждаемый объем - буклированный алюминий, цвет решеток/делителей RAL 9003;\n- Компрессор Embraco, хладагент R-290, \n- БЕЗ оттайки горячим газом, БЕЗ системы выпаривания конденсата;\n- Электронный контроллер CAREL;",null,null,null,"- БЕЗ верхнего бампера;\n- Система решеток по периметру охлаждаемого объема (1 разделитель, устанавливаемый возле агрегатного отсека во всю высоту охл.объема);\n- Возможен выбор температурного режима НТ/СТ (НТ -18..-24  ̊С/ СТ -2..+6  ̊С);\n- Цвет пластиковых элеметов RAL 7035 (крышка, окантовка стекла, бампер, ручки); \n- Деревянная обрешетка;"]
[]
[null,null,"Ларь-витрина низкотемпературный ЛВНР 1850 (ЛБТР М 1850)","С комплектом делителей (2 шт.)",null," -18..-24  ̊С","1850х858х869",101748.8,{"$f":"ROUND(H51*(1-$D$3)/Лист2!$A$6,0)","v":101749}]
[null,null,null,"С комплектом корзинами (3 шт.)",null,null,null,105476.8,{"$f":"ROUND(H52*(1-$D$3)/Лист2!$A$6,0)","v":105477}]
[null,null,"Ларь-витрина низкотемпературный ЛВНР 1850 (ЛБР М 1850)","С комплектом делителей (2 шт.)",null,null,"1850х858х869",98956.85,{"$f":"ROUND(H53*(1-$D$3)/Лист2!$A$6,0)","v":98957}]
[null,null,null,"С комплектом корзинами (3 шт.)",null,null,null,102684.85,{"$f":"ROUND(H54*(1-$D$3)/Лист2!$A$6,0)","v":102685}]
[null,null,"Ларь-витрина низкотемпературный ЛВНР 2100 (ЛБР М 2100)","С комплектом делителей (3 шт.)",null,null,"2100х858х869",102550.8,{"$f":"ROUND(H55*(1-$D$3)/Лист2!$A$6,0)","v":102551}]
[null,null,null,"С комплектом корзинами (4 шт.)",null,null,null,106809.8,{"$f":"ROUND(H56*(1-$D$3)/Лист2!$A$6,0)","v":106810}]
[null,null,"Ларь-витрина низкотемпературный ЛВНР 2500 (ЛБР М 2500)","С комплектом делителей (4 шт.)",null,null,"2500х858х869",{"$f":"H56+H76*4","v":209565.8},{"$f":"ROUND(H57*(1-$D$3)/Лист2!$A$6,0)","v":209566}]
[null,null,null,"С комплектом корзинами (5 шт.)",null,null,null,{"$f":"H56+H77+H78*4","v":263615.8},{"$f":"ROUND(H58*(1-$D$3)/Лист2!$A$6,0)","v":263616}]
[5,"КОМПЛЕКТУЮЩИЕ"]
[]
["Бампер (Определяется харакетристикой, либо для отдельного заказа)"]
[null,null,"Комплект трехстороннего нижнего бампера L=1850 для ЛВН ЛБТ",null,null,null,null,1645,{"$f":"ROUND(H62*(1-$D$3)/Лист2!$A$6,0)","v":1645}]
[null,null,"Комплект трехстороннего верхнего бампера L=1850 для ЛВН ЛБТ",null,null,null,null,1727.25,{"$f":"ROUND(H63*(1-$D$3)/Лист2!$A$6,0)","v":1727}]
[null,null,"Комплект нижнего бампера L=1850 для ЛВН ЛБ",null,null,null,null,1367,{"$f":"ROUND(H64*(1-$D$3)/Лист2!$A$6,0)","v":1367}]
[null,null,"Комплект верхнего бампера L=1850 для ЛВН ЛБ",null,null,null,null,1494.15,{"$f":"ROUND(H65*(1-$D$3)/Лист2!$A$6,0)","v":1494}]
[null,null,"Комплект нижнего бампера L=2100 для ЛВН ЛБ",null,null,null,null,1423,{"$f":"ROUND(H66*(1-$D$3)/Лист2!$A$6,0)","v":1423}]
[null,null,"Комплект верхнего бампера L=2100 для  ЛВН ЛБ",null,null,null,null,1494.15,{"$f":"ROUND(H67*(1-$D$3)/Лист2!$A$6,0)","v":1494}]
[null,null,"Комплект нижнего бампера L=2500 для ЛВН ЛБ",null,null,null,null,1548,{"$f":"ROUND(H68*(1-$D$3)/Лист2!$A$6,0)","v":1548}]
[null,null,"Комплект верхнего бампера L=2500 для ЛВН ЛБ ",null,null,null,null,1625.4,{"$f":"ROUND(H69*(1-$D$3)/Лист2!$A$6,0)","v":1625}]
["Разделители и корзины (полимерное покрытие, цвет - RAL 9003)"]
[null,null,"Разделитель поперечный объема 1022.45.00.00 L=1850/2100/2500 для ЛБ М",null,null,null,null,802,{"$f":"ROUND(H71*(1-$D$3)/Лист2!$A$6,0)","v":802}]
[null,null,"Корзина увеличенная над агрегатным отсеком 1022.110.00.00-01 для ЛВН/ЛВС (ЛБ М) (Устанавливается над агрегатным отсеком, 1 шт. в ЛБ каждого типоразмера)",null,null,null,null,1333,{"$f":"ROUND(H72*(1-$D$3)/Лист2!$A$6,0)","v":1333}]
[null,null,"Корзина 1022.110.00.00 для ЛВН/ЛВС (ЛБ М) (в ЛБ длиной 2500 устанавливается 5 данных корзин, в 2100 - 4 корзины, в 1850 - 3 корзины)",null,null,null,null,1333,{"$f":"ROUND(H73*(1-$D$3)/Лист2!$A$6,0)","v":1333}]
["Суперструктуры и опции"]
[null,null,"Суперструктура пристенная 1022.61.00.00-02 для ЛВН/ЛВС (ЛБ М) 1850",null,null,null,null,24557,{"$f":"ROUND(H75*(1-$D$3)/Лист2!$A$6,0)","v":24557}]
[null,null,"Суперструктура пристенная 1022.61.00.00 для ЛВН/ЛВС (ЛБ М) 2100",null,null,null,null,25689,{"$f":"ROUND(H76*(1-$D$3)/Лист2!$A$6,0)","v":25689}]
[null,null,"Суперструктура пристенная 1022.61.00.00-01 для ЛВН/ЛВС (ЛБ М) 2500",null,null,null,null,27290,{"$f":"ROUND(H77*(1-$D$3)/Лист2!$A$6,0)","v":27290}]
[null,null,"Суперструктура островная 1022.60.00.00-02 для ЛВН/ЛВС (ЛБ М) 1850",null,null,null,null,32379,{"$f":"ROUND(H78*(1-$D$3)/Лист2!$A$6,0)","v":32379}]
[null,null,"Суперструктура островная 1022.60.00.00 для ЛВН/ЛВС (ЛБ М) 2100",null,null,null,null,34547,{"$f":"ROUND(H79*(1-$D$3)/Лист2!$A$6,0)","v":34547}]
[null,null,"Суперструктура островная 1022.60.00.00-01 для ЛВН/ЛВС (ЛБ М) 2500",null,null,null,null,37319,{"$f":"ROUND(H80*(1-$D$3)/Лист2!$A$6,0)","v":37319}]
[]
[null,null,"Комплект подсветки прист 429.80.00.00-02 L=1850 для ЛБ М (LED, лампа Т5)",null,null,null,null,6910.3284999999996,{"$f":"ROUND(H82*(1-$D$3)/Лист2!$A$6,0)","v":6910}]
[null,null,"Комплект подсветки прист 429.80.00.00 L=2100 для ЛБ М (LED, лампа Т5)",null,null,null,null,7274.03,{"$f":"ROUND(H83*(1-$D$3)/Лист2!$A$6,0)","v":7274}]
[null,null,"Комплект подсветки прист 429.80.00.00-01 L=2500 для ЛБ М (LED, лампа Т5)",null,null,null,null,7499,{"$f":"ROUND(H84*(1-$D$3)/Лист2!$A$6,0)","v":7499}]
[null,null,"Комплект подсветки остр суперстр 429.64.00.00-02 L=1850 для ЛБ М (LED, лампа Т5)",null,null,null,null,13121.856,{"$f":"ROUND(H85*(1-$D$3)/Лист2!$A$6,0)","v":13122}]
[null,null,"Комплект подсветки остр суперстр 429.64.00.00 L=2100 для ЛБ М (LED, лампа Т5)",null,null,null,null,13812.48,{"$f":"ROUND(H86*(1-$D$3)/Лист2!$A$6,0)","v":13812}]
[null,null,"Комплект подсветки остр суперстр 429.64.00.00-01 L=2500 для ЛБ М (LED, лампа Т5)",null,null,null,null,14388,{"$f":"ROUND(H87*(1-$D$3)/Лист2!$A$6,0)","v":14388}]
[]
[null,null,"Комплект ценникодержателей прист 429.70.00.00-02 L=1850 для ЛБ М",null,null,null,null,{"$f":"H90*0.85","v":481.95},{"$f":"ROUND(H89*(1-$D$3)/Лист2!$A$6,0)","v":482}]
[null,null,"Комплект ценникодержателей прист 429.70.00.00 L=2100 для ЛБ М",null,null,null,null,567,{"$f":"ROUND(H90*(1-$D$3)/Лист2!$A$6,0)","v":567}]
[null,null,"Комплект ценникодержателей прист 429.70.00.00-01 L=2500 для ЛБ М",null,null,null,null,567,{"$f":"ROUND(H91*(1-$D$3)/Лист2!$A$6,0)","v":567}]
[null,null,"Комплект ценникодержателей остр 429.66.00.00-02 L=1850 для ЛБ М",null,null,null,null,567,{"$f":"ROUND(H92*(1-$D$3)/Лист2!$A$6,0)","v":567}]
[null,null,"Комплект ценникодержателей остр 429.66.00.00 L=2100 для ЛБ М",null,null,null,null,1136,{"$f":"ROUND(H93*(1-$D$3)/Лист2!$A$6,0)","v":1136}]
[null,null,"Комплект ценникодержателей остр 429.66.00.00-01 L=2500 для ЛБ М",null,null,null,null,1136,{"$f":"ROUND(H94*(1-$D$3)/Лист2!$A$6,0)","v":1136}]
[]
[null,null,"Комплект ограничителей прист 429.71.00.00-02 L=1850 для ЛБ М",null,null,null,null,1513,{"$f":"ROUND(H96*(1-$D$3)/Лист2!$A$6,0)","v":1513}]
[null,null,"Комплект ограничителей прист 429.71.00.00 L=2100 для ЛБ М",null,null,null,null,1513,{"$f":"ROUND(H97*(1-$D$3)/Лист2!$A$6,0)","v":1513}]
[null,null,"Комплект ограничителей прист 429.71.00.00-01 L=2500 для ЛБ М",null,null,null,null,1909,{"$f":"ROUND(H98*(1-$D$3)/Лист2!$A$6,0)","v":1909}]
[null,null,"Комплект ограничителей остр 429.68.00.00-02 L=1850 для ЛБ М",null,null,null,null,2601.5,{"$f":"ROUND(H99*(1-$D$3)/Лист2!$A$6,0)","v":2602}]
[null,null,"Комплект ограничителей остр 429.68.00.00 L=2100 для ЛБ М",null,null,null,null,3025,{"$f":"ROUND(H100*(1-$D$3)/Лист2!$A$6,0)","v":3025}]
[null,null,"Комплект ограничителей остр 429.68.00.00-01 L=2500 для ЛБ М",null,null,null,null,3810,{"$f":"ROUND(H101*(1-$D$3)/Лист2!$A$6,0)","v":3810}]
[]
[null,null,"Соединительный комплект спина к спине остр 1022.62.00.00-02 L=1850 для ЛБ М",null,null,null,null,1275,{"$f":"ROUND(H103*(1-$D$3)/Лист2!$A$6,0)","v":1275}]
[null,null,"Соединительный комплект спина к спине остр 1022.62.00.00 L=2100 для ЛБ М",null,null,null,null,1307,{"$f":"ROUND(H104*(1-$D$3)/Лист2!$A$6,0)","v":1307}]
[null,null,"Соединительный комплект спина к спине остр 1022.62.00.00-01 L=2500 для ЛБ М",null,null,null,null,1481,{"$f":"ROUND(H105*(1-$D$3)/Лист2!$A$6,0)","v":1481}]
[null,null,"Воздуховод с площадкой под ценникодержатели низкий 1022.89.00.00-02 для ЛВН/ЛВС  (ЛБ М) 1850",null,null,null,null,3108,{"$f":"ROUND(H106*(1-$D$3)/Лист2!$A$6,0)","v":3108}]
[null,null,"Воздуховод с площадкой под ценникодержатели низкий 1022.89.00.00 для ЛВН/ЛВС  (ЛБ М) 2100",null,null,null,null,3127,{"$f":"ROUND(H107*(1-$D$3)/Лист2!$A$6,0)","v":3127}]
[null,null,"Воздуховод с площадкой под ценникодержатели низкий 1022.89.00.00-01 для ЛВН/ЛВС (ЛБ М) 2500",null,null,null,null,3362,{"$f":"ROUND(H108*(1-$D$3)/Лист2!$A$6,0)","v":3362}]
[null,null,"Боковая заглушка к соед. комплекту «спина к спине» остр. 1022.111.00.00 для ЛВН/ЛВС (ЛБ М)",null,null,null,null,346,{"$f":"ROUND(H109*(1-$D$3)/Лист2!$A$6,0)","v":346}]
[]
[null,null,"Компл 3-его уровн полок прист суперстр 404.99.00.00 L=1850 для ЛБТМ (G=370 мм)",null,null,null,null,3238,{"$f":"ROUND(H111*(1-$D$3)/Лист2!$A$6,0)","v":3238}]
[null,null,"Компл 3-его уровн полок прист суперстр 429.99.00.00 L=2100 для ЛБМ (G=370 мм)",null,null,null,null,3395,{"$f":"ROUND(H112*(1-$D$3)/Лист2!$A$6,0)","v":3395}]
[null,null,"Компл 3-его уровн полок прист суперстр 429.100.00.00 L=2500 для ЛБМ  (G=370 мм)",null,null,null,null,3608,{"$f":"ROUND(H113*(1-$D$3)/Лист2!$A$6,0)","v":3608}]
[null,null,"Компл 3-его уровн полок остр суперстр 429.96.00.00 L=2100 для ЛБМ (G=370 мм)",null,null,null,null,5748,{"$f":"ROUND(H114*(1-$D$3)/Лист2!$A$6,0)","v":5748}]
[null,null,"Компл 3-его уровн полок остр суперстр 429.97.00.00 L=2500 для ЛБМ (G=370 мм)",null,null,null,null,6236,{"$f":"ROUND(H115*(1-$D$3)/Лист2!$A$6,0)","v":6236}]
[null,null,"Компл торц полок остр суперстр 429.102.00.00 L=2100/2500 для ЛБТМ",null,null,null,null,9388,{"$f":"ROUND(H116*(1-$D$3)/Лист2!$A$6,0)","v":9388}]
[null,null,"Компл торц полукр полок остр суперстр 429.101.00.00 L=2100/2500 для ЛБТМ",null,null,null,null,5583,{"$f":"ROUND(H117*(1-$D$3)/Лист2!$A$6,0)","v":5583}]
[]
[null,null,null,null,null,null,"НАВЕРХ"]

{"sheet":"Столы Italfrost с боковым","index":8,"n_rows":44,"n_cols":15,"rows_kept":44,"cut":false,"hidden":false,"merged":[[28,15,29,15],[30,15,31,15],[32,15,33,15],[9,15,10,15],[11,15,12,15],[13,15,14,15],[15,15,16,15],[17,15,18,15],[19,15,20,15],[22,15,23,15],[24,15,25,15],[26,15,27,15],[35,0,35,1],[37,0,37,1],[38,0,38,1],[39,0,39,1],[40,0,40,1],[41,0,41,1],[42,0,42,1],[43,0,43,1],[35,3,35,11],[37,3,37,11],[39,3,39,11],[38,3,38,11],[40,3,40,11],[41,3,41,11],[42,3,42,8],[43,3,43,8],[36,0,36,13],[34,0,34,13],[9,7,10,7],[9,8,10,8],[11,7,12,7],[11,8,12,8],[22,7,23,7],[22,8,23,8],[24,7,25,7],[24,8,25,8],[26,7,27,7],[26,8,27,8],[28,7,29,7],[28,8,29,8],[30,7,31,7],[30,8,31,8],[32,7,33,7],[32,8,33,8],[9,9,10,9],[11,9,12,9],[22,9,23,9],[24,9,25,9],[32,4,33,4],[32,5,33,5],[32,6,33,6],[32,10,33,10],[32,11,33,11],[32,12,33,12],[32,13,33,13],[30,9,31,9],[32,9,33,9],[28,4,29,4],[28,5,29,5],[28,6,29,6],[28,10,29,10],[28,11,29,11],[28,12,29,12],[28,13,29,13],[30,4,31,4],[30,5,31,5],[30,6,31,6],[30,10,31,10],[30,11,31,11],[30,12,31,12],[30,13,31,13],[26,9,27,9],[28,9,29,9],[24,4,25,4],[24,5,25,5],[24,6,25,6],[24,10,25,10],[24,11,25,11],[24,12,25,12],[24,13,25,13],[26,4,27,4],[26,5,27,5],[26,6,27,6],[26,10,27,10],[26,11,27,11],[26,12,27,12],[26,13,27,13],[21,0,21,13],[22,4,23,4],[22,5,23,5],[22,6,23,6],[22,10,23,10],[22,11,23,11],[22,12,23,12],[22,13,23,13],[22,0,25,1],[1,0,1,1],[2,0,2,1],[3,0,3,1],[6,0,7,0],[6,1,7,1],[6,2,7,2],[13,0,16,1],[13,4,14,4],[13,5,14,5],[5,0,5,13],[6,12,7,12],[6,13,7,13],[6,7,7,7],[6,8,7,8],[6,9,6,11],[8,0,8,13],[9,0,12,1],[9,4,10,4],[9,5,10,5],[9,6,10,6],[6,3,7,3],[6,4,6,5],[6,6,7,6],[9,10,10,10],[9,11,10,11],[9,12,10,12],[9,13,10,13],[11,4,12,4],[11,5,12,5],[11,6,12,6],[11,10,12,10],[11,11,12,11],[11,12,12,12],[11,13,12,13],[13,11,14,11],[13,12,14,12],[13,13,14,13],[15,4,16,4],[15,5,16,5],[15,6,16,6],[15,11,16,11],[15,12,16,12],[15,13,16,13],[15,7,16,7],[15,8,16,8],[15,9,16,9],[15,10,16,10],[13,10,14,10],[13,9,14,9],[13,8,14,8],[13,7,14,7],[13,6,14,6],[17,0,20,1],[17,4,18,4],[17,5,18,5],[17,6,18,6],[17,11,18,11],[17,12,18,12],[17,13,18,13],[19,4,20,4],[19,5,20,5],[19,6,20,6],[19,11,20,11],[19,12,20,12],[19,13,20,13],[17,7,18,7],[17,8,18,8],[17,9,18,9],[17,10,18,10],[19,7,20,7],[19,8,20,8],[19,9,20,9],[19,10,20,10]]}
[null,null,null,null,null,null,null,null,null,null,null,null,null,null,"На главную"]
[]
["Ваша скидка:",null,{"$f":"Содержание!D2","v":0},null,null,null,null,null,null,null,null,null,null,"На главную"]
["НДС:",null,{"$f":"IF(Лист2!A1=TRUE,\"С НДС\",\"БЕЗ НДС\")","v":"С НДС"}]
[]
["Охлаждаемые столы с боковым расположением агрегата"]
["№","Внешний вид","Наименование","С бортом/ без борта","Количество",null,"Стандарт\nGastronorm\nGN 1/1","Общий объём, л","Полезный объём, л","Габаритные размеры, мм",null,null,"Базовая цена, руб. (с НДС)",{"$f":"Лист2!$A$5","v":"Ваша цена, руб."}]
[null,null,null,null,"Ящиков","Дверей",null,null,null,"Длина","Ширина","Высота"]
["Холодильные столы с нержавеющей столешницей (температурный режим, °C +1…+10)"]
[null,null,"Шкаф-стол холодильный СШC-0,2 GN-1400","С бортом ",0,2,"+",305,220,1393,700,840,78937.84,{"$f":"ROUND(M10*(1-$C$3)/Лист2!$A$6,0)","v":78938}]
[null,null,"Шкаф-стол холодильный СШC-0,2 GNВ-1400","Без борта"]
[null,null,"Шкаф-стол холодильный СШС-0,2-1400","С бортом ",0,2,"-",255,200,1393,600,840,78514.64,{"$f":"ROUND(M12*(1-$C$3)/Лист2!$A$6,0)","v":78515}]
[null,null,"Шкаф-стол холодильный СШС-0,2 В-1400","Без борта"]
[null,null,"Шкаф-стол холодильный СШС-0,3 GN-1850","С бортом ",0,3,"+",465,310,1838,700,840,93059.840000000011,{"$f":"ROUND(M14*(1-$C$3)/Лист2!$A$6,0)","v":93060}]
[null,null,"Шкаф-стол холодильный СШС-0,3 GNВ-1850","Без борта"]
[null,null,"Шкаф-стол холодильный СШС-0,3-1850","С бортом ",0,3,"-",395,260,1838,600,840,92634.8,{"$f":"ROUND(M16*(1-$C$3)/Лист2!$A$6,0)","v":92635}]
[null,null,"Шкаф-стол холодильный СШС-0,3 В-1850","Без борта"]
[null,null,"Шкаф-стол холодильный СШС-0,4 GN-2300","С бортом ",0,4,"+",620,410,2283,700,840,112828.8,{"$f":"ROUND(M18*(1-$C$3)/Лист2!$A$6,0)","v":112829}]
[null,null,"Шкаф-стол холодильный СШС-0,4 GNВ-2300","Без борта"]
[null,null,"Шкаф-стол холодильный СШС-0,4-2300","С бортом ",0,4,"-",520,340,2283,600,840,112405.6,{"$f":"ROUND(M20*(1-$C$3)/Лист2!$A$6,0)","v":112406}]
[null,null,"Шкаф-стол холодильный СШС-0,4 В-2300","Без борта"]
["Морозильные столы с нержавеющей столешницей (температурный режим, °C -20…-10)"]
[null,null,"Шкаф-стол морозильный СШН-0,2 GN-1400","С бортом",0,2,"+",305,220,1393,700,840,91647.64,{"$f":"ROUND(M23*(1-$C$3)/Лист2!$A$6,0)","v":91648}]
[null,null,"Шкаф-стол морозильный СШН-0,2 GNВ-1400","Без борта"]
[null,null,"Шкаф-стол морозильный СШН-0,2-1400","С бортом",0,2,"-",255,200,1393,600,840,91223.52,{"$f":"ROUND(M25*(1-$C$3)/Лист2!$A$6,0)","v":91224}]
[null,null,"Шкаф-стол морозильный СШН-0,2 В-1400","Без борта"]
[null,null,"Шкаф-стол морозильный СШН-0,3 GN-1850","С бортом",0,3,"+",465,310,1838,700,840,117066.32,{"$f":"ROUND(M27*(1-$C$3)/Лист2!$A$6,0)","v":117066}]
[null,null,"Шкаф-стол морозильный СШН-0,3 GNВ-1850","Без борта"]
[null,null,"Шкаф-стол морозильный СШН-0,3-1850","С бортом",0,3,"-",395,260,1838,600,840,116642.20000000001,{"$f":"ROUND(M29*(1-$C$3)/Лист2!$A$6,0)","v":116642}]
[null,null,"Шкаф-стол морозильный СШН-0,3 В-1850","Без борта"]
[null,null,"Шкаф-стол морозильный СШН-0,4 GN-2300","С бортом",0,4,"+",620,410,2283,700,840,138247.48000000001,{"$f":"ROUND(M31*(1-$C$3)/Лист2!$A$6,0)","v":138247}]
[null,null,"Шкаф-стол морозильный СШН-0,4 GNВ-2300","Без борта"]
[null,null,"Шкаф-стол морозильный СШН-0,4-2300","С бортом",0,4,"-",520,340,2283,600,840,137823.36000000002,{"$f":"ROUND(M33*(1-$C$3)/Лист2!$A$6,0)","v":137823}]
[null,null,"Шкаф-стол морозильный СШН-0,4 В-2300","Без борта"]
["Модификации к холодильным/морозильным столам( добавить к стандартной стоимости изделия)"]
[null,null,"Замена стандартных ножек на колеса, 2 из них с тормозом",null,null,null,null,null,null,null,null,null,8218.36,{"$f":"ROUND(M36*(1-$C$3)/Лист2!$A$6,0)","v":8218}]
["Опции к холодильным/морозильным столам(поставляются отдельно)"]
[null,null,"Решетка защитаная для агрега из нержавеющей стали (84312), артикул СО.906.57.00.00",null,null,null,null,null,null,null,null,null,1867.6000000000001,{"$f":"ROUND(M38*(1-$C$3)/Лист2!$A$6,0)","v":1868}]
[null,null,"Полкодержатель слева (96480) для столов 700, артикул СО.979.03.0000.05",null,null,null,null,null,null,null,null,null,336.72,{"$f":"ROUND(M39*(1-$C$3)/Лист2!$A$6,0)","v":337}]
[null,null,"Полкодержатель справа (96481) для столов 700, артикул СО.979.03.0000.05mir",null,null,null,null,null,null,null,null,null,336.72,{"$f":"ROUND(M40*(1-$C$3)/Лист2!$A$6,0)","v":337}]
[null,null,"Полкодержатель слева (106969) для столов 700, артикул СО.906.03.0000.05",null,null,null,null,null,null,null,null,null,311.88,{"$f":"ROUND(M41*(1-$C$3)/Лист2!$A$6,0)","v":312}]
[null,null,"Полкодержатель справа (106970) для столов 700, артикул СО.906.03.0000.05mir",null,null,null,null,null,null,null,null,null,311.88,{"$f":"ROUND(M42*(1-$C$3)/Лист2!$A$6,0)","v":312}]
[null,null,"Полка решетчатая для столов 700, крашенная (100670), артикул СО.979.56.5000.01",null,null,null,null,null,null,332,570,"4(6)",1184.04,{"$f":"ROUND(M43*(1-$C$3)/Лист2!$A$6,0)","v":1184}]
[null,null,"Полка решетчатая для столов 600, крашенная (100671), артикул СО.906.56.5000.01",null,null,null,null,null,null,332,470,"4(6)",996.36,{"$f":"ROUND(M44*(1-$C$3)/Лист2!$A$6,0)","v":996}]

{"sheet":"Столы Italfrost с нижним","index":9,"n_rows":36,"n_cols":14,"rows_kept":36,"cut":false,"hidden":false,"merged":[[35,0,35,1],[35,3,35,8],[21,0,24,1],[29,3,29,11],[32,0,32,1],[32,3,32,11],[33,0,33,1],[33,3,33,11],[34,0,34,1],[34,3,34,8],[27,0,27,13],[28,0,28,1],[28,3,28,11],[30,0,30,1],[30,3,30,11],[31,0,31,1],[25,0,25,13],[23,10,24,10],[23,11,24,11],[23,12,24,12],[23,13,24,13],[31,3,31,11],[26,0,26,1],[26,3,26,11],[8,15,9,15],[10,15,11,15],[12,15,13,15],[14,15,15,15],[17,15,18,15],[19,15,20,15],[21,15,22,15],[23,15,24,15],[21,10,22,10],[21,11,22,11],[21,12,22,12],[21,13,22,13],[17,11,18,11],[17,12,18,12],[17,13,18,13],[16,0,16,13],[17,0,20,1],[17,4,18,4],[17,5,18,5],[17,6,18,6],[17,7,18,7],[19,10,20,10],[19,11,20,11],[19,12,20,12],[23,4,24,4],[23,5,24,5],[23,6,24,6],[23,7,24,7],[23,8,24,8],[23,9,24,9],[21,4,22,4],[21,5,22,5],[21,6,22,6],[21,7,22,7],[21,8,22,8],[21,9,22,9],[19,13,20,13],[19,4,20,4],[19,5,20,5],[19,6,20,6],[19,7,20,7],[19,8,20,8],[19,9,20,9],[17,8,18,8],[17,9,18,9],[17,10,18,10],[10,13,11,13],[14,9,15,9],[14,10,15,10],[14,11,15,11],[14,12,15,12],[14,13,15,13],[12,9,13,9],[12,10,13,10],[12,11,13,11],[12,12,13,12],[12,13,13,13],[8,12,9,12],[14,4,15,4],[14,5,15,5],[14,6,15,6],[14,7,15,7],[14,8,15,8],[10,10,11,10],[10,11,11,11],[10,12,11,12],[5,3,6,3],[5,4,5,5],[5,6,6,6],[5,7,6,7],[5,8,6,8],[5,9,5,11],[12,0,15,1],[12,4,13,4],[12,5,13,5],[12,6,13,6],[12,7,13,7],[12,8,13,8],[8,10,9,10],[8,11,9,11],[4,0,4,13],[0,0,0,1],[1,0,1,1],[2,0,2,1],[5,0,6,0],[5,1,6,1],[5,2,6,2],[8,13,9,13],[10,4,11,4],[10,5,11,5],[10,6,11,6],[10,7,11,7],[10,8,11,8],[10,9,11,9],[5,12,6,12],[5,13,6,13],[7,0,7,13],[8,0,11,1],[8,4,9,4],[8,5,9,5],[8,6,9,6],[8,7,9,7],[8,8,9,8],[8,9,9,9]]}
[]
["Ваша скидка:",null,{"$f":"Содержание!D2","v":0},null,null,null,null,null,null,null,null,null,null,"На главную"]
["НДС:",null,{"$f":"IF(Лист2!A1=TRUE,\"С НДС\",\"БЕЗ НДС\")","v":"С НДС"}]
[]
["Охлаждаемые столы с нижним расположением агрегата"]
["№","Внешний вид","Наименование","С бортом/ без борта","Количество",null,"Стандарт\nGastronorm\nGN 1/1","Общий объём, л","Полезный объём, л","Габаритные размеры, мм",null,null,"Базовая цена, руб. (с НДС)",{"$f":"Лист2!$A$5","v":"Ваша цена, руб."}]
[null,null,null,null,"Ящиков","Дверей",null,null,null,"Длина","Ширина","Высота"]
["Холодильные столы с нержавеющей столешницей (температурный режим, °C +1…+10)"]
[null,null,"Шкаф-стол холодильный СШС-0,2 GN-1000 NDSBS","С бортом ",0,2,"+",245,200,1000,700,865,72368.12000000001,{"$f":"ROUND(M9*(1-$C$2)/Лист2!$A$6,0)","v":72368}]
[null,null,"Шкаф-стол холодильный СШС-0,2 GN-1000 NDSFS","Без борта"]
[null,null,"Шкаф-стол холодильный СШС-0,2-1000 NDSBS","С бортом ",0,2,"-",205,165,1000,600,865,70104,{"$f":"ROUND(M11*(1-$C$2)/Лист2!$A$6,0)","v":70104}]
[null,null,"Шкаф-стол холодильный СШС-0,2-1000 NDSFS","Без борта"]
[null,null,"Шкаф-стол холодильный СШС-0,3 GN-1500 NDSBS","С бортом ",0,3,"+",375,260,1500,700,865,86982.32,{"$f":"ROUND(M13*(1-$C$2)/Лист2!$A$6,0)","v":86982}]
[null,null,"Шкаф-стол холодильный СШС-0,3 GN-1500 NDSFS","Без борта"]
[null,null,"Шкаф-стол холодильный СШС-0,3-1500 NDSBS","С бортом ",0,3,"-",315,215,1500,600,865,84717.28,{"$f":"ROUND(M15*(1-$C$2)/Лист2!$A$6,0)","v":84717}]
[null,null,"Шкаф-стол холодильный СШС-0,3-1500 NDSFS","Без борта"]
["Морозильные столы с нержавеющей столешницей (температурный режим, °C -20…-10)"]
[null,null,"Шкаф-стол морозильный СШН-0,2 GN-1000 NDSBS","С бортом",0,2,"+",245,200,1000,700,865,80906.64,{"$f":"ROUND(M18*(1-$C$2)/Лист2!$A$6,0)","v":80907}]
[null,null,"Шкаф-стол морозильный СШН-0,2 GN-1000 NDSFS","Без борта"]
[null,null,"Шкаф-стол морозильный СШН-0,2-1000 NDSBS","С бортом",0,2,"-",205,165,1000,600,865,78641.600000000006,{"$f":"ROUND(M20*(1-$C$2)/Лист2!$A$6,0)","v":78642}]
[null,null,"Шкаф-стол морозильный СШН-0,2-1000 NDSFS","Без борта"]
[null,null,"Шкаф-стол морозильный СШН-0,3 GN-1500 NDSBS","С бортом",0,3,"+",375,260,1500,700,865,102087.8,{"$f":"ROUND(M22*(1-$C$2)/Лист2!$A$6,0)","v":102088}]
[null,null,"Шкаф-стол морозильный СШН-0,3 GN-1500 NDSFS","Без борта"]
[null,null,"Шкаф-стол морозильный СШН-0,3-1500 NDSBS","С бортом",0,3,"-",315,215,1500,600,865,99822.760000000009,{"$f":"ROUND(M24*(1-$C$2)/Лист2!$A$6,0)","v":99823}]
[null,null,"Шкаф-стол морозильный СШН-0,3-1500 NDSFS","Без борта"]
["Модификации к холодильным/морозильным столам( добавить к стандартной стоимости изделия)"]
[null,null,"Замена стандартных ножек на колеса, 2 из них с тормозом",null,null,null,null,null,null,null,null,null,8218.36,{"$f":"ROUND(M27*(1-$C$2)/Лист2!$A$6,0)","v":8218}]
["Опции к холодильным/морозильным столам(поставляются отдельно)"]
[null,null,"Решетка защитаная для агрега из нержавеющей стали для 2-х секционного стола(135524), артикул СО.1499.57.00.00 ",null,null,null,null,null,null,null,null,null,1992.72,{"$f":"ROUND(M29*(1-$C$2)/Лист2!$A$6,0)","v":1993}]
[null,null,"Решетка защитаная для агрега из нержавеющей стали для 3-х секционного стола(135527), артикул СО.1503.57.00.00 ",null,null,null,null,null,null,null,null,null,2241.12,{"$f":"ROUND(M30*(1-$C$2)/Лист2!$A$6,0)","v":2241}]
[null,null,"Полкодержатель слева (96480) для столов 700, артикул СО.979.03.0000.05",null,null,null,null,null,null,null,null,null,336.72,{"$f":"ROUND(M31*(1-$C$2)/Лист2!$A$6,0)","v":337}]
[null,null,"Полкодержатель справа (96481) для столов 700, артикул СО.979.03.0000.05mir",null,null,null,null,null,null,null,null,null,336.72,{"$f":"ROUND(M32*(1-$C$2)/Лист2!$A$6,0)","v":337}]
[null,null,"Полкодержатель слева (106969) для столов 700, артикул СО.906.03.0000.05",null,null,null,null,null,null,null,null,null,311.88,{"$f":"ROUND(M33*(1-$C$2)/Лист2!$A$6,0)","v":312}]
[null,null,"Полкодержатель справа (106970) для столов 700, артикул СО.906.03.0000.05mir",null,null,null,null,null,null,null,null,null,311.88,{"$f":"ROUND(M34*(1-$C$2)/Лист2!$A$6,0)","v":312}]
[null,null,"Полка решетчатая для столов 700, крашенная (100670), артикул СО.979.56.5000.01",null,null,null,null,null,null,332,570,"4(6)",1184.04,{"$f":"ROUND(M35*(1-$C$2)/Лист2!$A$6,0)","v":1184}]
[null,null,"Полка решетчатая для столов 600, крашенная (100671), артикул СО.906.56.5000.01",null,null,null,null,null,null,332,470,"4(6)",996.36,{"$f":"ROUND(M36*(1-$C$2)/Лист2!$A$6,0)","v":996}]

{"sheet":"Витрины Cryspi БА","index":10,"n_rows":69,"n_cols":9,"rows_kept":69,"cut":false,"hidden":false,"merged":[[2,1,2,2],[3,1,3,2],[7,0,8,0],[7,1,8,1],[7,2,8,2],[6,1,6,7],[7,4,8,4],[7,5,8,5],[7,7,8,7],[7,3,8,3],[34,2,34,7],[30,2,30,7],[26,2,26,7],[9,6,9,7],[25,6,25,7],[25,1,25,2],[26,1,37,1],[22,2,22,7],[10,0,24,1],[18,2,18,7],[14,2,14,7],[10,2,10,7],[9,1,9,2],[41,6,41,7],[42,0,73,0],[42,1,66,1],[38,1,38,2],[39,1,40,1],[41,1,41,4],[62,2,62,7],[57,2,57,7],[52,2,52,7],[47,2,47,7],[42,2,42,7]]}
[null,null,null,null,null,null,null,null,"На главную"]
[]
[null,"Ваша скидка:",null,{"$f":"Содержание!D2","v":0}]
[null,"НДС:",null,{"$f":"IF(Лист2!A1=TRUE,\"С НДС\",\"БЕЗ НДС\")","v":"С НДС"}]
[]
[]
[null,"Витрины Cryspi без агрегата"]
["№",null,"Наименование","Температурный режим, C°","Площадь экспозиции, кв.м.","Габариты без боковин, мм (L/W/H)","Базовая \nцена, руб.\n(с НДС)",{"$f":"[6]Лист2!$A$5","v":"Ваша цена, руб."}]
[]
[1,"Витрины серии GAMMA-2, глубина выкладки 760 мм ",null,null,null,null,"Опции Gamma-2"]
[null,null,"Среднетемпературные витрины (без боковых панелей и боковых стекол)"]
[null,null,"Gamma-2 1200 БА ББ","0…+7",0.85,"1118х1093х1300",56549.64,{"$f":"ROUND(G12*(1-$D$3)/Лист2!$A$6,0)","v":56550}]
[null,null,"Gamma-2 1500 БА ББ","0…+7",1.1000000000000001,"1418х1093х1300",63488.280000000006,{"$f":"ROUND(G13*(1-$D$3)/Лист2!$A$6,0)","v":63488}]
[null,null,"Gamma-2 1800 БА ББ","0…+7",1.3,"1718х1093х1300",74152.92,{"$f":"ROUND(G14*(1-$D$3)/Лист2!$A$6,0)","v":74153}]
[null,null,"Средне-низкотемпературные витрины (без боковых панелей и боковых стекол)"]
[null,null,"Gamma-2 SN 1200 БА ББ","-6…+6",0.85,"1118х1093х1300",65239.040000000001,{"$f":"ROUND(G16*(1-$D$3)/Лист2!$A$6,0)","v":65239}]
[null,null,"Gamma-2 SN 1500 БА ББ","-6…+6",1.1000000000000001,"1418х1093х1300",71773.8,{"$f":"ROUND(G17*(1-$D$3)/Лист2!$A$6,0)","v":71774}]
[null,null,"Gamma-2 SN 1800 БА ББ","-6…+6",1.3,"1718х1093х1300",87792.840000000011,{"$f":"ROUND(G18*(1-$D$3)/Лист2!$A$6,0)","v":87793}]
[null,null,"Низкотемпературные витрины (без боковых панелей и боковых стекол)"]
[null,null,"Gamma-2 М 1200 БА ББ","от -18",0.85,"1118х1093х1300",71949.52,{"$f":"ROUND(G20*(1-$D$3)/Лист2!$A$6,0)","v":71950}]
[null,null,"Gamma-2 М 1500 БА ББ","от -18",1.1000000000000001,"1418х1093х1300",82380.48000000001,{"$f":"ROUND(G21*(1-$D$3)/Лист2!$A$6,0)","v":82380}]
[null,null,"Gamma-2 М 1800 БА ББ","от -18",1.3,"1718х1093х1300",92684.48000000001,{"$f":"ROUND(G22*(1-$D$3)/Лист2!$A$6,0)","v":92684}]
[null,null,"Угловые среднетемпературные и нейтральные витрины, кассовые прилавки"]
[null,null,"Gamma-2 OC 90 (угол внеш.) БА ББ","0…+7",0.92,"1130х1130х1300",90964.08,{"$f":"ROUND(G24*(1-$D$3)/Лист2!$A$6,0)","v":90964}]
[null,null,"Gamma-2 IC (угол внутр.) БА ББ","0…+7",0.74,"1295х1295х1300",97975.400000000009,{"$f":"ROUND(G25*(1-$D$3)/Лист2!$A$6,0)","v":97975}]
[2,"Витрины серии GAMMA Quadro LED, глубина выкладки 760 мм ",null,null,null,null,"Опции Gamma Quadro"]
[null,null,"Среднетемпературные витрины (без боковых панелей и боковых стекол)"]
[null,null,"Gamma Quadro 1200 LED БА ББ","0…+7",0.85,"1118х1093х1300",71967,{"$f":"ROUND(G28*(1-$D$3)/Лист2!$A$6,0)","v":71967}]
[null,null,"Gamma Quadro 1500 LED БА ББ","0…+7",1.1000000000000001,"1418х1093х1300",77591.88,{"$f":"ROUND(G29*(1-$D$3)/Лист2!$A$6,0)","v":77592}]
[null,null,"Gamma Quadro 1800 LED БА ББ","0…+7",1.3,"1718х1093х1300",90532.6,{"$f":"ROUND(G30*(1-$D$3)/Лист2!$A$6,0)","v":90533}]
[null,null,"Средне-низкотемпературные витрины (без боковых панелей и боковых стекол)"]
[null,null,"Gamma Quadro SN 1200 LED БА ББ","-6…+6",0.85,"1118х1093х1300",74915.600000000006,{"$f":"ROUND(G32*(1-$D$3)/Лист2!$A$6,0)","v":74916}]
[null,null,"Gamma Quadro SN 1500 LED БА ББ","-6…+6",1.1000000000000001,"1418х1093х1300",87779.040000000008,{"$f":"ROUND(G33*(1-$D$3)/Лист2!$A$6,0)","v":87779}]
[null,null,"Gamma Quadro SN 1800 LED БА ББ","-6…+6",1.3,"1718х1093х1300",100970.92,{"$f":"ROUND(G34*(1-$D$3)/Лист2!$A$6,0)","v":100971}]
[null,null,"Низкотемпературные витрины (без боковых панелей и боковых стекол)"]
[null,null,"Gamma Quadro M 1200 LED БА ББ","от -18",0.85,"1118х1093х1300",86855.360000000001,{"$f":"ROUND(G36*(1-$D$3)/Лист2!$A$6,0)","v":86855}]
[null,null,"Gamma Quadro M 1500 LED БА ББ","от -18",1.1000000000000001,"1418х1093х1300",100503.56,{"$f":"ROUND(G37*(1-$D$3)/Лист2!$A$6,0)","v":100504}]
[null,null,"Gamma Quadro M 1800 LED БА ББ","от -18",1.3,"1718х1093х1300",118788.56000000001,{"$f":"ROUND(G38*(1-$D$3)/Лист2!$A$6,0)","v":118789}]
[3,"Кондитерские витрины Elegia premium"]
[null,null,"Elegia Premium К 1240 БА","+1…+10",1.63,"1240х928х1400",121065.56000000001,{"$f":"ROUND(G40*(1-$D$3)/Лист2!$A$6,0)","v":121066}]
[null,null,"Elegia Premium К 940 БА","+1…+10",1.2,"940х928х1400",105507.44,{"$f":"ROUND(G41*(1-$D$3)/Лист2!$A$6,0)","v":105507}]
[4,"Витрины серии MAGNUM, глубина выкладки 860 мм",null,null,null,null,"Опции Magnum"]
[null,null,"Среднетемпературные"]
[null,null,"Magnum 1250 Д БА ББ","0…+7",1.075,"1250х1100х1225",90998.12000000001,{"$f":"ROUND(G44*(1-$D$3)/Лист2!$A$6,0)","v":90998}]
[null,null,"Magnum 1880 Д БА ББ","0…+7",1.62,"1880х1100х1225",125930.52,{"$f":"ROUND(G45*(1-$D$3)/Лист2!$A$6,0)","v":125931}]
[null,null,"Magnum 2500 Д БА ББ","0…+7",2.15,"2500х1100х1225",148220.28,{"$f":"ROUND(G46*(1-$D$3)/Лист2!$A$6,0)","v":148220}]
[null,null,"Magnum 3750 Д БА ББ","0…+7",3.22,"3750х1100х1225",189980.92,{"$f":"ROUND(G47*(1-$D$3)/Лист2!$A$6,0)","v":189981}]
[null,null,"Средне-низкотемпературные"]
[null,null,"Magnum SN 1250 Д БА ББ","-6…+6",1.075,"1250х1100х1225",99155.760000000009,{"$f":"ROUND(G49*(1-$D$3)/Лист2!$A$6,0)","v":99156}]
[null,null,"Magnum SN 1880 Д БА ББ","-6…+6",1.62,"1880х1100х1225",133650.24000000002,{"$f":"ROUND(G50*(1-$D$3)/Лист2!$A$6,0)","v":133650}]
[null,null,"Magnum SN 2500 Д БА ББ","-6…+6",2.15,"2500х1100х1225",164094.88,{"$f":"ROUND(G51*(1-$D$3)/Лист2!$A$6,0)","v":164095}]
[null,null,"Magnum SN 3750 Д БА ББ","-6…+6",3.22,"3750х1100х1225",216008.64,{"$f":"ROUND(G52*(1-$D$3)/Лист2!$A$6,0)","v":216009}]
[null,null,"Низкотемпературные"]
[null,null,"Magnum F 1250 Д БА ББ","-18...-15",1.075,"1250х1100х1225",110398.16,{"$f":"ROUND(G54*(1-$D$3)/Лист2!$A$6,0)","v":110398}]
[null,null,"Magnum F 1880 Д БА ББ","-18...-15",1.62,"1880х1100х1225",156038.44,{"$f":"ROUND(G55*(1-$D$3)/Лист2!$A$6,0)","v":156038}]
[null,null,"Magnum F 2500 Д БА ББ","-18...-15",2.15,"2500х1100х1225",179838.84,{"$f":"ROUND(G56*(1-$D$3)/Лист2!$A$6,0)","v":179839}]
[null,null,"Magnum F 3750 Д БА ББ","-18...-15",3.22,"3750х1100х1225",283967.2,{"$f":"ROUND(G57*(1-$D$3)/Лист2!$A$6,0)","v":283967}]
[null,null,"Среднетемпературные с низким стеклом"]
[null,null,"Magnum SG 1250 Д БА ББ","0…+7",1.075,"1250х1100х895",78018.760000000009,{"$f":"ROUND(G59*(1-$D$3)/Лист2!$A$6,0)","v":78019}]
[null,null,"Magnum SG 1880 Д БА ББ","0…+7",1.62,"1880х1100х895",105227.76000000001,{"$f":"ROUND(G60*(1-$D$3)/Лист2!$A$6,0)","v":105228}]
[null,null,"Magnum SG 2500 Д БА ББ","0…+7",2.15,"2500х1100х895",127295.8,{"$f":"ROUND(G61*(1-$D$3)/Лист2!$A$6,0)","v":127296}]
[null,null,"Magnum SG 3750 Д БА ББ","0…+7",3.22,"3750х1100х895",161784.76,{"$f":"ROUND(G62*(1-$D$3)/Лист2!$A$6,0)","v":161785}]
[null,null,"Угловые витрины"]
[null,null,"Magnum OC 90 Д БА ББ","0…+7",1.1919999999999999,"1360х1360х1225",165381.96000000002,{"$f":"ROUND(G64*(1-$D$3)/Лист2!$A$6,0)","v":165382}]
[null,null,"Magnum ОC SG 90 Д БА ББ","0…+7",1.1919999999999999,"1360х1360х897",128239.72,{"$f":"ROUND(G65*(1-$D$3)/Лист2!$A$6,0)","v":128240}]
[null,null,"Magnum IC 90 Д БА ББ","0…+7",1.08,"1313х1313х1225",160580.48000000001,{"$f":"ROUND(G66*(1-$D$3)/Лист2!$A$6,0)","v":160580}]
[null,null,"Magnum IC SG 90 Д БА ББ","0…+7",1.08,"1313х1313х897",151262.72,{"$f":"ROUND(G67*(1-$D$3)/Лист2!$A$6,0)","v":151263}]
[]
[null,null,null,null,null,"наверх"]

{"sheet":"Опции для витрин","index":11,"n_rows":241,"n_cols":5,"rows_kept":241,"cut":false,"hidden":false,"merged":[[175,4,179,10],[180,4,184,10],[185,4,189,10],[190,4,194,10],[195,4,199,10],[150,4,154,10],[155,4,159,10],[160,4,164,10],[165,4,169,10],[170,4,174,10],[1,1,1,2],[2,1,2,2],[3,1,3,2],[7,0,8,0],[7,1,8,1],[7,2,8,2],[6,1,6,3],[224,2,224,3],[221,0,223,3],[240,2,241,2],[7,3,8,3],[10,0,12,0],[14,0,58,0],[60,0,66,0],[9,2,9,3],[13,2,13,3],[59,2,59,3],[70,2,70,3],[149,2,149,3],[71,0,148,0]]}
[null,null,null,null,"В содержание"]
[]
[null,"Ваша скидка:",null,{"$f":"Содержание!D2","v":0}]
[null,"НДС:",null,{"$f":"IF(Лист2!A1=TRUE,\"С НДС\",\"БЕЗ НДС\")","v":"С НДС"}]
[]
[]
[null,"Опции для витрин Cryspi"]
["№","Название","Базовая \nцена, руб.\n(с НДС)",{"$f":"[5]Лист2!$A$5","v":"Ваша цена, руб."}]
[null,null,null,null,"Комментарий"]
[1,"Octava","Вернуться к прайсу Octava"]
[null,"Разделитель передвижной низкий(оргстекл) 343.55.00.00 для ВПС/ВПСН Octava",1019.36,{"$f":"ROUND(C11*(1-$D$3)/Лист2!$A$6,0)","v":1019}]
[null,"Разделитель передвижной высокий(оргстекл) 343.56.00.00 для ВПС/ВПСН Octava",1783.88,{"$f":"ROUND(C12*(1-$D$3)/Лист2!$A$6,0)","v":1784}]
[null,"Комплект полки навесной для весов 343.54.00.00 для ВПС/ВПСН/ВПН Octava",2962.4,{"$f":"ROUND(C13*(1-$D$3)/Лист2!$A$6,0)","v":2962}]
[2,"Gamma-2","Вернуться к прайсу Gamma-2"]
[null,"Комплект боковин 337.40.00.00 для ВПС/ВПСН Gamma 2",10226.720000000001,{"$f":"ROUND(C15*(1-$D$3)/Лист2!$A$6,0)","v":10227}]
[null,"Комплект боковин 350.40.00.00 для ВПН Gamma-2",10383.120000000001,{"$f":"ROUND(C16*(1-$D$3)/Лист2!$A$6,0)","v":10383}]
[null,"Комплект боковин 354.41.00.00 для КНП Gamma-2",8084.96,{"$f":"ROUND(C17*(1-$D$3)/Лист2!$A$6,0)","v":8085}]
[null,"Комплект боковин 391.40.00.00 для ВПВ Gamma-2",11201,{"$f":"ROUND(C18*(1-$D$3)/Лист2!$A$6,0)","v":11201}]
[null,"Комплект боковины левой 337.40.01.00 для ВПС/ВПСН Gamma-2",5113.3600000000006,{"$f":"ROUND(C19*(1-$D$3)/Лист2!$A$6,0)","v":5113}]
[null,"Комплект боковины правой 337.40.01.00-01 для ВПС/ВПСН Gamma-2",5113.3600000000006,{"$f":"ROUND(C20*(1-$D$3)/Лист2!$A$6,0)","v":5113}]
[null,"Комплект боковины левой 350.40.01.00 для ВПН Gamma-2",5192.4800000000005,{"$f":"ROUND(C21*(1-$D$3)/Лист2!$A$6,0)","v":5192}]
[null,"Комплект боковины правой 350.40.01.00-01 для ВПН Gamma-2",5192.4800000000005,{"$f":"ROUND(C22*(1-$D$3)/Лист2!$A$6,0)","v":5192}]
[null,"Комплект герметичного разделителя 337.83.00.00 для ВПС/ВПСН/ВПН Gamma-2",12374,{"$f":"ROUND(C23*(1-$D$3)/Лист2!$A$6,0)","v":12374}]
[null,"Комплект для рыбы и морепродуктов 865.60.00.00 для Gamma/Gamma Quadro 1200",8518.2800000000007,{"$f":"ROUND(C24*(1-$D$3)/Лист2!$A$6,0)","v":8518}]
[null,"Комплект для рыбы и морепродуктов 865.60.00.00-01 для Gamma/Gamma Quadro 1500",10773.2,{"$f":"ROUND(C25*(1-$D$3)/Лист2!$A$6,0)","v":10773}]
[null,"Комплект для рыбы и морепродуктов 865.60.00.00-02 для Gamma/Gamma Quadro 1800",12692,{"$f":"ROUND(C26*(1-$D$3)/Лист2!$A$6,0)","v":12692}]
[null,"Полка навесная 337.46.00.00 L=1200 для ВПС/ВПСН/ВПН Gamma-2",3786.7200000000003,{"$f":"ROUND(C27*(1-$D$3)/Лист2!$A$6,0)","v":3787},"Полка дополнительная для отдельно стоящей витрины"]
[null,"Полка навесная 337.46.00.00-01 L=1500 для ВПС/ВПСН/ВПН Gamma-2",4004.76,{"$f":"ROUND(C28*(1-$D$3)/Лист2!$A$6,0)","v":4005},"Полка дополнительная для отдельно стоящей витрины"]
[null,"Полка навесная 337.46.00.00-02 L=1800 для ВПС/ВПСН/ВПН Gamma-2",4226.4800000000005,{"$f":"ROUND(C29*(1-$D$3)/Лист2!$A$6,0)","v":4226},"Полка дополнительная для отдельно стоящей витрины"]
[null,"Разделитель передвижной низкий 337.47.00.00 для ВПС/ВПСН Gamma-2",506,{"$f":"ROUND(C30*(1-$D$3)/Лист2!$A$6,0)","v":506},"Из стекла!"]
[null,"Разделитель передвижной низкий из оргстекла 337.48.00.00 для ВПС/ВПСН Gamma-2",967.84,{"$f":"ROUND(C31*(1-$D$3)/Лист2!$A$6,0)","v":968}]
[null,"Разделитель передвижной высокий 337.49.00.00 для  ВПС/ВПСН Gamma-2",898.84,{"$f":"ROUND(C32*(1-$D$3)/Лист2!$A$6,0)","v":899},"Из стекла!"]
[null,"Разделитель передвижной высокий из оргстекла 337.53.00.00 для ВПС/ВПСН Gamma-2",3002.88,{"$f":"ROUND(C33*(1-$D$3)/Лист2!$A$6,0)","v":3003}]
[null,"Комплект соединительный 337.50.00.00 для ВПС/ВПСН/ВПН Gamma-2",3818.92,{"$f":"ROUND(C34*(1-$D$3)/Лист2!$A$6,0)","v":3819}]
[null,"Комплект соединительный 391.50.00.00 для ВПВ Gamma-2",6601.92,{"$f":"ROUND(C35*(1-$D$3)/Лист2!$A$6,0)","v":6602}]
[null,"Комплект полки навесной для весов 337.54.00.00 для ВПС/ВПСН/ВПН Gamma-2",4691.08,{"$f":"ROUND(C36*(1-$D$3)/Лист2!$A$6,0)","v":4691}]
[null,"Перемычка 337.60.00.00 для ВПС/ВПСН/ВПН Gamma-2",3481.28,{"$f":"ROUND(C37*(1-$D$3)/Лист2!$A$6,0)","v":3481}]
[null,"Доска навесная для нарезки 337.61.00.00 для ВПС/ВПСН/ВПН Gamma-2",7486.04,{"$f":"ROUND(C38*(1-$D$3)/Лист2!$A$6,0)","v":7486}]
[null,"Полка дополнительная 337.70.00.00 L=1200 для ВПС/ВПСН/ВПН Gamma-2",3736.1200000000003,{"$f":"ROUND(C39*(1-$D$3)/Лист2!$A$6,0)","v":3736},"Полка дополнительная (стыковка левым торцом)"]
[null,"Полка дополнительная 337.70.00.00-01 L=1500 для ВПС/ВПСН/ВПН Gamma-2",3955.0800000000004,{"$f":"ROUND(C40*(1-$D$3)/Лист2!$A$6,0)","v":3955},"Полка дополнительная (стыковка левым торцом)"]
[null,"Полка дополнительная 337.70.00.00-02 L=1800 для ВПС/ВПСН/ВПН Gamma-2",4174.96,{"$f":"ROUND(C41*(1-$D$3)/Лист2!$A$6,0)","v":4175},"Полка дополнительная (стыковка левым торцом)"]
[null,"Полка дополнительная 337.70.00.00-03 L=1200 для ВПС/ВПСН/ВПН Gamma-2",989.92000000000007,{"$f":"ROUND(C42*(1-$D$3)/Лист2!$A$6,0)","v":990},"Полка дополнительная (стыковка с двух сторон)"]
[null,"Полка дополнительная 337.70.00.00-04 L=1500 для ВПС/ВПСН/ВПН Gamma-2",1194.1600000000001,{"$f":"ROUND(C43*(1-$D$3)/Лист2!$A$6,0)","v":1194},"Полка дополнительная (стыковка с двух сторон)"]
[null,"Полка дополнительная 337.70.00.00-05 L=1800 для ВПС/ВПСН/ВПН Gamma-2",1473.8400000000001,{"$f":"ROUND(C44*(1-$D$3)/Лист2!$A$6,0)","v":1474},"Полка дополнительная (стыковка с двух сторон)"]
[null,"Полка дополнительная 337.70.00.00-06 L=1200 для ВПС/ВПСН/ВПН Gamma-2",3736.1200000000003,{"$f":"ROUND(C45*(1-$D$3)/Лист2!$A$6,0)","v":3736},"Полка дополнительная (стыковка правым торцом)"]
[null,"Полка дополнительная 337.70.00.00-07 L=1500 для ВПС/ВПСН/ВПН Gamma-2",3955.0800000000004,{"$f":"ROUND(C46*(1-$D$3)/Лист2!$A$6,0)","v":3955},"Полка дополнительная (стыковка правым торцом)"]
[null,"Полка дополнительная 337.70.00.00-08 L=1800 для ВПС/ВПСН/ВПН Gamma-2",4174.96,{"$f":"ROUND(C47*(1-$D$3)/Лист2!$A$6,0)","v":4175},"Полка дополнительная (стыковка правым торцом)"]
[null,"Подиум одноступенчатый 337.80.00.00 L=1200 для ВПС/ВПСН Gamma-2",2024.92,{"$f":"ROUND(C48*(1-$D$3)/Лист2!$A$6,0)","v":2025},"Комплект на витрину"]
[null,"Подиум одноступенчатый 337.80.00.00-01 L=1500 для ВПС/ВПСН Gamma-2",2411.3200000000002,{"$f":"ROUND(C49*(1-$D$3)/Лист2!$A$6,0)","v":2411},"Комплект на витрину"]
[null,"Подиум одноступенчатый 337.80.00.00-02 L=1800 для ВПС/ВПСН Gamma-2",3076.48,{"$f":"ROUND(C50*(1-$D$3)/Лист2!$A$6,0)","v":3076},"Комплект на витрину"]
[null,"Подиум одноступенчатый 351.80.00.00 OC 90 для ВПС Gamma-2",2546.56,{"$f":"ROUND(C51*(1-$D$3)/Лист2!$A$6,0)","v":2547},"Комплект на витрину"]
[null,"Подиум двухступенчатый 337.81.00.00 L=1200 для ВПС/ВПСН Gamma-2",4802.4000000000005,{"$f":"ROUND(C52*(1-$D$3)/Лист2!$A$6,0)","v":4802},"Комплект на витрину"]
[null,"Подиум двухступенчатый 337.81.00.00-01L=1500 для ВПС/ВПСН Gamma-2",5623.96,{"$f":"ROUND(C53*(1-$D$3)/Лист2!$A$6,0)","v":5624},"Комплект на витрину"]
[null,"Подиум двухступенчатый 337.81.00.00-02 L=1800 для ВПС/ВПСН Gamma-2",7259.72,{"$f":"ROUND(C54*(1-$D$3)/Лист2!$A$6,0)","v":7260},"Комплект на витрину"]
[null,"Подиум двухступенчатый 351.81.00.00 OC 90 для ВПС Gamma-2",5867.76,{"$f":"ROUND(C55*(1-$D$3)/Лист2!$A$6,0)","v":5868},"Комплект на витрину"]
[null,"Монтажный набор (до 4 кВт) 1106.120.00.00S для ВПВ/ВПС/ВПСН/ВПН",8312.2000000000007,{"$f":"ROUND(C56*(1-$D$3)/Лист2!$A$6,0)","v":8312}]
[null,"Опора гастроемкостей для витрин 337.85.00.00 L=1200 для ВПС/ВПСН Gamma-2",2485.84,{"$f":"ROUND(C57*(1-$D$3)/Лист2!$A$6,0)","v":2486}]
[null,"Опора гастроемкостей для витрин 337.85.00.00-01 L=1500 для ВПС/ВПСН Gamma-2",2776.56,{"$f":"ROUND(C58*(1-$D$3)/Лист2!$A$6,0)","v":2777}]
[null,"Опора гастроемкостей для витрин 337.85.00.00-02 L=1800 для ВПС/ВПСН Gamma-2",4102.28,{"$f":"ROUND(C59*(1-$D$3)/Лист2!$A$6,0)","v":4102}]
[3,"Gamma Quadro","Вернуться к прайсу Gamma Q"]
[null,"Комплект боковин 643.40.00.00 для ВПС/ВПСН GAMMA-2 Quadro",10722.6,{"$f":"ROUND(C61*(1-$D$3)/Лист2!$A$6,0)","v":10723}]
[null,"Комплект боковин 665.40.00.00 для ВПН GAMMA-2 Quadro",10887.28,{"$f":"ROUND(C62*(1-$D$3)/Лист2!$A$6,0)","v":10887}]
[null,"Комплект герметичного разделителя 643.83.00.00 для ВПС/ВПН/ВПСН GAMMA-2 Quadro",12973.84,{"$f":"ROUND(C63*(1-$D$3)/Лист2!$A$6,0)","v":12974}]
[null,"Комплект соединительный 643.50.00.00 для ВПС/ВПН/ВПСН GAMMA-2 Quadro",2760.92,{"$f":"ROUND(C64*(1-$D$3)/Лист2!$A$6,0)","v":2761}]
[null,"Разделитель передвижной высокий (стекло) 643.43.00.00 для ВПС/ВПН/ВПСН GAMMA-2 Quadro",1278.8,{"$f":"ROUND(C65*(1-$D$3)/Лист2!$A$6,0)","v":1279}]
[null,"Разделитель передвижной низкий (оргстекло) 643.42.00.00 для ВПС/ВПН/ВПСН GAMMA-2 Quadro",1061.68,{"$f":"ROUND(C66*(1-$D$3)/Лист2!$A$6,0)","v":1062}]
[null,"Разделитель передвижной низкий (стекло) 643.41.00.00 для ВПС/ВПН/ВПСН GAMMA-2 Quadro",680.80000000000007,{"$f":"ROUND(C67*(1-$D$3)/Лист2!$A$6,0)","v":681}]
[null,"Полка дополнительная 643.46.00.00 L=1200 для ВПС/ВПН/ВПСН GAMMA-2 Quadro",3338.6800000000003,{"$f":"ROUND(C68*(1-$D$3)/Лист2!$A$6,0)","v":3339}]
[null,"Полка дополнительная 643.46.00.00-01 L=1500 для ВПС/ВПН/ВПСН GAMMA-2 Quadro",3630.32,{"$f":"ROUND(C69*(1-$D$3)/Лист2!$A$6,0)","v":3630}]
[null,"Полка дополнительная 643.46.00.00-02 L=1800 для ВПС/ВПН/ВПСН GAMMA-2 Quadro",3903.56,{"$f":"ROUND(C70*(1-$D$3)/Лист2!$A$6,0)","v":3904}]
[4,"Magnum / Magnum ECO","Вернуться к прайсу Magnum"]
[null,"Боковина левая 312.05.00.00M для КНП Magnum",5531.04,{"$f":"ROUND(C72*(1-$D$3)/[7]Лист2!$A$6,0)","v":5531}]
[null,"Боковина правая 312.05.00.00-01M для КНП Magnum",5531.04,{"$f":"ROUND(C73*(1-$D$3)/[7]Лист2!$A$6,0)","v":5531}]
[null,"Комплект боковины левой 433.50.1000.00M для ВПС/ВПСН Magnum",6239.4400000000005,{"$f":"ROUND(C74*(1-$D$3)/[7]Лист2!$A$6,0)","v":6239}]
[null,"Комплект боковины правой 433.50.2000.00M для ВПС/ВПСН Magnum",6239.4400000000005,{"$f":"ROUND(C75*(1-$D$3)/[7]Лист2!$A$6,0)","v":6239}]
[null,"Комплект боковин 433.50.0000.00M для ВПС/ВПСН Magnum",12477.960000000001,{"$f":"ROUND(C76*(1-$D$3)/[7]Лист2!$A$6,0)","v":12478}]
[null,"Комплект боковины левой 302.50.01.00M для ВПН Magnum",7544.92,{"$f":"ROUND(C77*(1-$D$3)/[7]Лист2!$A$6,0)","v":7545}]
[null,"Комплект боковины правой 302.50.02.00M для ВПН Magnum",7544.92,{"$f":"ROUND(C78*(1-$D$3)/[7]Лист2!$A$6,0)","v":7545}]
[null,"Комплект боковин 302.50.00.00M для ВПН Magnum",15088,{"$f":"ROUND(C79*(1-$D$3)/[7]Лист2!$A$6,0)","v":15088}]
[null,"Комплект боковины левой 276.50.01.00M для ВПС Magnum SG",6239.4400000000005,{"$f":"ROUND(C80*(1-$D$3)/[7]Лист2!$A$6,0)","v":6239}]
[null,"Комплект боковины правой 276.50.02.00M для ВПС Magnum SG",6239.4400000000005,{"$f":"ROUND(C81*(1-$D$3)/[7]Лист2!$A$6,0)","v":6239}]
[null,"Комплект боковин 276.50.00.00M для ВПС Magnum SG",12477.960000000001,{"$f":"ROUND(C82*(1-$D$3)/[7]Лист2!$A$6,0)","v":12478}]
[null,"Комплект боковины левой  676.50.01.00 для ВПС/ВПСН Magnum Eco",6237.6,{"$f":"ROUND(C83*(1-$D$3)/[7]Лист2!$A$6,0)","v":6238}]
[null,"Комплект боковины правой  676.50.02.00 для ВПС/ВПСН Magnum Eco",6237.6,{"$f":"ROUND(C84*(1-$D$3)/[7]Лист2!$A$6,0)","v":6238}]
[null,"Доска навесная для весов 263.69.00.00M L=420 Magnum",7187.96,{"$f":"ROUND(C85*(1-$D$3)/[7]Лист2!$A$6,0)","v":7188}]
[null,"Доска навесная для нарезки 263.71.00.00 L=420 Magnum",9839.4,{"$f":"ROUND(C86*(1-$D$3)/[7]Лист2!$A$6,0)","v":9839}]
[null,"Комплект бампера 433.72.0000.00M L=1250 Magnum",3438.96,{"$f":"ROUND(C87*(1-$D$3)/[7]Лист2!$A$6,0)","v":3439}]
[null,"Комплект бампера 433.72.0000.00-01M L=1880 Magnum",5071.04,{"$f":"ROUND(C88*(1-$D$3)/[7]Лист2!$A$6,0)","v":5071}]
[null,"Комплект бампера 433.72.0000.00-02M L=2500 Magnum",5517.2400000000007,{"$f":"ROUND(C89*(1-$D$3)/[7]Лист2!$A$6,0)","v":5517}]
[null,"Комплект бампера 433.72.0000.00-03M L=3750 Magnum",7598.2800000000007,{"$f":"ROUND(C90*(1-$D$3)/[7]Лист2!$A$6,0)","v":7598}]
[null,"Комплект бампера 434.72.0000.00M Magnum OС 90",10196.36,{"$f":"ROUND(C91*(1-$D$3)/[7]Лист2!$A$6,0)","v":10196}]
[null,"Комплект бампера 436.72.0000.00M Magnum IС 90",8943.32,{"$f":"ROUND(C92*(1-$D$3)/[7]Лист2!$A$6,0)","v":8943}]
[null,"Вставка (для соед бампер в линию) ЛР 050.60.00.01 для ВПС/ВПСН/ВПН Magnum",322.92,{"$f":"ROUND(C93*(1-$D$3)/[7]Лист2!$A$6,0)","v":323}]
[null,"Комплект гидроамортизаторов 263.67.00.00M L=1250 Magnum",7094.12,{"$f":"ROUND(C94*(1-$D$3)/[7]Лист2!$A$6,0)","v":7094}]
[null,"Комплект гидроамортизаторов 263.67.00.00-01M L=1880 Magnum",13385.08,{"$f":"ROUND(C95*(1-$D$3)/[7]Лист2!$A$6,0)","v":13385}]
[null,"Комплект гидроамортизаторов 263.67.00.00-02M L=2500 Magnum",13385.08,{"$f":"ROUND(C96*(1-$D$3)/[7]Лист2!$A$6,0)","v":13385}]
[null,"Комплект гидроамортизаторов 263.67.00.00-03M L=3750 Magnum",19527.920000000002,{"$f":"ROUND(C97*(1-$D$3)/[7]Лист2!$A$6,0)","v":19528}]
[null,"Комплект гидроамортизаторов 268.67.00.00M Magnum IС 90",12651.84,{"$f":"ROUND(C98*(1-$D$3)/[7]Лист2!$A$6,0)","v":12652}]
[null,"Комплект гидроамортизаторов 267.67.00.00M Magnum OС 90",12651.84,{"$f":"ROUND(C99*(1-$D$3)/[7]Лист2!$A$6,0)","v":12652}]
[null,"Комплект для рыбы и морепродуктов 263.70.00.00M L=1250 Magnum",14145.92,{"$f":"ROUND(C100*(1-$D$3)/[7]Лист2!$A$6,0)","v":14146}]
[null,"Комплект для рыбы и морепродуктов 263.70.00.00-01M L=1880 Magnum",21892.32,{"$f":"ROUND(C101*(1-$D$3)/[7]Лист2!$A$6,0)","v":21892}]
[null,"Комплект соединительный 263.55.00.00M для ВПС/ВПСН/ВПН Magnum",1495.92,{"$f":"ROUND(C102*(1-$D$3)/[7]Лист2!$A$6,0)","v":1496}]
[null,"Комплект соединительный 276.55.00.00M для ВПС Magnum SG",1495.92,{"$f":"ROUND(C103*(1-$D$3)/[7]Лист2!$A$6,0)","v":1496}]
[null,"Комплект соединительный ( для установки витрин в линию) для ВПС/ВПСН/ВПН Magnum Eco",1495.92,{"$f":"ROUND(C104*(1-$D$3)/[7]Лист2!$A$6,0)","v":1496}]
[null,"Комплект шторок ночных 433.62.0000.00M L=1250 Magnum",2783.92,{"$f":"ROUND(C105*(1-$D$3)/[7]Лист2!$A$6,0)","v":2784}]
[null,"Комплект шторок ночных 433.62.0000.00-01M L=1880 Magnum",4168.5200000000004,{"$f":"ROUND(C106*(1-$D$3)/[7]Лист2!$A$6,0)","v":4169}]
[null,"Комплект шторок ночных 433.62.0000.00-02M L=2500 Magnum",5571.52,{"$f":"ROUND(C107*(1-$D$3)/[7]Лист2!$A$6,0)","v":5572}]
[null,"Комплект шторок ночных 433.62.0000.00-03M L=3750 Magnum",8346.24,{"$f":"ROUND(C108*(1-$D$3)/[7]Лист2!$A$6,0)","v":8346}]
[null,"Комплект шторок ночных 434.62.0000.00M Magnum OС 90",2809.6800000000003,{"$f":"ROUND(C109*(1-$D$3)/[7]Лист2!$A$6,0)","v":2810}]
[null,"Комплект шторок ночных 436.62.0000.00M Magnum IC 90",3791.32,{"$f":"ROUND(C110*(1-$D$3)/[7]Лист2!$A$6,0)","v":3791}]
[null,"Комплект шторок ночных 276.62.00.00M L=1250 Magnum SG",4443.6000000000004,{"$f":"ROUND(C111*(1-$D$3)/[7]Лист2!$A$6,0)","v":4444}]
[null,"Комплект шторок ночных 276.62.00.00-01M L=1880 Magnum SG",6659.88,{"$f":"ROUND(C112*(1-$D$3)/[7]Лист2!$A$6,0)","v":6660}]
[null,"Комплект шторок ночных 276.62.00.00-02M L=2500 Magnum SG",8890.880000000001,{"$f":"ROUND(C113*(1-$D$3)/[7]Лист2!$A$6,0)","v":8891}]
[null,"Комплект шторок ночных 276.62.00.00-03M L=3750 Magnum SG",13319.76,{"$f":"ROUND(C114*(1-$D$3)/[7]Лист2!$A$6,0)","v":13320}]
[null,"Комплект шторок ночных 295.70.00.00M Magnum ОC SG 90",6159.4000000000005,{"$f":"ROUND(C115*(1-$D$3)/[7]Лист2!$A$6,0)","v":6159}]
[null,"Комплект шторок ночных 297.70.00.00M Magnum IC SG 90 ",5517.2400000000007,{"$f":"ROUND(C116*(1-$D$3)/[7]Лист2!$A$6,0)","v":5517}]
[null,"Комплект подиума двухступ(нерж) 433.73.0000.00 L=1250 для ВПС/ВПСН/ВПН Magnum",3755.44,{"$f":"ROUND(C117*(1-$D$3)/[7]Лист2!$A$6,0)","v":3755},"ступенька на экспозиционную полку в витрине "]
[null,"Комплект подиума двухступ(нерж) 433.73.0000.00-01 L=1880 для ВПС/ВПСН/ВПН Magnum",4756.4000000000005,{"$f":"ROUND(C118*(1-$D$3)/[7]Лист2!$A$6,0)","v":4756},"ступенька на экспозиционную полку в витрине "]
[null,"Комплект подиума двухступ(нерж) 433.73.0000.00-02 L=2500 для ВПС/ВПСН/ВПН Magnum",7511.8,{"$f":"ROUND(C119*(1-$D$3)/[7]Лист2!$A$6,0)","v":7512},"ступенька на экспозиционную полку в витрине "]
[null,"Комплект подиума двухступ(нерж) 433.73.0000.00-03 L=3750 для ВПС/ВПСН/ВПН Magnum",11270,{"$f":"ROUND(C120*(1-$D$3)/[7]Лист2!$A$6,0)","v":11270},"ступенька на экспозиционную полку в витрине "]
[null,"Комплект подиума трехступ(нерж) 433.74.0000.00 L=1250 для ВПС/ВПСН/ВПН Magnum",8239.52,{"$f":"ROUND(C121*(1-$D$3)/[7]Лист2!$A$6,0)","v":8240},"2 ступеньки (низкая и высокая) на экспозиционную полку в витрине "]
[null,"Комплект подиума трехступ(нерж) 433.74.0000.00-01 L=1880 для ВПС/ВПСН/ВПН Magnum",10432.800000000001,{"$f":"ROUND(C122*(1-$D$3)/[7]Лист2!$A$6,0)","v":10433},"2 ступеньки (низкая и высокая) на экспозиционную полку в витрине "]
[null,"Комплект подиума трехступ(нерж) 433.74.0000.00-02 L=2500 для ВПС/ВПСН/ВПН Magnum",16480.88,{"$f":"ROUND(C123*(1-$D$3)/[7]Лист2!$A$6,0)","v":16481},"2 ступеньки (низкая и высокая) на экспозиционную полку в витрине "]
[null,"Комплект подиума трехступ(нерж) 433.74.0000.00-03 L=3750 для ВПС/ВПСН/ВПН Magnum",24722.240000000002,{"$f":"ROUND(C124*(1-$D$3)/[7]Лист2!$A$6,0)","v":24722},"2 ступеньки (низкая и высокая) на экспозиционную полку в витрине "]
[null,"Подиум трехступенчатый 268.59.00.00M Magnum IС 90",7869.68,{"$f":"ROUND(C125*(1-$D$3)/[7]Лист2!$A$6,0)","v":7870}]
[null,"Подиум трехступенчатый 267.59.00.00M Magnum OC 90",9447.48,{"$f":"ROUND(C126*(1-$D$3)/[7]Лист2!$A$6,0)","v":9447}]
[null,"Комплект герметичного разделителя 433.52.0000.00M Magnum",14869.960000000001,{"$f":"ROUND(C127*(1-$D$3)/[7]Лист2!$A$6,0)","v":14870}]
[null,"Комплект герметичного разделителя 449.52.0000.00M Magnum SG",11460.761999999999,{"$f":"ROUND(C128*(1-$D$3)/[7]Лист2!$A$6,0)","v":11461}]
[null,"Комплект герметичного разделителя 676.52.00.00 для ВПС/ВПСН/ВПН Magnum Eco",12063.960000000001,{"$f":"ROUND(C129*(1-$D$3)/[7]Лист2!$A$6,0)","v":12064}]
[null,"Разделитель передвижной 263.66.00.00M Magnum",1345.96,{"$f":"ROUND(C130*(1-$D$3)/[7]Лист2!$A$6,0)","v":1346}]
[null,"Разделитель передвижной низкий 263.68.00.00M Magnum",1086.52,{"$f":"ROUND(C131*(1-$D$3)/[7]Лист2!$A$6,0)","v":1087}]
[null,"Упаковка усиленная 263.21.00.00M L=1250 Magnum",6343.4000000000005,{"$f":"ROUND(C132*(1-$D$3)/[7]Лист2!$A$6,0)","v":6343}]
[null,"Упаковка усиленная 263.21.00.00-01M L=1880 Magnum",7314,{"$f":"ROUND(C133*(1-$D$3)/[7]Лист2!$A$6,0)","v":7314}]
[null,"Упаковка усиленная 263.21.00.00-02M L=2500 Magnum",8763.92,{"$f":"ROUND(C134*(1-$D$3)/[7]Лист2!$A$6,0)","v":8764}]
[null,"Упаковка усиленная 263.21.00.00-03M L=3750 Magnum",10844.960000000001,{"$f":"ROUND(C135*(1-$D$3)/[7]Лист2!$A$6,0)","v":10845}]
[null,"ТЭН оттайки испарителя 294.65.00.00M L=1250 для ВПС Magnum",2977.1200000000003,{"$f":"ROUND(C136*(1-$D$3)/[7]Лист2!$A$6,0)","v":2977}]
[null,"ТЭН оттайки испарителя 294.65.00.00-01M L=1880 для ВПС Magnum",4269.72,{"$f":"ROUND(C137*(1-$D$3)/[7]Лист2!$A$6,0)","v":4270}]
[null,"ТЭН оттайки испарителя 294.65.00.00-02M L=2500 для ВПС Magnum",4240.28,{"$f":"ROUND(C138*(1-$D$3)/[7]Лист2!$A$6,0)","v":4240}]
[null,"ТЭН оттайки испарителя 294.65.00.00-03M L=3750 для ВПС Magnum",6371.92,{"$f":"ROUND(C139*(1-$D$3)/[7]Лист2!$A$6,0)","v":6372}]
[null,"ТЭН оттайки испарителя 292.65.00.00M для ВПС Magnum IС 90",2988.1600000000003,{"$f":"ROUND(C140*(1-$D$3)/[7]Лист2!$A$6,0)","v":2988}]
[null,"ТЭН оттайки испарителя 282.65.00.00M для ВПС Magnum ОС 90",2988.1600000000003,{"$f":"ROUND(C141*(1-$D$3)/[7]Лист2!$A$6,0)","v":2988}]
[null,"Комплект полки дополнительной 433.80.00.00 L=1250 для ВПС/ВПСН/ВПН Magnum     \n",6176.88,{"$f":"ROUND(C142*(1-$D$3)/[7]Лист2!$A$6,0)","v":6177}]
[null,"Комплект полки дополнительной 433.80.00.00-01 L=1880 для ВПС/ВПСН/ВПН Magnum",9185.2800000000007,{"$f":"ROUND(C143*(1-$D$3)/[7]Лист2!$A$6,0)","v":9185}]
[null,"Комплект полки дополнительной 433.80.00.00-02 L=2500 для ВПС/ВПСН/ВПН Magnum",9616.76,{"$f":"ROUND(C144*(1-$D$3)/[7]Лист2!$A$6,0)","v":9617}]
[null,"Комплект полки дополнительной 433.80.00.00-03 L=3750 для ВПС/ВПСН/ВПН Magnum",12819.28,{"$f":"ROUND(C145*(1-$D$3)/[7]Лист2!$A$6,0)","v":12819}]
[null,"Полка навесная 676.55.00.00 L=1250 для ВПС/ВПСН/ВПН Magnum Eco     \n",4498.8,{"$f":"ROUND(C146*(1-$D$3)/[7]Лист2!$A$6,0)","v":4499}]
[null,"Полка навесная 676.55.00.00-01 L=1880 для ВПС/ВПСН/ВПН Magnum Eco",5890.76,{"$f":"ROUND(C147*(1-$D$3)/[7]Лист2!$A$6,0)","v":5891}]
[null,"Полка навесная 676.55.00.00-02 L=2500 для ВПС/ВПСН/ВПН Magnum Eco ",7302.96,{"$f":"ROUND(C148*(1-$D$3)/[7]Лист2!$A$6,0)","v":7303}]
[null,"Полка навесная 676.55.00.00-03 L=3750 для ВПС/ВПСН/ВПН Magnum Eco",8955.2800000000007,{"$f":"ROUND(C149*(1-$D$3)/[7]Лист2!$A$6,0)","v":8955}]
[5,"MAGNUM Quadro","Вернуться к прайсу Magnum Q"]
[null,"Комплект общей подсветки для Magnum Quadro L=1250 мм",1948.2808784410822,{"$f":"C151*(1-$D$3)","v":1948.2808784410822},"Спектр освещения определяется характеристикой  (пятый символ, \"1\" - 6000К, \"2\" -  4000К, \"3\" - 3000 К, \"М\" -  мясной)"]
[null,"Комплект общей подсветки для Magnum Quadro L=1875 мм",2898.53508672,{"$f":"C152*(1-$D$3)","v":2898.53508672}]
[null,"Комплект общей подсветки для Magnum Quadro L=2500 мм",2898.53508672,2898.53508672]
[null,"Комплект общей подсветки для Magnum Quadro OC90",2922.4213176616231,2922.4213176616231]
[null,"Комплект общей подсветки для Magnum Quadro  IC90",1753.4527905969742,1753.4527905969742]
[null,"Комплект декоративной фронтальной панели металлической узкой L=1250 мм",2821.8911301000007,2821.8911301000007,"Восьмой символ характеристики - ВХХХХ, где ХХХХ цвет со структурой, пример - В7016гл"]
[null,"Комплект декоративной фронтальной панели металлической узкой L=1875 мм",4027.2915387600005,4027.2915387600005]
[null,"Комплект декоративной фронтальной панели металлической узкой L=2500 мм",4800.6987373800011,4800.6987373800011]
[null,"Комплект декоративной фронтальной панели металлической узкой OC90",4812.1256545488013,4812.1256545488013]
[null,"Комплект декоративной фронтальной панели металлической узкой IC90",2962.9856866050013,2962.9856866050013]
[null,"Комплект декоративной фронтальной панели металлической узкой с отбойником L=1250 мм",4515.0258081600014,4515.0258081600014,"Восьмой символ характеристики - DХХХХ, где ХХХХ цвет со структурой, пример - D7016гл"]
[null,"Комплект декоративной фронтальной панели металлической узкой с отбойником  L=1875 мм",6443.6664620160009,6443.6664620160009]
[null,"Комплект декоративной фронтальной панели металлической узкой с отбойником  L=2500 мм",7681.117979808002,7681.117979808002]
[null,"Комплект декоративной фронтальной панели металлической узкой с отбойником  OC90",7699.4010472780828,7699.4010472780828]
[null,"Комплект декоративной фронтальной панели металлической узкой с отбойником  IC90",4740.7770985680017,4740.7770985680017]
[null,"Комплект декоративной фронтальной панели металлической широкой  L=1250 мм",3047.6424205080011,3047.6424205080011,"Восьмой символ характеристики - AХХХХ, где ХХХХ цвет со структурой, пример - A7016гл"]
[null,"Комплект декоративной фронтальной панели металлической широкой  L=1875 мм",4349.4748618608019,4349.4748618608019]
[null,"Комплект декоративной фронтальной панели металлической широкой  L=2500 мм",5184.7546363704014,5184.7546363704014]
[null,"Комплект декоративной фронтальной панели металлической широкой для OC90",5197.0957069127044,5197.0957069127044]
[null,"Комплект декоративной фронтальной панели металлической широкой для IC90",3200.0245415334011,3200.0245415334011]
[null,"Комплект декоративной фронтальной панели металлической широкой с отбойником  L=1250 мм",4876.2278728128022,4876.2278728128022,"Восьмой символ характеристики - СХХХХ, где ХХХХ цвет со структурой, пример - С7016гл"]
[null,"Комплект декоративной фронтальной панели металлической широкой с отбойником  L=1875 мм",6959.1597789772832,6959.1597789772832]
[null,"Комплект декоративной фронтальной панели металлической широкой с отбойником  L=2500 мм",8295.6074181926433,8295.6074181926433]
[null,"Комплект декоративной фронтальной панели металлической широкой с отбойником для OC90",8315.3531310603285,8315.3531310603285]
[null,"Комплект декоративной фронтальной панели металлической широкой с отбойником для IC90",5120.039266453442,5120.039266453442]
[null,"Комплект декоративной фронтальной панели металлической узкой L=1250 мм, ЛДСП",5079.4040341800019,5079.4040341800019,"Расшифровка характеристик ЛДСП (нажать)"]
[null,"Комплект декоративной фронтальной панели металлической узкой L=1875 мм, ЛДСП",7249.124769768001,7249.124769768001]
[null,"Комплект декоративной фронтальной панели металлической узкой L=2500 мм, ЛДСП",8641.2577272840026,8641.2577272840026]
[null,"Комплект декоративной фронтальной панели металлической узкой OC90, ЛДСП",8661.8261781878427,8661.8261781878427]
[null,"Комплект декоративной фронтальной панели металлической узкой IC90, ЛДСП",5333.3742358890022,5333.3742358890022]
[null,"Комплект декоративной фронтальной панели металлической узкой с отбойником L=1250 мм, ЛДСП",6772.5387122400016,6772.5387122400016,"Расшифровка характеристик ЛДСП (нажать)"]
[null,"Комплект декоративной фронтальной панели металлической узкой с отбойником  L=1875 мм, ЛДСП",9665.4996930240013,9665.4996930240013]
[null,"Комплект декоративной фронтальной панели металлической узкой с отбойником  L=2500 мм, ЛДСП",11521.676969712002,11521.676969712002]
[null,"Комплект декоративной фронтальной панели металлической узкой с отбойником  OC90, ЛДСП",11549.101570917124,11549.101570917124]
[null,"Комплект декоративной фронтальной панели металлической узкой с отбойником  IC90, ЛДСП",7111.1656478520035,7111.1656478520035]
[null,"Комплект декоративной фронтальной панели металлической широкой  L=1250 мм, ЛДСП",5485.7563569144031,5485.7563569144031,"Расшифровка характеристик ЛДСП (нажать)"]
[null,"Комплект декоративной фронтальной панели металлической широкой  L=1875 мм, ЛДСП",7829.054751349443,7829.054751349443]
[null,"Комплект декоративной фронтальной панели металлической широкой  L=2500 мм, ЛДСП",9332.558345466723,9332.558345466723]
[null,"Комплект декоративной фронтальной панели металлической широкой для OC90, ЛДСП",9354.7722724428677,9354.7722724428677]
[null,"Комплект декоративной фронтальной панели металлической широкой для IC90, ЛДСП",5760.0441747601217,5760.0441747601217]
[null,"Комплект декоративной фронтальной панели металлической широкой с отбойником  L=1250 мм, ЛДСП",7314.3418092192032,7314.3418092192032,"Расшифровка характеристик ЛДСП (нажать)"]
[null,"Комплект декоративной фронтальной панели металлической широкой с отбойником  L=1875 мм, ЛДСП",10438.739668465925,10438.739668465925]
[null,"Комплект декоративной фронтальной панели металлической широкой с отбойником  L=2500 мм, ЛДСП",12443.411127288964,12443.411127288964]
[null,"Комплект декоративной фронтальной панели металлической широкой с отбойником для OC90, ЛДСП",12473.029696590491,12473.029696590491]
[null,"Комплект декоративной фронтальной панели металлической широкой с отбойником для IC90, ЛДСП",7680.0588996801634,7680.0588996801634]
[null,"Система выпаривания конденсата для Magnum Quadro L=1250 мм",3220,3220,"Применение выпаривателя определяется характеристикой                                                                                   (шестой символ, \"V0\" - без выпаривателя, \"V1\" - выпариватель применен)"]
[null,"Система выпаривания конденсата для Magnum Quadro L=1875 мм",5474,5474]
[null,"Система выпаривания конденсата для Magnum Quadro L=2500 мм",7212.8,7212.8]
[null,"Система выпаривания конденсата для Magnum Quadro OC90",5474,5474]
[null,"Система выпаривания конденсата для Magnum Quadro IC90",2898,2898]
[null,"Комплект боковины левой под узкую фронтальную панель Magnum Quadro",6563.483611018426,6563.483611018426,"1007.48.00.00"]
[null,"Комплект боковины правой под узкую фронтальную панель Magnum Quadro",6563.483611018426,6563.483611018426,"1007.48.00.00mir"]
[null,"Комплект боковины левой под узкую фронтальную панель Magnum Quadro Self",6249.7457285227147,6249.7457285227147,"1013.48.00.00"]
[null,"Комплект боковины правой под узкую фронтальную панель Magnum Quadro Self",6249.7457285227147,6249.7457285227147,"1013.48.00.00mir"]
[null,"Комплект боковины левой под широкую фронтальную панель Magnum Quadro",6908.930116861502,6908.930116861502,"1007.50.00.00"]
[null,"Комплект боковины правой под широкую фронтальную панель Magnum Quadro",6908.930116861502,6908.930116861502,"1007.50.00.00mir"]
[null,"Комплект боковины левой под широкую фронтальную панель Magnum Quadro Self",6578.6797142344367,6578.6797142344367,"1013.50.00.00"]
[null,"Комплект боковины правой под широкую фронтальную панель Magnum Quadro Self",6578.6797142344367,6578.6797142344367,"1013.50.00.00mir"]
[null,"Компллект соединительный для стыковки в линию витрин (все модификации)",1093.6942666224322,1093.6942666224322,"1007.56.00.00"]
[null,"Делитель внутреннего объема передвижной низкий",1753.5208257000004,1753.5208257000004,"1007.41.00.00"]
[null,"Делитель внутреннего объема передвижной высокий",3217.0052484155904,3217.0052484155904,"1007.42.00.00"]
[null,"Комплект герметичного разделителя под узкую панель (орг.стекло)",11905.361261640004,11905.361261640004,"1007.44.00.00"]
[null,"Комплект герметичного разделителя под широкую панель (орг.стекло)",13226.888877300002,13226.888877300002,"1007.43.00.00"]
[null,"Подиум трехступенчатый (нержавейка)  L=1250",8239.52,8239.52,"433.74.0000.00"]
[null,"Подиум трехступенчатый (нержавейка)  L=1880",10432.800000000001,10432.800000000001,"433.74.0000.00-01"]
[null,"Подиум трехступенчатый (нержавейка)  L=2500",16480.88,{"$f":"C216*(1-$D$3)","v":16480.88},"433.74.0000.00-02"]
[null,"Подиум трехступенчатый ( шлиф нерж.)",7869.68,7869.68,"267.59.00.00"]
[null,"Подиум трехступенчатый ( шлиф нерж.)",9447.48,9447.48,"268.59.00.00"]
[null,"Доска навесная для весов 420х312",7187.96,7187.96,"263.69.00.00"]
[null,"Доска навесная для нарезки 420х312",9839.4,9839.4,"263.71.00.00"]
[]
["Опции для кондитерских витрин"]
[]
[]
[6,"Опции для витрин Adagio/Adagio LX","Вернуться к прайсу Adagio"]
[null,"Комлект освещения (все полки) 900 мм нейтральный (4500К)",4356.66,{"$f":"C226*(1-$D$3)","v":4356.66}]
[null,"Комлект освещения (все полки) 1300 мм нейтральный (4500К)",6152.9600000000009,{"$f":"C227*(1-$D$3)","v":6152.9600000000009}]
[null,"Комлект освещения (все полки) 900 мм теплый (2700К)",4574.24,4574.24]
[null,"Комлект освещения (все полки) 1300 мм теплый (2700К)",6460.6080000000011,6460.6080000000011]
[null,"Комплект декоративных фронтальных панелей для КНП ADAGIO 600 металл",2963.9456000000005,2963.9456000000005]
[null,"Комплект декоративных фронтальных панелей для КНП ADAGIO 900 металл",5927.2840000000006,5927.2840000000006]
[null,"Комплект декоративных фронтальных панелей для КНП ADAGIO 600 ЛДСП",4939.6732000000002,4939.6732000000002]
[null,"Комплект декоративных фронтальных панелей для КНП ADAGIO 900 ЛДСП",7056.6760000000004,7056.6760000000004]
[null,"Декоративная  фронтальная панель металлическая 900 для витрин Adagio/Adagio LX",4234.2080000000005,4234.2080000000005]
[null,"Декоративная фронтальная панель металлическая 1300 для витрин Adagio/Adagio LX",5927.2840000000006,5927.2840000000006]
[null,"Декоративная фронтальная панель ЛДСП 900 для витрин Adagio/Adagio LX",7056.6760000000004,7056.6760000000004]
[null,"Декоративная фронтальная панель ЛДСП 1300 для витрин Adagio/Adagio LX",9879.1440000000002,9879.1440000000002]
[]
[]
[]
[null,null,"НАВЕРХ"]

{"sheet":"Опции для горок","index":12,"n_rows":272,"n_cols":8,"rows_kept":272,"cut":false,"hidden":false,"merged":[[236,0,236,6],[214,7,215,10],[222,0,222,6],[225,0,225,6],[227,0,227,6],[233,0,233,6],[220,3,221,4],[214,0,214,6],[215,0,215,6],[216,0,216,6],[217,2,218,4],[219,0,219,6],[170,0,170,6],[174,0,174,6],[179,0,179,6],[192,0,192,6],[204,0,204,6],[128,7,129,10],[163,0,163,6],[134,0,134,6],[135,2,137,4],[138,0,138,6],[139,3,147,4],[148,0,148,6],[149,3,150,4],[152,3,153,4],[155,3,156,4],[157,0,157,6],[159,0,159,6],[161,0,161,6],[131,2,133,4],[130,0,130,6],[64,0,64,6],[66,0,66,6],[76,0,76,6],[83,0,83,6],[92,0,92,6],[1,1,1,2],[2,1,2,2],[3,1,3,2],[154,0,154,6],[151,0,151,6],[6,0,6,6],[16,0,16,6],[8,0,8,6],[9,0,9,6],[10,0,10,6],[11,2,14,4],[15,0,15,6],[61,0,61,6],[17,3,20,4],[22,2,25,4],[26,0,26,6],[8,7,9,10],[27,3,42,4],[43,0,43,6],[44,3,47,4],[48,0,48,6],[258,1,258,4],[257,1,257,4],[271,5,273,5],[7,0,7,6],[127,0,127,6],[213,0,213,6],[230,0,230,6],[247,0,247,6],[49,3,52,4],[53,0,53,6],[54,3,57,4],[58,0,58,6],[106,0,106,6],[118,0,118,6],[128,0,128,6],[129,0,129,6],[254,7,255,10],[256,1,256,4],[254,1,254,6],[255,1,255,4],[270,1,270,4],[269,1,269,4],[268,1,268,4],[267,1,267,4],[266,1,266,4],[265,1,265,4],[264,1,264,4],[263,1,263,4],[262,1,262,4],[261,1,261,4],[260,1,260,4],[259,1,259,4]]}
[null,null,null,null,"В содержание"]
[]
[null,"Ваша скидка:",null,{"$f":"Содержание!D2","v":0}]
[null,"НДС:",null,{"$f":"IF(Лист2!A1=TRUE,\"С НДС\",\"БЕЗ НДС\")","v":"С НДС"}]
[]
[]
["Опции для витрин Cryspi"]
["Solo L7, Solo L9"]
["Обязательные опции для базовой комплектации Solo. Дополнительные опции для гастрономической комплектации Solo. ",null,null,null,null,null,null,"вернуться к прайсу стеллажей"]
["Общее освещение"]
["                                                                                               Нейтральный свет (4000-4500К) подходит всем товарным категориям (не искажает натуральный цвет продуктов).                                                                                                                                           Тёплый свет (2700-3000К) подходит категории \"Фрукты, овощи, сыры\" (категория выглядит ярче, насыщеннее).                                                                                     Мясной свет подходит категории \"Мясо, мясная гастрономия\" (категория выглядит ярче, насыщеннее)"]
[1,"Комплект общей подсветки стеллажа Т8 1004.15.02.00-01 L=1250 для Solo L","Спектр освещения определяется характеристикой (третий символ, \"1\" - 3000К, \"2\" -  4000К, \"М\" -  мясной)",null,null,1948.2808784410822,{"$f":"ROUND(F12*(1-$D$3)/Лист2!$A$6,0)","v":1948}]
[2,"Комплект общей подсветки стеллажа Т8 1004.15.02.00-02 L=1500 для Solo L",null,null,null,2585.4330429413044,{"$f":"ROUND(F13*(1-$D$3)/Лист2!$A$6,0)","v":2585}]
[3,"Комплект общей подсветки стеллажа Т8 1004.15.02.00-03 L=1875 для Solo L",null,null,null,2898.53508672,{"$f":"ROUND(F14*(1-$D$3)/Лист2!$A$6,0)","v":2899}]
[4,"Комплект общей подсветки стеллажа Т8 1004.15.02.00-04 L=2500 для Solo L",null,null,null,2898.53508672,{"$f":"ROUND(F15*(1-$D$3)/Лист2!$A$6,0)","v":2899}]
["Дополнительные опции для Solo"]
["Вертикальная подсветка для DG"]
[{"$f":"A15+1","v":5},"Комплект вертикальной подсветки Т8 1004.95.00.00-01  L=1250 для Solo L DG","1004.95.00.00-01","Спектр освещения определяется отдельной опцией в заказе, спектр определяется характеристикой                                                                                   (\"1\"- 3000К, \"2\" -  4000К, \"М\" мясной)",null,3896.5617568821644,{"$f":"ROUND(F18*(1-$D$3)/Лист2!$A$6,0)","v":3897}]
[{"$f":"A18+1","v":6},"Комплект вертикальной подсветки Т8 1004.95.00.00-02  L=1500 для Solo L DG","1004.95.00.00-02",null,null,5455.1864596350297,{"$f":"ROUND(F19*(1-$D$3)/Лист2!$A$6,0)","v":5455}]
[{"$f":"A19+1","v":7},"Комплект вертикальной подсветки Т8 1004.95.00.00-03  L=1875 для Solo L DG","1004.95.00.00-03",null,null,6234.4988110114637,{"$f":"ROUND(F20*(1-$D$3)/Лист2!$A$6,0)","v":6234}]
[{"$f":"A20+1","v":8},"Комплект вертикальной подсветки Т8 1004.95.00.00-04  L=2500 для Solo L DG","1004.95.00.00-04",null,null,7793.1235137643289,{"$f":"ROUND(F21*(1-$D$3)/Лист2!$A$6,0)","v":7793}]
[]
[{"$f":"A21+1","v":9},"Система выпаривания конденсата для стеллажа Solo длиной 1250 мм","Применение выпаривателя определяется характеристикой                                                                (восьмой символ, \"0\" -без выпаривателя, \"V\" - выпариватель применен)",null,null,3220,{"$f":"ROUND(F23*(1-$D$3)/Лист2!$A$6,0)","v":3220}]
[{"$f":"A23+1","v":10},"Система выпаривания конденсата для стеллажа Solo длиной 1500 мм",null,null,null,4508,{"$f":"ROUND(F24*(1-$D$3)/Лист2!$A$6,0)","v":4508}]
[{"$f":"A24+1","v":11},"Система выпаривания конденсата для стеллажа Solo длиной 1875 мм",null,null,null,5474,{"$f":"ROUND(F25*(1-$D$3)/Лист2!$A$6,0)","v":5474}]
[12,"Система выпаривания конденсата для стеллажа Solo длиной 2500 мм",null,null,null,7212.8,{"$f":"ROUND(F26*(1-$D$3)/Лист2!$A$6,0)","v":7213}]
["Подсветка полок (универсальная для полок разной глубины - 300, 400, 500 мм)                                                                                                                                                                                                                                           Нейтральный свет (4000-4500К) подходит всем товарным категориям (не искажает натуральный цвет продуктов).                                                                                                                                                                                           Тёплый свет (2700-3000К) подходит категории \"Фрукты, овощи, сыры\" (категория выглядит ярче, насыщеннее).                                                                                                                                                                                                 Мясной свет подходит категории \"Мясо, мясная гастрономия\" (категория выглядит ярче, насыщеннее)"]
[{"$f":"A26+1","v":13},"Комплект подсветки полок (3 ряда) Т8 1004.99.00.00-01 L=1250 для Solo L","1004.99.00.00-01","Спектр освещения определяется характеристикой                                        (третий символ, \"1\" - 3000К, \"2\" -  4000К, \"М\" - мясной)",null,4995.6837500742486,{"$f":"ROUND(F28*(1-$D$3)/Лист2!$A$6,0)","v":4996}]
[{"$f":"A28+1","v":14},"Комплект подсветки полок (3 ряда) Т8 1004.99.00.00-02 L=1500 для Solo L","1004.99.00.00-02",null,null,8365.0363914417339,{"$f":"ROUND(F29*(1-$D$3)/Лист2!$A$6,0)","v":8365}]
[15,"Комплект подсветки полок (3 ряда) Т8 1004.99.00.00-03 L=1875 для Solo L","1004.99.00.00-03",null,null,9049.1756770231768,{"$f":"ROUND(F30*(1-$D$3)/Лист2!$A$6,0)","v":9049}]
[16,"Комплект подсветки полок (3 ряда) Т8 1004.99.00.00-04 L=2500 для Solo L","1004.99.00.00-04",null,null,13098.66678943654,{"$f":"ROUND(F31*(1-$D$3)/Лист2!$A$6,0)","v":13099}]
[17,"Комплект подсветки полок (4 ряда) Т8 1004.100.00.00-01 L=1250 для Solo L","1004.100.00.00-01",null,null,5742.1652299704001,{"$f":"ROUND(F32*(1-$D$3)/Лист2!$A$6,0)","v":5742}]
[18,"Комплект подсветки полок (4 ряда) Т8 1004.100.00.00-02 L=1500 для Solo L","1004.100.00.00-02",null,null,9614.9843579790031,{"$f":"ROUND(F33*(1-$D$3)/Лист2!$A$6,0)","v":9615}]
[19,"Комплект подсветки полок (4 ряда) Т8 1004.100.00.00-03 L=1875 для Solo L","1004.100.00.00-03",null,null,10401.351352900203,{"$f":"ROUND(F34*(1-$D$3)/Лист2!$A$6,0)","v":10401}]
[20,"Комплект подсветки полок (4 ряда) Т8 1004.100.00.00-03 L=2500 для Solo L","1004.100.00.00-04",null,null,15055.938838432805,{"$f":"ROUND(F35*(1-$D$3)/Лист2!$A$6,0)","v":15056}]
[21,"Комплект подсветки полок (5 рядов) Т8 1004.101.00.00-01 L=1250 для Solo L","1004.101.00.00-01",null,null,6775.7549713650724,{"$f":"ROUND(F36*(1-$D$3)/Лист2!$A$6,0)","v":6776}]
[22,"Комплект подсветки полок (5 рядов) Т8 1004.101.00.00-02 L=1500 для Solo L","1004.101.00.00-02",null,null,11345.681542415223,{"$f":"ROUND(F37*(1-$D$3)/Лист2!$A$6,0)","v":11346}]
[23,"Комплект подсветки полок (5 рядов) Т8 1004.101.00.00-03 L=1875 для Solo L","1004.101.00.00-03",null,null,12273.594596422239,{"$f":"ROUND(F38*(1-$D$3)/Лист2!$A$6,0)","v":12274}]
[24,"Комплект подсветки полок (5 рядов) Т8 1004.101.00.00-03 L=2500 для Solo L","1004.101.00.00-04",null,null,17766.007829350707,{"$f":"ROUND(F39*(1-$D$3)/Лист2!$A$6,0)","v":17766}]
[25,"Комплект подсветки полок (6 рядов) Т8 1004.102.00.00-01 L=1250 для Solo L","1004.102.00.00-01",null,null,7724.3606673561817,{"$f":"ROUND(F40*(1-$D$3)/Лист2!$A$6,0)","v":7724}]
[26,"Комплект подсветки полок (6 рядов) Т8 1004.102.00.00-02 L=1500 для Solo L","1004.102.00.00-02",null,null,12934.076958353353,{"$f":"ROUND(F41*(1-$D$3)/Лист2!$A$6,0)","v":12934}]
[27,"Комплект подсветки полок (6 рядов) Т8 1004.102.00.00-03 L=1875 для Solo L","1004.102.00.00-03",null,null,13991.897839921352,{"$f":"ROUND(F42*(1-$D$3)/Лист2!$A$6,0)","v":13992}]
[28,"Комплект подсветки полок (6 рядов) Т8 1004.102.00.00-03 L=2500 для Solo L","1004.102.00.00-04",null,null,20253.248925459804,{"$f":"ROUND(F43*(1-$D$3)/Лист2!$A$6,0)","v":20253}]
["Дополнительные опции для Solo"]
[{"$f":"A43+1","v":29},"Комплект боковины глухой левой для Solo L9","1014.40.00.00","Наличие и тип боковины определяется характеристикой (левая боковина 9 символ, правая боковина 10 символ).                                                                    Боковина не применяется когда стеллаж в линии - \"0\".                                            Боковина глухая  - \"G\"",null,10335.169600000001,{"$f":"ROUND(F45*(1-$D$3)/Лист2!$A$6,0)","v":10335}]
[{"$f":"A45+1","v":30},"Комплект боковины глухой правой для Solo L9","1014.40.00.00mir",null,null,10335.169600000001,{"$f":"ROUND(F46*(1-$D$3)/Лист2!$A$6,0)","v":10335}]
[31,"Комплект боковины глухой левой для Solo L7","1004.40.00.00",null,null,9750.16,{"$f":"ROUND(F47*(1-$D$3)/Лист2!$A$6,0)","v":9750}]
[32,"Комплект боковины глухой правой для Solo L7","1004.40.00.00mir",null,null,9750.16,{"$f":"ROUND(F48*(1-$D$3)/Лист2!$A$6,0)","v":9750}]
[]
[{"$f":"A48+1","v":33},"Компл боковины глух лев с зерк для Solo L9","1014.37.00.00","Наличие и тип боковины определяется характеристикой (левая боковина 9 символ, правая боковина 10 символ).                                                                    Боковина не применяется когда стеллаж в линии - \"0\".                                            Боковина глухая с зеркалом - \"Z\".",null,11414.44,{"$f":"ROUND(F50*(1-$D$3)/Лист2!$A$6,0)","v":11414}]
[{"$f":"A50+1","v":34},"Компл боковины глух прав с зерк для Solo L9","1014.37.00.00mir",null,null,11414.44,{"$f":"ROUND(F51*(1-$D$3)/Лист2!$A$6,0)","v":11414}]
[35,"Компл боковины глух лев с зерк для Solo L7","1004.37.00.00",null,null,10498.12,{"$f":"ROUND(F52*(1-$D$3)/Лист2!$A$6,0)","v":10498}]
[36,"Компл боковины глух прав с зерк для Solo  L7","1004.37.00.00mir",null,null,10498.12,{"$f":"ROUND(F53*(1-$D$3)/Лист2!$A$6,0)","v":10498}]
[]
[{"$f":"A53+1","v":37},"Компл боковины со стеклопак лев для Solo L9","1014.41.00.00","Наличие и тип боковины определяется характеристикой (левая боковина 9 символ, правая боковина 10 символ).                                                                    Боковина не применяется когда стеллаж в линии - \"0\".                                            Боковина панорамная  - \"S\".",null,11669.583600000002,{"$f":"ROUND(F55*(1-$D$3)/Лист2!$A$6,0)","v":11670}]
[{"$f":"A55+1","v":38},"Компл боковины со стеклопак прав для Solo L9","1014.41.00.00mir",null,null,11669.583600000002,{"$f":"ROUND(F56*(1-$D$3)/Лист2!$A$6,0)","v":11670}]
[39,"Компл боковины со стеклопак лев для Solo L7","1004.41.00.00",null,null,10706.04,{"$f":"ROUND(F57*(1-$D$3)/Лист2!$A$6,0)","v":10706}]
[40,"Компл боковины со стеклопак прав для Solo L7","1004.41.00.00mir",null,null,10706.04,{"$f":"ROUND(F58*(1-$D$3)/Лист2!$A$6,0)","v":10706}]
[]
[{"$f":"A58+1","v":41},"Компл герметичн разделителя (оргст) для Solo L9","1014.44.00.00",null,null,13705.186003459103,{"$f":"ROUND(F60*(1-$D$3)/Лист2!$A$6,0)","v":13705}]
[{"$f":"A60+1","v":42},"Компл герметичн разделителя (оргст) для Solo L7","1004.44.00.00",null,null,11726.907666650273,{"$f":"ROUND(F61*(1-$D$3)/Лист2!$A$6,0)","v":11727}]
[]
[{"$f":"A61+1","v":43},"Компл зеркал герметичн разделителя для Solo L9","1014.45.00.00",null,null,18902.32,{"$f":"ROUND(F63*(1-$D$3)/Лист2!$A$6,0)","v":18902}]
[{"$f":"A63+1","v":44},"Компл зеркал герметичн разделителя для Solo L7","1004.45.00.00",null,null,18486.48,{"$f":"ROUND(F64*(1-$D$3)/Лист2!$A$6,0)","v":18486}]
[]
[{"$f":"A64+1","v":45},"Комплект соединительный в линию для Solo L","1004.60.00.00",null,null,1987.2,{"$f":"ROUND(F66*(1-$D$3)/Лист2!$A$6,0)","v":1987}]
[]
[69,"Полка навесная с кронштейнами (ОЦ) 1250х500 929.67.00.00-01 для Solo для исп 1250, 2500","929.67.00.00-01",null,null,2122.44,{"$f":"ROUND(F68*(1-$D$3)/Лист2!$A$6,0)","v":2122}]
[{"$f":"A68+1","v":70},"Полка навесная с кронштейнами (ОЦ) 1500х500 1014.67.00.00-02 для Solo для исп 1500","1014.67.00.00-02",null,null,2548.4,{"$f":"ROUND(F69*(1-$D$3)/Лист2!$A$6,0)","v":2548}]
[{"$f":"A69+1","v":71},"Полка навесная с кронштейнами (ОЦ) 937х500 1015.67.00.00-03 для Solo для исп. 1875","1015.67.00.00-03",null,null,1784.8000000000002,{"$f":"ROUND(F70*(1-$D$3)/Лист2!$A$6,0)","v":1785}]
[72,"Полка навесная с кронштейнами (ОЦ) 1250х400 811.68.00.00 для Rimini для исп.1250,2500","811.68.00.00",null,null,1656.92,{"$f":"ROUND(F71*(1-$D$3)/Лист2!$A$6,0)","v":1657}]
[73,"Полка навесная с кронштейнами (ОЦ) 1500х400 1004.68.00.00-02 для Solo L 1500","1004.68.00.00-02",null,null,1991.8000000000002,{"$f":"ROUND(F72*(1-$D$3)/Лист2!$A$6,0)","v":1992}]
[74,"Полка навесная с кронштейнами (ОЦ) 937х400 811.68.00.00-01 для Solo для исп. 1875","811.68.00.00-01",null,null,1531.8,{"$f":"ROUND(F73*(1-$D$3)/Лист2!$A$6,0)","v":1532}]
[75,"Ценникодержатель съемный,L=1250, T-TH 0100125, прозрачный","T-TH 0100125",null,null,98.44,{"$f":"ROUND(F74*(1-$D$3)/Лист2!$A$6,0)","v":98}]
[76,"Ценникодержатель съемный, L=1500, T-TH 0100150, прозрачный","н№15085.3",null,null,136.16,{"$f":"ROUND(F75*(1-$D$3)/Лист2!$A$6,0)","v":136}]
[77,"Ценникодержатель съемный, L=925,  прозрачный","н№15085.2",null,null,68.08,{"$f":"ROUND(F76*(1-$D$3)/Лист2!$A$6,0)","v":68}]
[]
[{"$f":"A76+1","v":78},"Решетка фруктовая (базовая), 932х635 мм. для Rimini H9/L9, Solo L9","781.75.00.00",null,null,3001.96,{"$f":"ROUND(F78*(1-$D$3)/Лист2!$A$6,0)","v":3002}]
[{"$f":"A78+1","v":79},"Решетка базовая (фруктовая) 750х635 мм. для Solo L9","1014.75.00.00-02",null,null,2701.7640000000006,{"$f":"ROUND(F79*(1-$D$3)/Лист2!$A$6,0)","v":2702}]
[{"$f":"A79+1","v":80},"Решетка фруктовая (базовая), 1245x635 мм. для Rimini H9/L9","781.75.00.00-01",null,null,3321.2000000000003,{"$f":"ROUND(F80*(1-$D$3)/Лист2!$A$6,0)","v":3321}]
[81,"Решетка базовая (фруктовая) 932х455 мм. для Rimini H7/L7","798.75.00.00",null,null,2254.92,{"$f":"ROUND(F81*(1-$D$3)/Лист2!$A$6,0)","v":2255}]
[82,"Решетка базовая (фруктовая) 750х635 мм. для Solo L7","1004.75.00.00-02",null,null,2029.4280000000001,{"$f":"ROUND(F82*(1-$D$3)/Лист2!$A$6,0)","v":2029}]
[83,"Решетка базовая (фруктовая) 1245х455 мм. для Rimini H7/L7, Solo L7","798.75.00.00-01",null,null,2552.08,{"$f":"ROUND(F83*(1-$D$3)/Лист2!$A$6,0)","v":2552}]
[]
[{"$f":"A83+1","v":84},"Комплект зеркала наклон(с кронш) (1250) 1014.53.00.00-01 L=1250 для Solo L9","1014.53.00.00-01",null,null,2673.2483051400004,{"$f":"ROUND(F85*(1-$D$3)/Лист2!$A$6,0)","v":2673}]
[{"$f":"A85+1","v":85},"Комплект зеркала наклон(с кронш) (1500) 1014.53.00.00-02 L=1500 для Solo L9","1014.53.00.00-02",null,null,3341.5603814250003,{"$f":"ROUND(F86*(1-$D$3)/Лист2!$A$6,0)","v":3342}]
[{"$f":"A86+1","v":86},"Комплект зеркала наклон(с кронш) (937) 1014.53.00.00-03 L=1875 для Solo L9","1014.53.00.00-03",null,null,2291.1897941100005,{"$f":"ROUND(F87*(1-$D$3)/Лист2!$A$6,0)","v":2291}]
[87,"Комплект заглушек для зеркала наклонного 1014.52.00.00 для Solo L9","1014.52.00.00",null,null,694.44069786000011,{"$f":"ROUND(F88*(1-$D$3)/Лист2!$A$6,0)","v":694}]
[88,"Комплект зеркала наклон(с кронш) (1250) 1004.53.00.00-01 L=1250 для Solo L7","1004.53.00.00-01",null,null,2389.324797664322,{"$f":"ROUND(F89*(1-$D$3)/Лист2!$A$6,0)","v":2389}]
[89,"Комплект зеркала наклон(с кронш) (1500) 1004.53.00.00-02 L=1500 для Solo L7","1004.53.00.00-02",null,null,2986.6559970804024,{"$f":"ROUND(F90*(1-$D$3)/Лист2!$A$6,0)","v":2987}]
[90,"Комплект зеркала наклон(с кронш) (937) 1004.53.00.00-03 L=1875 для Solo L7","1004.53.00.00-03",null,null,2050.8523430332611,{"$f":"ROUND(F91*(1-$D$3)/Лист2!$A$6,0)","v":2051}]
[91,"Комплект заглушек для зеркала наклонного 757.52.00.00 для Solo L7","1004.52.00.00",null,null,509.79843873000004,{"$f":"ROUND(F92*(1-$D$3)/Лист2!$A$6,0)","v":510}]
[]
[{"$f":"A92+1","v":92},"Разделитель объема для полок(500) 1004.115.00.00 для Solo L","1004.115.00.00",null,null,2657.88,{"$f":"ROUND(F94*(1-$D$3)/Лист2!$A$6,0)","v":2658}]
[{"$f":"A94+1","v":93},"Разделитель объема для полок(400) 1004.116.00.00 для Solo L","1004.116.00.00",null,null,1844.6000000000001,{"$f":"ROUND(F95*(1-$D$3)/Лист2!$A$6,0)","v":1845}]
[94,"Делитель передвижной H=150 (500) оргст 646.51.00.01-01 L=1250/2500 для стеллажей Italfrigo, Solo","646.51.00.01-01",null,null,617.67016258437002,{"$f":"ROUND(F96*(1-$D$3)/Лист2!$A$6,0)","v":618}]
[95,"Делитель передвижной H=150 (400) оргст 646.51.00.01 L=1250/2500 для стеллажей Italfrigo, Solo","646.51.00.01",null,null,539.12,{"$f":"ROUND(F97*(1-$D$3)/Лист2!$A$6,0)","v":539}]
[96,"Фронтальный ограничитель 40мм (1250) оргст 646.54.00.03 L=1250/2500 для для Solo","646.54.00.03",null,null,619.16000000000008,{"$f":"ROUND(F98*(1-$D$3)/Лист2!$A$6,0)","v":619}]
[97,"Фронтальный ограничитель Н=40мм, L=1500 (оргст) 1004.54.00.03-02 L=1500 для стеллажей Solo","646.54.00.03-02",null,null,773.95,{"$f":"ROUND(F99*(1-$D$3)/Лист2!$A$6,0)","v":774}]
[98,"Фронтальный ограничитель 40мм (937) оргст 646.54.00.03-01 L=1875 для Solo","646.54.00.03-01",null,null,289.8,{"$f":"ROUND(F100*(1-$D$3)/Лист2!$A$6,0)","v":290}]
[99,"Фронтальный ограничитель Н=60мм, L=1250 (оргст) 646.54.00.04 L=1250/2500 для Rimini/Lazio, Solo","646.54.00.04",null,null,907.12,{"$f":"ROUND(F101*(1-$D$3)/Лист2!$A$6,0)","v":907}]
[100,"Фронтальный ограничитель Н=60мм, L=1500 (оргст) 1004.54.00.04-02 L=1500 для Solo","646.54.00.04-02",null,null,1133.9000000000001,{"$f":"ROUND(F102*(1-$D$3)/Лист2!$A$6,0)","v":1134}]
[101,"Фронтальный ограничитель Н=60мм, L=937 (оргст) 646.54.00.04-01 L=1875 для Rimini/Lazio, Solo","646.54.00.04-01",null,null,734.16000000000008,{"$f":"ROUND(F103*(1-$D$3)/Лист2!$A$6,0)","v":734}]
[102,"Ограничитель проволочный(ОЦ, полимерное покрытие) 1235х57мм 781.76.00.01","781.76.00.01",null,null,273.24,{"$f":"ROUND(F104*(1-$D$3)/Лист2!$A$6,0)","v":273}]
[103,"Ограничитель проволочный(ОЦ, полимерное покрытие) 926х57мм 781.76.00.01-01, Solo","781.76.00.01-01",null,null,218.96,{"$f":"ROUND(F105*(1-$D$3)/Лист2!$A$6,0)","v":219}]
[104,"Ограничитель проволочный(ОЦ, полимерное покрытие) 1500х57мм 1004.76.00.01-02","781.76.00.01-02",null,null,341.55,{"$f":"ROUND(F106*(1-$D$3)/Лист2!$A$6,0)","v":342}]
[]
[{"$f":"A106+1","v":105},"Комплект отбойника фронтального (пластик) L=1250","646.56.00.00",null,null,828.83541128434206,{"$f":"ROUND(F108*(1-$D$3)/Лист2!$A$6,0)","v":829}]
[{"$f":"A108+1","v":106},"Комплект отбойника фронтального (пластик) L=1875","646.56.00.00-01",null,null,1200.3823197911163,{"$f":"ROUND(F109*(1-$D$3)/Лист2!$A$6,0)","v":1200}]
[{"$f":"A109+1","v":107},"Комплект отбойника фронтального (пластик) L=2500","646.56.00.00-02",null,null,1569.3309981684724,{"$f":"ROUND(F110*(1-$D$3)/Лист2!$A$6,0)","v":1569}]
[108,"Комплект отбойника фронтального (пластик) L=3750","646.56.00.00-03",null,null,2309.8265850526022,{"$f":"ROUND(F111*(1-$D$3)/Лист2!$A$6,0)","v":2310}]
[109,"Комплект отбойника фронтального (пластик) L=1500","646.56.00.00-04",null,null,1117.8,{"$f":"ROUND(F112*(1-$D$3)/Лист2!$A$6,0)","v":1118}]
[110,"Торцевой элемент НБИЛГ 7.116.007 н№950.28","н№950.28",null,null,264.96000000000004,{"$f":"ROUND(F113*(1-$D$3)/Лист2!$A$6,0)","v":265}]
[111,"Комплект отбойника фронтального 15х30 (труба нерж.) L=1250","781.55.00.00",null,null,1657.6708225686841,{"$f":"ROUND(F114*(1-$D$3)/Лист2!$A$6,0)","v":1658}]
[112,"Комплект отбойника фронтального 15х30 (труба нерж.) L=1875","781.55.00.00-01",null,null,2400.7646395822326,{"$f":"ROUND(F115*(1-$D$3)/Лист2!$A$6,0)","v":2401}]
[113,"Комплект отбойника фронтального 15х30 (труба нерж) L=2500","781.55.00.00-02",null,null,3138.6619963369449,{"$f":"ROUND(F116*(1-$D$3)/Лист2!$A$6,0)","v":3139}]
[114,"Комплект отбойника фронтального 15х30 (труба нерж) L=3750","781.55.00.00-03",null,null,4619.6531701052045,{"$f":"ROUND(F117*(1-$D$3)/Лист2!$A$6,0)","v":4620}]
[115,"Комплект отбойника фронтального 15х30 (труба нерж) L=1500","781.55.00.00-04",null,null,2232.1395041830042,{"$f":"ROUND(F118*(1-$D$3)/Лист2!$A$6,0)","v":2232}]
[]
[119,"Комплект подвесов для колбасы(две штанг + 4 блока крюков) 1004.59.00.00-01 L=1250, 2500 25 шаг","1004.59.00.00-01",null,null,5984.6,{"$f":"ROUND(F120*(1-$D$3)/Лист2!$A$6,0)","v":5985}]
[{"$f":"A120+1","v":120},"Комплект подвесов для колбасы(две штанг + 8 блока крюков) 1004.59.00.00-02 L=1500, 25 шаг","1004.59.00.00-02",null,null,7779.9800000000005,{"$f":"ROUND(F121*(1-$D$3)/Лист2!$A$6,0)","v":7780}]
[{"$f":"A121+1","v":121},"Комплект подвесов для колбасы(две штанг + 4 блока крюков) 1004.59.00.00-03 L=937, 25 шаг","1004.59.00.00-03",null,null,5173.16,{"$f":"ROUND(F122*(1-$D$3)/Лист2!$A$6,0)","v":5173}]
[122,"Штанга для навески крюков 1004.57.00.00-01 L=1250, 15х30 мм. 25 шаг","646.57.00.00",null,null,2235.6,{"$f":"ROUND(F123*(1-$D$3)/Лист2!$A$6,0)","v":2236}]
[123,"Штанга для навески крюков 1004.57.00.00-02 L=1500, 15х30 мм. 25 шаг","1004.57.00.00-02",null,null,2906.28,{"$f":"ROUND(F124*(1-$D$3)/Лист2!$A$6,0)","v":2906}]
[124,"Штанга для навески крюков 1004.57.00.00-03 L=937, 15х30 мм. 25 шаг","1004.57.00.00-03",null,null,1814.24,{"$f":"ROUND(F125*(1-$D$3)/Лист2!$A$6,0)","v":1814}]
[125,"Крючок на штангу одинарный хромированный с ценникодержателем, 400 мм / диаметр 8,0 мм","н№15074.32",null,null,592.24875570000006,{"$f":"ROUND(F126*(1-$D$3)/Лист2!$A$6,0)","v":592}]
[126,"Крючок на штангу одинарный хромированный с ценникодержателем, 500 мм / диаметр 10,0 мм","н№15074.33",null,null,719.98868340000013,{"$f":"ROUND(F127*(1-$D$3)/Лист2!$A$6,0)","v":720}]
["Solo L9 Light"]
["Обязательные опции для базовой комплектации Solo. Дополнительные опции для гастрономической комплектации Solo. ",null,null,null,null,null,null,"вернуться к прайсу стеллажей"]
["Общее освещение"]
["                                                                                               Нейтральный свет (4000-4500К) подходит всем товарным категориям (не искажает натуральный цвет продуктов).                                                                                                                                           Тёплый свет (2700-3000К) подходит категории \"Фрукты, овощи, сыры\" (категория выглядит ярче, насыщеннее).                                                                                     Мясной свет подходит категории \"Мясо, мясная гастрономия\" (категория выглядит ярче, насыщеннее)"]
[4,"Комплект общей подсветки стеллажа Т8 1121.15.02.00-01 L=1250 для Solo L9 Light","Спектр освещения определяется характеристикой                                                                             (третий символ, \"1\" - 3000К, \"2\" -  4000К, \"М\" -  мясной)",null,null,1948.2808784410822,{"$f":"ROUND(F132*(1-$D$3)/Лист2!$A$6,0)","v":1948}]
[{"$f":"A132+1","v":5},"Комплект общей подсветки стеллажа Т8 1121.15.02.00-02 L=1500 для Solo L9 Light",null,null,null,2585.4330429413044,{"$f":"ROUND(F133*(1-$D$3)/Лист2!$A$6,0)","v":2585}]
[{"$f":"A133+1","v":6},"Комплект общей подсветки стеллажа Т8 1121.15.02.00-03 L=1875 для Solo L9 Light",null,null,null,2898.53508672,{"$f":"ROUND(F134*(1-$D$3)/Лист2!$A$6,0)","v":2899}]
["Дополнительные опции для Solo"]
[7,"Система выпаривания конденсата для стеллажа Solo L9 Light длиной 1250 мм","Применение выпаривателя определяется характеристикой                                                  (восьмой символ, \"0\" -без выпаривателя, \"V\" - выпариватель применен) ",null,null,3220,{"$f":"ROUND(F136*(1-$D$3)/Лист2!$A$6,0)","v":3220}]
[{"$f":"A136+1","v":8},"Система выпаривания конденсата для стеллажа Solo L9 Light длиной 1500 мм",null,null,null,4508,{"$f":"ROUND(F137*(1-$D$3)/Лист2!$A$6,0)","v":4508}]
[{"$f":"A137+1","v":9},"Система выпаривания конденсата для стеллажа Solo L9 Light длиной 1875 мм",null,null,null,5474,{"$f":"ROUND(F138*(1-$D$3)/Лист2!$A$6,0)","v":5474}]
["Подсветка полок (универсальная для полок разной глубины - 300, 400, 500 мм)                                                                                                                                                                                                                                             Нейтральный свет (4000-4500К) подходит всем товарным категориям (не искажает натуральный цвет продуктов).                                                                                                                                                                                           Тёплый свет (2700-3000К) подходит категории \"Фрукты, овощи, сыры\" (категория выглядит ярче, насыщеннее).                                                                                                                                                                                      Мясной свет подходит категории \"Мясо, мясная гастрономия\" (категория выглядит ярче, насыщеннее)"]
[10,"Комплект подсветки полок (3 ряда) Т8 1121.99.00.00-01 L=1250 для Solo L9 Light","1121.99.00.00-01","Спектр освещения определяется характеристикой                            (третий символ, \"1\" - 3000К, \"2\" -  4000К, \"М\" - мясной)",null,4995.6837500742486,{"$f":"ROUND(F140*(1-$D$3)/Лист2!$A$6,0)","v":4996}]
[{"$f":"A140+1","v":11},"Комплект подсветки полок (3 ряда) Т8 1121.99.00.00-02 L=1500 для Solo L9 Light","1121.99.00.00-02",null,null,8365.0363914417339,{"$f":"ROUND(F141*(1-$D$3)/Лист2!$A$6,0)","v":8365}]
[12,"Комплект подсветки полок (3 ряда) Т8 1121.99.00.00-03 L=1875 для Solo L9 Light","1121.99.00.00-03",null,null,9049.1756770231768,{"$f":"ROUND(F142*(1-$D$3)/Лист2!$A$6,0)","v":9049}]
[13,"Комплект подсветки полок (4 ряда) Т8 1121.100.00.00-01 L=1250 для Solo L9 Light","1121.100.00.00-01",null,null,5742.1652299704001,{"$f":"ROUND(F143*(1-$D$3)/Лист2!$A$6,0)","v":5742}]
[14,"Комплект подсветки полок (4 ряда) Т8 1121.100.00.00-02 L=1500 для Solo L9 Light","1121.100.00.00-02",null,null,9614.9843579790031,{"$f":"ROUND(F144*(1-$D$3)/Лист2!$A$6,0)","v":9615}]
[15,"Комплект подсветки полок (4 ряда) Т8 1121.100.00.00-03 L=1875 для Solo L9 Light","1121.100.00.00-03",null,null,10401.351352900203,{"$f":"ROUND(F145*(1-$D$3)/Лист2!$A$6,0)","v":10401}]
[16,"Комплект подсветки полок (5 рядов) Т8 1121.101.00.00-01 L=1250 для Solo L9 Light","1121.101.00.00-01",null,null,6775.7549713650724,{"$f":"ROUND(F146*(1-$D$3)/Лист2!$A$6,0)","v":6776}]
[17,"Комплект подсветки полок (5 рядов) Т8 1121.101.00.00-02 L=1500 для Solo L9 Light","1121.101.00.00-02",null,null,11345.681542415223,{"$f":"ROUND(F147*(1-$D$3)/Лист2!$A$6,0)","v":11346}]
[18,"Комплект подсветки полок (5 рядов) Т8 1121.101.00.00-03 L=1875 для Solo L9 Light","1121.101.00.00-03",null,null,12273.594596422239,{"$f":"ROUND(F148*(1-$D$3)/Лист2!$A$6,0)","v":12274}]
["Дополнительные опции для Solo"]
[{"$f":"A148+1","v":19},"Комплект боковины глухой левой для Solo L9 Light","1121.40.00.00","Наличие и тип боковины определяется характеристикой (левая боковина 9 символ, правая боковина 10 символ).                                                                    Боковина не применяется когда стеллаж в линии - \"0\".                                            Боковина глухая  - \"G\"",null,7751.3771999999999,{"$f":"ROUND(F150*(1-$D$3)/Лист2!$A$6,0)","v":7751}]
[{"$f":"A150+1","v":20},"Комплект боковины глухой правой для Solo L9 Light","1121.40.00.00mir",null,null,7751.3771999999999,{"$f":"ROUND(F151*(1-$D$3)/Лист2!$A$6,0)","v":7751}]
[]
[21,"Компл боковины глух лев с зерк для Solo L9 Light","1121.37.00.00","Наличие и тип боковины определяется характеристикой (левая боковина 9 символ, правая боковина 10 символ).                                                                    Боковина не применяется когда стеллаж в линии - \"0\".                                            Боковина глухая с зеркалом - \"Z\".",null,8560.83,{"$f":"ROUND(F153*(1-$D$3)/Лист2!$A$6,0)","v":8561}]
[{"$f":"A153+1","v":22},"Компл боковины глух прав с зерк для Solo L9 Light","1121.37.00.00mir",null,null,8560.83,{"$f":"ROUND(F154*(1-$D$3)/Лист2!$A$6,0)","v":8561}]
[]
[23,"Компл боковины со стеклопак лев для Solo L9 Light","1121.41.00.00","Наличие и тип боковины определяется характеристикой (левая боковина 9 символ, правая боковина 10 символ).                                                                    Боковина не применяется когда стеллаж в линии - \"0\".                                            Боковина панорамная  - \"S\".",null,8752.1877000000004,{"$f":"ROUND(F156*(1-$D$3)/Лист2!$A$6,0)","v":8752}]
[{"$f":"A156+1","v":24},"Компл боковины со стеклопак прав для Solo L9 Light","1121.41.00.00mir",null,null,8752.1877000000004,{"$f":"ROUND(F157*(1-$D$3)/Лист2!$A$6,0)","v":8752}]
[]
[25,"Компл герметичн разделителя (оргст) для Solo L9 Light","1121.44.00.00",null,null,11649.40810294022,{"$f":"ROUND(F159*(1-$D$3)/Лист2!$A$6,0)","v":11649}]
[]
[26,"Компл зеркал герметичн разделителя для Solo L9 Light","1121.45.00.00",null,null,13231.624,{"$f":"ROUND(F161*(1-$D$3)/Лист2!$A$6,0)","v":13232}]
[]
[27,"Комплект соединительный в линию для Solo L9 Light","1121.60.00.00",null,null,1788.48,{"$f":"ROUND(F163*(1-$D$3)/Лист2!$A$6,0)","v":1788}]
[]
[28,"Полка навесная с кронштейнами 1250х500 1121.67.00.00-01 для Solo L9 Light для исп 1250","1121.67.00.00-01",null,null,1485.7079999999999,{"$f":"ROUND(F165*(1-$D$3)/Лист2!$A$6,0)","v":1486}]
[{"$f":"A165+1","v":29},"Полка навесная с кронштейнами 1500х500 1121.67.00.00-02 для Solo L9 Light для исп 1500","1121.67.00.00-02",null,null,1783.8799999999999,{"$f":"ROUND(F166*(1-$D$3)/Лист2!$A$6,0)","v":1784}]
[{"$f":"A166+1","v":30},"Полка навесная с кронштейнами 937х500 1121.67.00.00-03 для Solo L9 Light для исп 1875","1121.67.00.00-03",null,null,1249.3600000000001,{"$f":"ROUND(F167*(1-$D$3)/Лист2!$A$6,0)","v":1249}]
[31,"Ценникодержатель съемный,L=1250, T-TH 0100125, прозрачный","T-TH 0100125",null,null,98.44,{"$f":"ROUND(F168*(1-$D$3)/Лист2!$A$6,0)","v":98}]
[32,"Ценникодержатель съемный, L=1500, T-TH 0100150, прозрачный","н№15085.3",null,null,136.16,{"$f":"ROUND(F169*(1-$D$3)/Лист2!$A$6,0)","v":136}]
[33,"Ценникодержатель съемный, L=925,  прозрачный","н№15085.2",null,null,68.08,{"$f":"ROUND(F170*(1-$D$3)/Лист2!$A$6,0)","v":68}]
[]
[{"$f":"A170+1","v":34},"Решетка фруктовая (базовая), 932х635 мм. для Rimini H9/L9, Solo L9","781.75.00.00",null,null,3001.96,{"$f":"ROUND(F172*(1-$D$3)/Лист2!$A$6,0)","v":3002}]
[{"$f":"A172+1","v":35},"Решетка базовая (фруктовая) 750х635 мм. для Solo L9","1014.75.00.00-02",null,null,2701.7640000000006,{"$f":"ROUND(F173*(1-$D$3)/Лист2!$A$6,0)","v":2702}]
[{"$f":"A173+1","v":36},"Решетка фруктовая (базовая), 1245x635 мм. для Rimini H9/L9","781.75.00.00-01",null,null,3321.2000000000003,{"$f":"ROUND(F174*(1-$D$3)/Лист2!$A$6,0)","v":3321}]
[]
[37,"Комплект зеркала наклон(с кронш) (1250)1121.53.00.00-01 L=1250 для Solo L9 Light","1121.53.00.00-01",null,null,2673.2483051400004,{"$f":"ROUND(F176*(1-$D$3)/Лист2!$A$6,0)","v":2673}]
[{"$f":"A176+1","v":38},"Комплект зеркала наклон(с кронш) (1500)1121.53.00.00-02 L=1500 для Solo L9 Light","1121.53.00.00-02",null,null,3341.5603814250003,{"$f":"ROUND(F177*(1-$D$3)/Лист2!$A$6,0)","v":3342}]
[{"$f":"A177+1","v":39},"Комплект зеркала наклон(с кронш) (937) 1121.53.00.00-03 L=1875 для Solo L9 Light","1121.53.00.00-03",null,null,2291.1897941100005,{"$f":"ROUND(F178*(1-$D$3)/Лист2!$A$6,0)","v":2291}]
[40,"Комплект заглушек для зеркала наклонного 1121.52.00.00 для Solo L9 Light","1121.52.00.00",null,null,694.44069786000011,{"$f":"ROUND(F179*(1-$D$3)/Лист2!$A$6,0)","v":694}]
[]
[41,"Разделитель объема для полок(500) 1121.116.00.00 для Solo L9 Light","1121.116.00.00",null,null,2392.0920000000001,{"$f":"ROUND(F181*(1-$D$3)/Лист2!$A$6,0)","v":2392}]
[{"$f":"A181+1","v":42},"Разделитель объема для полок(400) 1121.116.00.00 для Solo L9 Light","1121.116.00.00",null,null,1660.14,{"$f":"ROUND(F182*(1-$D$3)/Лист2!$A$6,0)","v":1660}]
[43,"Делитель передвижной H=150 (500) оргст 646.51.00.01-01 L=1250/2500 для стеллажей Italfrigo, Solo","646.51.00.01-01",null,null,617.67016258437002,{"$f":"ROUND(F183*(1-$D$3)/Лист2!$A$6,0)","v":618}]
[44,"Фронтальный ограничитель 40мм (1250) оргст 646.54.00.03 L=1250/2500 для для Solo","646.54.00.03",null,null,619.16000000000008,{"$f":"ROUND(F184*(1-$D$3)/Лист2!$A$6,0)","v":619}]
[45,"Фронтальный ограничитель Н=40мм, L=1500 (оргст) 1004.54.00.03-02 L=1500 для стеллажей Solo","1004.54.00.03-02",null,null,773.95,{"$f":"ROUND(F185*(1-$D$3)/Лист2!$A$6,0)","v":774}]
[46,"Фронтальный ограничитель 40мм (937) оргст 646.54.00.03-01 L=1875 для Solo","646.54.00.03-01",null,null,289.8,{"$f":"ROUND(F186*(1-$D$3)/Лист2!$A$6,0)","v":290}]
[47,"Фронтальный ограничитель Н=60мм, L=1250 (оргст) 646.54.00.04 L=1250/2500 для Rimini/Lazio, Solo","646.54.00.04",null,null,907.12,{"$f":"ROUND(F187*(1-$D$3)/Лист2!$A$6,0)","v":907}]
[48,"Фронтальный ограничитель Н=60мм, L=1500 (оргст) 1004.54.00.04-02 L=1500 для Solo","646.54.00.04-02",null,null,1133.9000000000001,{"$f":"ROUND(F188*(1-$D$3)/Лист2!$A$6,0)","v":1134}]
[49,"Фронтальный ограничитель Н=60мм, L=937 (оргст) 646.54.00.04-01 L=1875 для Rimini/Lazio, Solo","646.54.00.04-01",null,null,734.16000000000008,{"$f":"ROUND(F189*(1-$D$3)/Лист2!$A$6,0)","v":734}]
[50,"Ограничитель проволочный(ОЦ, полимерное покрытие) 1235х57мм 781.76.00.01","781.76.00.01",null,null,273.24,{"$f":"ROUND(F190*(1-$D$3)/Лист2!$A$6,0)","v":273}]
[51,"Ограничитель проволочный(ОЦ, полимерное покрытие) 926х57мм 781.76.00.01-01, Solo","781.76.00.01-01",null,null,218.96,{"$f":"ROUND(F191*(1-$D$3)/Лист2!$A$6,0)","v":219}]
[52,"Ограничитель проволочный(ОЦ, полимерное покрытие) 1500х57мм 1004.76.00.01-02","781.76.00.01-02",null,null,341.55,{"$f":"ROUND(F192*(1-$D$3)/Лист2!$A$6,0)","v":342}]
[]
[{"$f":"A192+1","v":53},"Комплект отбойника фронтального (пластик) L=1250","646.56.00.00",null,null,828.83541128434206,{"$f":"ROUND(F194*(1-$D$3)/Лист2!$A$6,0)","v":829}]
[{"$f":"A194+1","v":54},"Комплект отбойника фронтального (пластик) L=1875","646.56.00.00-01",null,null,1200.3823197911163,{"$f":"ROUND(F195*(1-$D$3)/Лист2!$A$6,0)","v":1200}]
[{"$f":"A195+1","v":55},"Комплект отбойника фронтального (пластик) L=2500","646.56.00.00-02",null,null,1569.3309981684724,{"$f":"ROUND(F196*(1-$D$3)/Лист2!$A$6,0)","v":1569}]
[56,"Комплект отбойника фронтального (пластик) L=3750","646.56.00.00-03",null,null,2309.8265850526022,{"$f":"ROUND(F197*(1-$D$3)/Лист2!$A$6,0)","v":2310}]
[57,"Комплект отбойника фронтального (пластик) L=1500","646.56.00.00-04",null,null,1117.8,{"$f":"ROUND(F198*(1-$D$3)/Лист2!$A$6,0)","v":1118}]
[58,"Торцевой элемент НБИЛГ 7.116.007 н№950.28","н№950.28",null,null,264.96000000000004,{"$f":"ROUND(F199*(1-$D$3)/Лист2!$A$6,0)","v":265}]
[59,"Комплект отбойника фронтального 15х30 (труба нерж.) L=1250","781.55.00.00",null,null,1657.6708225686841,{"$f":"ROUND(F200*(1-$D$3)/Лист2!$A$6,0)","v":1658}]
[60,"Комплект отбойника фронтального 15х30 (труба нерж.) L=1875","781.55.00.00-01",null,null,2400.7646395822326,{"$f":"ROUND(F201*(1-$D$3)/Лист2!$A$6,0)","v":2401}]
[61,"Комплект отбойника фронтального 15х30 (труба нерж) L=2500","781.55.00.00-02",null,null,3138.6619963369449,{"$f":"ROUND(F202*(1-$D$3)/Лист2!$A$6,0)","v":3139}]
[62,"Комплект отбойника фронтального 15х30 (труба нерж) L=3750","781.55.00.00-03",null,null,4619.6531701052045,{"$f":"ROUND(F203*(1-$D$3)/Лист2!$A$6,0)","v":4620}]
[63,"Комплект отбойника фронтального 15х30 (труба нерж) L=1500","781.55.00.00-04",null,null,2232.1395041830042,{"$f":"ROUND(F204*(1-$D$3)/Лист2!$A$6,0)","v":2232}]
[]
[64,"Комплект подвесов для колбасы(две штанг + 4 блока крюков) 781.59.00.00-01 L=1250, 2500","781.59.00.00-01",null,null,5984.6,{"$f":"ROUND(F206*(1-$D$3)/Лист2!$A$6,0)","v":5985}]
[{"$f":"A206+1","v":65},"Комплект подвесов для колбасы(две штанг + 8 блока крюков) 781.59.00.00-02 L=1500","781.59.00.00-02",null,null,7779.9800000000005,{"$f":"ROUND(F207*(1-$D$3)/Лист2!$A$6,0)","v":7780}]
[{"$f":"A207+1","v":66},"Комплект подвесов для колбасы(две штанг + 4 блока крюков) 781.59.00.00-03 L=937","781.59.00.00-03",null,null,5173.16,{"$f":"ROUND(F208*(1-$D$3)/Лист2!$A$6,0)","v":5173}]
[67,"Штанга для навески крюков 646.57.00.00 L=1250, 15х30 мм. ","646.57.00.00",null,null,2235.6,{"$f":"ROUND(F209*(1-$D$3)/Лист2!$A$6,0)","v":2236}]
[68,"Штанга для навески крюков 1121.57.00.00-02 L=1500, 15х30 мм. ","1121.57.00.00-02",null,null,2906.28,{"$f":"ROUND(F210*(1-$D$3)/Лист2!$A$6,0)","v":2906}]
[69,"Штанга для навески крюков 646.57.00.00-01 L=937, 15х30 мм. ","646.57.00.00-01",null,null,1814.24,{"$f":"ROUND(F211*(1-$D$3)/Лист2!$A$6,0)","v":1814}]
[70,"Крючок на штангу одинарный хромированный с ценникодержателем, 400 мм / диаметр 8,0 мм","н№15074.32",null,null,592.24875570000006,{"$f":"ROUND(F212*(1-$D$3)/Лист2!$A$6,0)","v":592}]
[71,"Крючок на штангу одинарный хромированный с ценникодержателем, 500 мм / диаметр 10,0 мм","н№15074.33",null,null,719.98868340000013,{"$f":"ROUND(F213*(1-$D$3)/Лист2!$A$6,0)","v":720}]
["Solo SML"]
["Обязательные опции для базовой комплектации Solo SML. Дополнительные опции для гастрономической комплектации Solo SML.",null,null,null,null,null,null,"вернуться к прайсу стеллажей"]
["Общее освещение"]
["                                                                                               Нейтральный свет (4000-4500К) подходит всем товарным категориям (не искажает натуральный цвет продуктов).                                                                                                                                           Тёплый свет (2700-3000К) подходит категории \"Фрукты, овощи, сыры\" (категория выглядит ярче, насыщеннее).                                                                                     Мясной свет подходит категории \"Мясо, мясная гастрономия\" (категория выглядит ярче, насыщеннее)"]
[5,"Комплект общей подсветки стеллажа Т8 1004.15.02.00-01 L=1250 для Solo L","Спектр освещения определяется характеристикой                                                                                                      (третий символ, \"1\" - 3000К, \"2\" -  4000К, \"М\" -  мясной)",null,null,1948.2808784410822,{"$f":"ROUND(F218*(1-$D$3)/Лист2!$A$6,0)","v":1948}]
[6,"Комплект общей подсветки стеллажа Т8 1004.15.02.00-03 L=1875 для Solo L",null,null,null,2898.53508672,{"$f":"ROUND(F219*(1-$D$3)/Лист2!$A$6,0)","v":2899}]
["Подсветка полок (универсальная для полок разной глубины - 300, 400, 500 мм)                                                                                                                                                                                                                                               Нейтральный свет (4000-4500К) подходит всем товарным категориям (не искажает натуральный цвет продуктов).                                                                                                                                                                                           Тёплый свет (2700-3000К) подходит категории \"Фрукты, овощи, сыры\" (категория выглядит ярче, насыщеннее).                                                                                                                                                                                                 Мясной свет подходит категории \"Мясо, мясная гастрономия\" (категория выглядит ярче, насыщеннее)"]
[9,"Комплект подсветки полок (3 ряда) Т8 1004.99.00.00-01 L=1250 для Solo L","1004.99.00.00-01","Спектр освещения определяется характеристикой                                        (третий символ, \"1\" - 3000К, \"2\" -  4000К, \"М\" - мясной)",null,4463.7440335488009,{"$f":"ROUND(F221*(1-$D$3)/Лист2!$A$6,0)","v":4464}]
[10,"Комплект подсветки полок (3 ряда) Т8 1004.99.00.00-03 L=1875 для Solo L","1004.99.00.00-03",null,null,8967.3429245400021,{"$f":"ROUND(F222*(1-$D$3)/Лист2!$A$6,0)","v":8967}]
["Дополнительные опции для Rimini"]
[11,"Комплект боковины со стеклопакет лев 929.41.00.00 для ВПВ SOLO SML","929.41.00.00",null,null,12389.640000000001,{"$f":"ROUND(F224*(1-$D$3)/Лист2!$A$6,0)","v":12390}]
[{"$f":"A224+1","v":12},"Комплект боковины со стеклопакет прав 929.41.00.00mir для ВПВ SOLO SML","929.41.00.00mir",null,null,12389.640000000001,{"$f":"ROUND(F225*(1-$D$3)/Лист2!$A$6,0)","v":12390}]
[]
[13,"Комплект соединительный в линию 929.60.00.00 для стеллажей SOLO SML","929.60.00.00",null,null,1344.1200000000001,{"$f":"ROUND(F227*(1-$D$3)/Лист2!$A$6,0)","v":1344}]
[]
[14,"Комплект полок навесных (с кроншт) L=1250 (300, 400, 500) для SOLO SML","1015.66.00.00-01",null,null,5543.92,{"$f":"ROUND(F229*(1-$D$3)/Лист2!$A$6,0)","v":5544}]
[15,"Комплект полок навесных (с кроншт) L=1875 (300, 400, 500) для SOLO SML","1015.66.00.00-03",null,null,10533.448,{"$f":"ROUND(F230*(1-$D$3)/Лист2!$A$6,0)","v":10533}]
[]
[16,"Ценникодержатель съемный, L=1250, T-TH 0100125, прозрачный","T-TH 0100125",null,null,98.44,{"$f":"ROUND(F232*(1-$D$3)/Лист2!$A$6,0)","v":98}]
[{"$f":"A232+1","v":17},"Ценникодержатель съемный, L=925,  прозрачный","н№15085.2",null,null,68.08,{"$f":"ROUND(F233*(1-$D$3)/Лист2!$A$6,0)","v":68}]
[]
[{"$f":"A233+1","v":18},"Решетка фруктовая (базовая), 1245x635 мм. для Rimini H9/L9","781.75.00.00-01",null,null,3321.2000000000003,{"$f":"ROUND(F235*(1-$D$3)/Лист2!$A$6,0)","v":3321}]
[{"$f":"A235+1","v":19},"Решетка фруктовая (базовая), 932х635 мм. для Rimini H9/L9, Solo L9","781.75.00.00",null,null,3001.96,{"$f":"ROUND(F236*(1-$D$3)/Лист2!$A$6,0)","v":3002}]
[]
[{"$f":"A236+1","v":20},"Разделитель объема для полок(500) 1004.115.00.00 для Solo L","1004.115.00.00",null,null,2657.88,{"$f":"ROUND(F238*(1-$D$3)/Лист2!$A$6,0)","v":2658}]
[{"$f":"A238+1","v":21},"Разделитель объема для полок(400) 1004.116.00.00 для Solo L","1004.116.00.00",null,null,1844.6000000000001,{"$f":"ROUND(F239*(1-$D$3)/Лист2!$A$6,0)","v":1845}]
[22,"Делитель передвижной H=150 (500) оргст 646.51.00.01-01 L=1250/2500 для стеллажей Italfrigo, Solo","646.51.00.01-01",null,null,617.67016258437002,{"$f":"ROUND(F240*(1-$D$3)/Лист2!$A$6,0)","v":618}]
[23,"Делитель передвижной H=150 (400) оргст 646.51.00.01 L=1250/2500 для стеллажей Italfrigo, Solo","646.51.00.01",null,null,539.12,{"$f":"ROUND(F241*(1-$D$3)/Лист2!$A$6,0)","v":539}]
[24,"Фронтальный ограничитель 40мм (1250) оргст 646.54.00.03 L=1250/2500 для для Solo","646.54.00.03",null,null,619.16000000000008,{"$f":"ROUND(F242*(1-$D$3)/Лист2!$A$6,0)","v":619}]
[25,"Фронтальный ограничитель 40мм (937) оргст 646.54.00.03-01 L=1875 для Solo","646.54.00.03-01",null,null,289.8,{"$f":"ROUND(F243*(1-$D$3)/Лист2!$A$6,0)","v":290}]
[26,"Фронтальный ограничитель Н=60мм, L=1250 (оргст) 646.54.00.04 L=1250/2500 для Rimini/Lazio, Solo","646.54.00.04",null,null,907.12,{"$f":"ROUND(F244*(1-$D$3)/Лист2!$A$6,0)","v":907}]
[27,"Фронтальный ограничитель Н=60мм, L=937 (оргст) 646.54.00.04-01 L=1875 для Rimini/Lazio, Solo","646.54.00.04-01",null,null,734.16000000000008,{"$f":"ROUND(F245*(1-$D$3)/Лист2!$A$6,0)","v":734}]
[28,"Ограничитель проволочный(ОЦ, полимерное покрытие) 1235х57мм 781.76.00.01","781.76.00.01",null,null,273.24,{"$f":"ROUND(F246*(1-$D$3)/Лист2!$A$6,0)","v":273}]
[29,"Ограничитель проволочный(ОЦ, полимерное покрытие) 926х57мм 781.76.00.01-01, Solo","781.76.00.01-01",null,null,218.96,{"$f":"ROUND(F247*(1-$D$3)/Лист2!$A$6,0)","v":219}]
[]
[{"$f":"A247+1","v":30},"Комплект отбойника фронтального (пластик) L=1250","646.56.00.00",null,null,828.83541128434206,{"$f":"ROUND(F249*(1-$D$3)/Лист2!$A$6,0)","v":829}]
[{"$f":"A249+1","v":31},"Комплект отбойника фронтального (пластик) L=1875","646.56.00.00-01",null,null,1200.3823197911163,{"$f":"ROUND(F250*(1-$D$3)/Лист2!$A$6,0)","v":1200}]
[{"$f":"A250+1","v":32},"Торцевой элемент НБИЛГ 7.116.007 н№950.28","н№950.28",null,null,264.96000000000004,{"$f":"ROUND(F251*(1-$D$3)/Лист2!$A$6,0)","v":265}]
[33,"Комплект отбойника фронтального 15х30 (труба нерж.) L=1250","781.55.00.00",null,null,1657.6708225686841,{"$f":"ROUND(F252*(1-$D$3)/Лист2!$A$6,0)","v":1658}]
[34,"Комплект отбойника фронтального 15х30 (труба нерж.) L=1875","781.55.00.00-01",null,null,2400.7646395822326,{"$f":"ROUND(F253*(1-$D$3)/Лист2!$A$6,0)","v":2401}]
[]
[null,"Unit L9 1250",null,null,null,null,null,"вернуться к прайсу стеллажей"]
[1,"Комплект боковины глухой левой с зеркалом для Cryspi Unit L9 877.37.00.00",null,null,null,13163.36,{"$f":"ROUND(F256*(1-'Опции для витрин'!$D$3)/Лист2!$A$6,0)","v":13163}]
[2,"Комплект боковины глухой правой с зеркалом для Cryspi Unit L9  877.37.00.00mir",null,null,null,13163.36,{"$f":"ROUND(F257*(1-'Опции для витрин'!$D$3)/Лист2!$A$6,0)","v":13163}]
[3,"Комплект боковины глухой левой для Cryspi Unit L9 877.40.00.00",null,null,null,11527.6,{"$f":"ROUND(F258*(1-'Опции для витрин'!$D$3)/Лист2!$A$6,0)","v":11528}]
[4,"Комплект боковины глухой правой для Cryspi Unit L9 877.40.00.00mir",null,null,null,11527.6,{"$f":"ROUND(F259*(1-'Опции для витрин'!$D$3)/Лист2!$A$6,0)","v":11528}]
[5,"Фронтальный ограничитель (1250) оргстекло 40 646.54.00.03",null,null,null,654.12,{"$f":"ROUND(F260*(1-'Опции для витрин'!$D$3)/Лист2!$A$6,0)","v":654}]
[6,"Фронтальный ограничитель (1250) оргстекло 60 646.54.00.04",null,null,null,981.64,{"$f":"ROUND(F261*(1-'Опции для витрин'!$D$3)/Лист2!$A$6,0)","v":982}]
[7,"Комплект отбойника фронтального 20х40 исп.1250 646.55.00.00",null,null,null,1794,{"$f":"ROUND(F262*(1-'Опции для витрин'!$D$3)/Лист2!$A$6,0)","v":1794}]
[8,"Комплект отбойника фронтального 20х40 исп.2500 646.55.00.00-02",null,null,null,3395.7200000000003,{"$f":"ROUND(F263*(1-'Опции для витрин'!$D$3)/Лист2!$A$6,0)","v":3396}]
[9,"Комплект отбойника фронтального (пластик) L=1250 646.56.00.00",null,null,null,897,{"$f":"ROUND(F264*(1-'Опции для витрин'!$D$3)/Лист2!$A$6,0)","v":897}]
[10,"Комплект отбойника фронтального (пластик) L=2500 646.56.00.00-02",null,null,null,1698.3200000000002,{"$f":"ROUND(F265*(1-'Опции для витрин'!$D$3)/Лист2!$A$6,0)","v":1698}]
[11,"Комплект соединительный в линию 781.60.00.00",null,null,null,2150.04,{"$f":"ROUND(F266*(1-'Опции для витрин'!$D$3)/Лист2!$A$6,0)","v":2150}]
[12,"Комплект светодиодной подсветки полок 500 для стеллажей  L=1250 (5 полок) 646.67.00.00",null,null,null,12063.960000000001,{"$f":"ROUND(F267*(1-'Опции для витрин'!$D$3)/Лист2!$A$6,0)","v":12064}]
[13,"Комплект светодиодной подсветки полок 500 для стеллажей  L=2500 (10 полок) 646.67.00.00-02",null,null,null,22066.2,{"$f":"ROUND(F268*(1-'Опции для витрин'!$D$3)/Лист2!$A$6,0)","v":22066}]
[14,"Комплект подсветки полок, 5 рядов, (розовый) 1250  646.99.00.00",null,null,null,12576.400000000001,{"$f":"ROUND(F269*(1-'Опции для витрин'!$D$3)/Лист2!$A$6,0)","v":12576}]
[15,"Комплект подсветки полок, 5 рядов, (розовый) 2500 646.99.00.00 -02",null,null,null,23854.68,{"$f":"ROUND(F270*(1-'Опции для витрин'!$D$3)/Лист2!$A$6,0)","v":23855}]
[16,"Разделитель объёма для Unit L9/877.116.00.00 для ВПВ Unit L9",null,null,null,4104.12,{"$f":"ROUND(F271*(1-'Опции для витрин'!$D$3)/Лист2!$A$6,0)","v":4104}]
[null,null,null,null,null,"Наверх"]

{"sheet":"Расчет нестанд.RAL","index":13,"n_rows":63,"n_cols":13,"rows_kept":63,"cut":false,"hidden":false,"merged":[[13,1,16,1],[13,2,14,8],[15,2,15,8],[16,2,16,8],[18,1,22,1],[18,2,19,8],[21,2,21,8],[22,2,22,8],[24,1,28,1],[24,2,26,8],[27,2,27,8],[28,2,28,8],[30,1,33,1],[30,2,31,8],[32,2,32,8],[33,2,33,8],[47,2,47,8],[48,2,48,8],[40,1,44,1],[40,2,41,8],[42,2,42,8],[43,2,43,8],[44,2,44,8],[13,10,13,11],[62,6,63,6],[35,1,38,1],[35,2,36,8],[37,2,37,8],[38,2,38,8],[56,1,60,1],[56,2,57,8],[58,2,59,8],[60,2,60,8],[50,1,54,1],[50,2,51,8],[52,2,53,8],[54,2,54,8],[46,1,48,1],[46,2,46,8],[3,1,6,1],[3,2,4,8],[5,2,5,8],[6,2,6,8],[8,1,11,1],[8,2,9,8],[10,2,10,8],[11,2,11,8]]}
[null,null,null,null,null,null,null,null,null,null,null,null,"В содержание"]
[null,null,"Таблица расчета нестандартных RAL."]
[]
[null,"Лари Itlafrost","1. Стандартный цвет корпуса - RAL9003; Корона - серая; Внутреннний объем - буклированный алюминий;"]
[]
[null,null,"2. На заказ - краска нестандартного RAL с повышающим коэффициентом +1,5% к цене (см.список нестандартных RAL)."]
[null,null,"3. RAL, не вошедшие в список, являются заказными. Цена по запросу."]
[]
[null,"Ларь-бонеты и суперструктуры","1. Стандартный цвет корпуса - RAL9003; Делители/корзины/решетки - RAL9003; Внутренний объем - буклированный алюминий."]
[]
[null,null,"2. На заказ - краска нестандартного RAL с повышающим коэффициентом +1,5% к цене (см.список нестандартных RAL). Покраска в нестандартный цвет суперструктуры - наценка на глянцевую краску +3%, на матовую и структурную краску +8%;"]
[null,null,"3. RAL, не вошедшие в список, являются заказными. Цена по запросу."]
[]
[null,"Octava","1. Стандартная цветовая гамма (без изменения цены): пунцовый красный (RAL3002), синий (RAL5005), светло-зеленый (RAL 6018), желтый (RAL 1021), серый антрацит (RAL 7016). ",null,null,null,null,null,null,null,"Нестандартные цвета RAL"]
[null,null,null,null,null,null,null,null,null,null,"RAL","Вид поверхности"]
[null,null,"2. На заказ - краска нестандартного RAL с повышающим коэффициентом +3% к цене (см.список нестандартных RAL).",null,null,null,null,null,null,null,1001,"гладкая глянцевая "]
[null,null,"3. RAL, не вошедшие в список, являются заказными. Цена по запросу.",null,null,null,null,null,null,null,1013,"гладкая глянцевая"]
[null,null,null,null,null,null,null,null,null,null,1015,"гладкая глянцевая "]
[null,"Gamma","1. Стандартная цветовая гамма (без изменения цены): темно-вишневый(RAL 3004), пунцовый красный (RAL3002), синий (RAL5005), светло зеленый (RAL 6018), желтый (RAL 1021), серый антрацит (RAL 7016). ",null,null,null,null,null,null,null,1018,"гладкая глянцевая "]
[null,null,null,null,null,null,null,null,null,null,1021,"гладкая глянцевая "]
[null,null,"2. Специальное исполнение под увеличенную загрузку витрины для мясных комбинатов +7% к цене.",null,null,null,null,null,null,null,3000,"гладкая глянцевая "]
[null,null,"3. На заказ - краска нестандартного RAL с повышающим коэффициентом +3% к цене (см.список нестандартных RAL).",null,null,null,null,null,null,null,3002,"гладкая глянцевая "]
[null,null,"4. RAL, не вошедшие в список, являются заказными. Цена по запросу.",null,null,null,null,null,null,null,3004,"гладкая глянцевая "]
[null,null,null,null,null,null,null,null,null,null,5002,"гладкая глянцевая "]
[null,"Gamma Quadro","1. Стандартная цветовая гамма (без изменения цены): белый/серый антрацит (RAL 9016/7016), темно-вишневый(RAL 3004), пунцовый красный (RAL3002), синий (RAL5005), светло зеленый (RAL 6018), желтый (RAL 1021), серый антрацит (RAL 7016). Поставляется с маркировкой LX (исполнение люкс).",null,null,null,null,null,null,null,5005,"гладкая глянцевая "]
[null,null,null,null,null,null,null,null,null,null,5010,"гладкая глянцевая "]
[null,null,null,null,null,null,null,null,null,null,6018,"гладкая глянцевая "]
[null,null,"2. На заказ - краска нестандартного RAL с повышающим коэффициентом +3% к цене (см.список нестандартных RAL).",null,null,null,null,null,null,null,7021,"гладкая глянцевая "]
[null,null,"3. RAL, не вошедшие в список, являются заказными. Цена по запросу.",null,null,null,null,null,null,null,7035,"гладкая глянцевая "]
[null,null,null,null,null,null,null,null,null,null,7042,"гладкая глянцевая "]
[null,"Magnum","1. Стандартная цветовая гамма (без изменения цены): серый антрацит (RAL 7016), темно-вишневый(RAL 3004), пунцовый красный (RAL3002), синий (RAL5005), светло зеленый (RAL 6018), желтый (RAL 1021). ",null,null,null,null,null,null,null,8011,"гладкая глянцевая "]
[null,null,null,null,null,null,null,null,null,null,8016,"гладкая глянцевая "]
[null,null,"2. На заказ - краска нестандартного RAL с повышающим коэффициентом +3% к цене (см.список нестандартных RAL).",null,null,null,null,null,null,null,9001,"гладкая глянцевая "]
[null,null,"3. RAL, не вошедшие в список, являются заказными. Цена по запросу.",null,null,null,null,null,null,null,9003,"гладкая глянцевая "]
[null,null,null,null,null,null,null,null,null,null,9005,"гладкая глянцевая "]
[null,"Magnum Quadro","1. Покраска в нестандартный цвет наружных панелей; Замена нерж.метал на крашен.оцинк. металл во внутреннем объеме - наценка к стоимости витрины 3 %.",null,null,null,null,null,null,null,9006,"гладкая глянцевая "]
[null,null,null,null,null,null,null,null,null,null,9016,"гладкая глянцевая "]
[null,null,"2. Срок производства витрины при покраске в нестандартный цвет может увеличится. На 7 дней и более."]
[null,null,"Список стандартных цветов"]
[]
[null,"Elegia","1. Стандартная цветовая гамма (без изменения цены): бежевый (RAL1001), коричневый (RAL8002), ДСП орех."]
[]
[null,null,"2. На заказ - краска нестандартного RAL с повышающим коэффициентом +3% к цене (см.список нестандартных RAL)."]
[null,null,"3. Краска RAL 3486 с повышающим коэффициентом +8% к цене."]
[null,null,"4. Нестандартные ДСП с повышающим коэффициентом: Витрины +1% к цене, Прилавки КНП +8% к цене."]
[]
[null,"Elegia Quadro","1. Стандартная цветовая гамма: молочно-белый/черный (RAL 9010/9005)."]
[null,null,"2. На заказ - краска нестандартного RAL без дополнительной наценки (см.список нестандартных RAL)."]
[null,null,"3. RAL, не вошедшие в список, являются заказными. Цена по запросу."]
[]
[null,"SOLO","1. Стандартная цветовая гамма (без изменения цены): белый/серый антрацит (RAL 9016/7016), темно-вишневый(RAL 3004), пунцовый красный (RAL3002), синий (RAL5005), светло зеленый (RAL 6018), светло-серый (RAL7035); черный (RAL9005)"]
[]
[null,null,"2. На заказ - стеллаж нестандартного RAL  +2% к цене."]
[]
[null,null,"3. RAL, не вошедшие в список, являются заказными. Цена по запросу."]
[]
[null,"UNIT","1. Стандартная цветовая гамма (без изменения цены): белый/серый антрацит (RAL 9016/7016), темно-вишневый(RAL 3004), пунцовый красный (RAL3002), синий (RAL5005), светло зеленый (RAL 6018), светло-серый (RAL7035); черный (RAL9005). "]
[]
[null,null,"2. На заказ - стеллаж нестандартного RAL  +2% к цене."]
[]
[null,null,"3. RAL, не вошедшие в список, являются заказными. Цена по запросу."]
[]
[null,null,null,null,null,null,"НАВЕРХ"]

{"sheet":"Цвет стандарт","index":14,"n_rows":65,"n_cols":13,"rows_kept":65,"cut":false,"hidden":false,"merged":[[2,12,2,20],[3,1,8,2],[3,4,8,5],[11,1,16,2],[59,1,61,1],[59,3,59,5],[60,3,60,5],[61,3,61,5],[27,4,32,5],[35,1,39,2],[11,4,15,5],[51,1,51,5],[52,3,52,5],[53,1,55,1],[53,3,53,5],[54,3,54,5],[55,3,55,5],[27,1,32,2],[0,2,1,10],[56,1,58,1],[56,3,56,5],[57,3,57,5],[58,3,58,5],[19,1,24,2],[19,4,24,5],[62,1,64,1],[62,3,62,5],[63,3,63,5],[64,3,64,5],[65,1,65,5]]}
["             ",null," Стандартные цвета для Magnum Quadro, Solo (L7, L9, Light, SML), Unit, Adagio;"]
[null,null,null,null,null,null,null,null,null,null,null,null,"В содержание"]
[null,"RAL 7016",null,null,"RAL 9016"]
[]
[]
[]
[]
[]
[]
[]
[null,"RAL 7035",null,null,"RAL 8007"]
[]
[]
[]
[]
[]
[]
[]
[null,"RAL 5005",null,null,"RAL 6018"]
[]
[]
[]
[]
[]
[]
[]
[null,"RAL 3004",null,null,"RAL 9005 "]
[]
[]
[]
[]
[]
[]
[]
[null,"RAL 3002",null,null,"RAL 5018 (Действительно только для Magnum Quadro)"]
[]
[]
[]
[]
[]
[]
[null,"Производитель порошковых красок \"AkzoNobel\""]
[]
[null,"Структура красок: глянец"]
[null,"За дополнительную плату могут быть "]
[null,"другие цвета красок, краски с другой структурой (матовая)."]
[null,"В структуры шагрень и муар производитель не красит оборудование в виду их"]
[null,"непрактичности (сложно с покрытия без специальных средств удалять загрязнения)."]
[]
[]
[]
[null,"Расшифровка характеристик ЛДСП",null,null,null,null,null,"Гикори коричневый, Н3732",null,null,"Дуб Сонома"]
[null,"Тип фронталальной панели","Символ","Расшифровка"]
[null,"Фронтальная панель широкая, ЛДСП","Е","Гикори коричневый, Н3732"]
[null,null,"F","Дуб Уайт-Ривер, серо-коричневый Н1313"]
[null,null,"G ","Дуб Сонома"]
[null,"Фронтальная панель узкая, ЛДСП","H","Гикори коричневый, Н3732"]
[null,null,"K","Дуб Уайт-Ривер, серо-коричневый Н1313",null,null,null,"Дуб Уайт-Ривер, серо-коричневый Н1313"]
[null,null,"L","Дуб Сонома"]
[null,"Фронтальная панель широкая, ЛДСП с отбойником","M","Гикори коричневый, Н3732"]
[null,null,"N","Дуб Уайт-Ривер, серо-коричневый Н1313"]
[null,null,"Q","Дуб Сонома"]
[null,"Фронтальная панель узкая, ЛДСП с отбойником","R","Гикори коричневый, Н3732"]
[null,null,"S","Дуб Уайт-Ривер, серо-коричневый Н1313"]
[null,null,"U","Дуб Сонома"]

{"sheet":"Брендирование","index":15,"n_rows":48,"n_cols":11,"rows_kept":48,"cut":false,"hidden":false,"merged":[[8,9,9,13],[5,0,5,8],[6,6,6,7],[8,0,9,0],[8,1,9,1],[8,2,9,3],[8,4,8,6],[8,7,9,7],[8,8,9,8],[10,1,10,8],[11,0,25,1],[11,2,13,2],[11,4,13,4],[11,5,13,5],[11,6,13,6],[14,2,16,2],[14,4,16,4],[14,5,16,5],[14,6,16,6],[17,2,19,2],[17,4,19,4],[17,5,19,5],[17,6,19,6],[20,2,22,2],[20,4,22,4],[20,5,22,5],[20,6,22,6],[27,0,41,1],[27,2,29,2],[27,4,29,4],[27,5,29,5],[27,6,29,6],[23,2,25,2],[23,4,25,4],[23,5,25,5],[23,6,25,6],[26,1,26,8],[30,2,32,2],[30,4,32,4],[30,5,32,5],[30,6,32,6],[33,2,35,2],[33,4,35,4],[33,5,35,5],[33,6,35,6],[36,2,38,2],[36,4,38,4],[36,5,38,5],[36,6,38,6],[39,2,41,2],[39,4,41,4],[39,5,41,5],[39,6,41,6],[47,0,47,1],[47,2,47,8],[42,1,42,8],[43,0,44,1],[43,2,44,2],[43,4,44,4],[43,5,44,5],[43,6,44,6]]}
[]
[null,null,null,null,null,null,null,null,null,null,"В содержание"]
[]
[]
[]
["ПРАЙС-ЛИСТ. ДОПЛАТА ЗА БРЕНДИРОВАНИЕ ЛАРЕЙ ITALFROST"]
[null,null,null,null,null,null,"НДС:",null,{"$f":"IF([2]Лист2!A1=TRUE,\"С НДС\",\"БЕЗ НДС\")","v":"С НДС"}]
[null,"2021-11-21",null,null,null,null,null,"Размер вашей скидки",{"$f":"Содержание!D2","v":0}]
["№","Изображение","Оклейка",null,"Размеры стикера, мм",null,null,{"$f":"CONCATENATE([2]ВАЛЮТЫ!B11,\" С НДС\")","v":"Базовая \nцена, руб. С НДС"},{"$f":"[2]Лист2!A5","v":"Ваша цена, руб."},"Назад на страницу ларей"]
[null,null,null,null,"Фронт","Боковины","Спина"]
[1,"Морозильные лари с гнутыми раздвижными стеклами"]
[null,null,"CF(T)200C","1 сторона","840х710","640х800","840х800",1004.91606072,{"$f":"ROUND(H12*(1-I8)/Лист2!$A$6,0)","v":1005}]
[null,null,null,"3 стороны",null,null,null,2234.2550630399996,{"$f":"ROUND(H13*(1-I8)/Лист2!$A$6,0)","v":2234}]
[null,null,null,"4 стороны",null,null,null,3321.459535680001,{"$f":"ROUND(H14*(1-I8)/Лист2!$A$6,0)","v":3321}]
[null,null,"CF(T)300C","1 сторона","1040х710","640х800","1040х800",1169.4928845600004,{"$f":"ROUND(H15*(1-I8)/Лист2!$A$6,0)","v":1169}]
[null,null,null,"3 стороны",null,null,null,2406.3126516000002,{"$f":"ROUND(H16*(1-I8)/Лист2!$A$6,0)","v":2406}]
[null,null,null,"4 стороны",null,null,null,3683.0298304800008,{"$f":"ROUND(H17*(1-I8)/Лист2!$A$6,0)","v":3683}]
[null,null,"CF(T)400C","1 сторона","1240х710","640х800","1240х800",1344.0440613600001,{"$f":"ROUND(H18*(1-I8)/Лист2!$A$6,0)","v":1344}]
[null,null,null,"3 стороны",null,null,null,2493.58824,{"$f":"ROUND(H19*(1-I8)/Лист2!$A$6,0)","v":2494}]
[null,null,null,"4 стороны",null,null,null,4054.5744782400006,{"$f":"ROUND(H20*(1-I8)/Лист2!$A$6,0)","v":4055}]
[null,null,"CF(T)500C","1 сторона","1460х710","640х800","1460х800",1533.5567676000003,{"$f":"ROUND(H21*(1-I8)/Лист2!$A$6,0)","v":1534}]
[null,null,null,"3 стороны",null,null,null,2770.3765346400005,{"$f":"ROUND(H22*(1-I8)/Лист2!$A$6,0)","v":2770}]
[null,null,null,"4 стороны",null,null,null,4451.0550084000006,{"$f":"ROUND(H23*(1-I8)/Лист2!$A$6,0)","v":4451}]
[null,null,"CF(T)600C","1 сторона","1680х710","640х800","1680х800",1723.0694738400005,{"$f":"ROUND(H24*(1-I8)/Лист2!$A$6,0)","v":1723}]
[null,null,null,"3 стороны",null,null,null,2949.9148879200002,{"$f":"ROUND(H25*(1-I8)/Лист2!$A$6,0)","v":2950}]
[null,null,null,"4 стороны",null,null,null,4855.0163032800001,{"$f":"ROUND(H26*(1-I8)/Лист2!$A$6,0)","v":4855}]
[2,"Морозильные лари с прямыми раздвижными стеклами"]
[null,null,"CF(T)200F","1 сторона","840х810","640х810","840х810",1104.65959032,{"$f":"ROUND(H28*(1-$I$8)/[2]СОДЕРЖАНИЕ!$C$6/[2]Лист2!$A$6,0)","v":1105}]
[null,null,null,"3 стороны",null,null,null,2348.9601220800005,{"$f":"ROUND(H29*(1-$I$8)/[2]СОДЕРЖАНИЕ!$C$6/[2]Лист2!$A$6,0)","v":2349}]
[null,null,null,"4 стороны",null,null,null,3453.6197124000005,{"$f":"ROUND(H30*(1-$I$8)/[2]СОДЕРЖАНИЕ!$C$6/[2]Лист2!$A$6,0)","v":3454}]
[null,null,"CF(T)300F","1 сторона","1040х810","640х810","1040х810",1301.65306128,{"$f":"ROUND(H31*(1-$I$8)/[2]СОДЕРЖАНИЕ!$C$6/[2]Лист2!$A$6,0)","v":1302}]
[null,null,null,"3 стороны",null,null,null,2545.9535930400002,{"$f":"ROUND(H32*(1-$I$8)/[2]СОДЕРЖАНИЕ!$C$6/[2]Лист2!$A$6,0)","v":2546}]
[null,null,null,"4 стороны",null,null,null,3842.6194778400009,{"$f":"ROUND(H33*(1-$I$8)/[2]СОДЕРЖАНИЕ!$C$6/[2]Лист2!$A$6,0)","v":3843}]
[null,null,"CF(T)400F","1 сторона","1240х810","640х810","1240х810",1491.1657675200001,{"$f":"ROUND(H34*(1-$I$8)/[2]СОДЕРЖАНИЕ!$C$6/[2]Лист2!$A$6,0)","v":1491}]
[null,null,null,"3 стороны",null,null,null,2742.9470640000004,{"$f":"ROUND(H35*(1-$I$8)/[2]СОДЕРЖАНИЕ!$C$6/[2]Лист2!$A$6,0)","v":2743}]
[null,null,null,"4 стороны",null,null,null,4229.1256550400012,{"$f":"ROUND(H36*(1-$I$8)/[2]СОДЕРЖАНИЕ!$C$6/[2]Лист2!$A$6,0)","v":4229}]
[null,null,"CF(T)500F","1 сторона","1460х810","640х810","1460х810",1705.6143561600004,{"$f":"ROUND(H37*(1-$I$8)/[2]СОДЕРЖАНИЕ!$C$6/[2]Лист2!$A$6,0)","v":1706}]
[null,null,null,"3 стороны",null,null,null,2959.8892408800007,{"$f":"ROUND(H38*(1-$I$8)/[2]СОДЕРЖАНИЕ!$C$6/[2]Лист2!$A$6,0)","v":2960}]
[null,null,null,"4 стороны",null,null,null,4655.5292440800004,{"$f":"ROUND(H39*(1-$I$8)/[2]СОДЕРЖАНИЕ!$C$6/[2]Лист2!$A$6,0)","v":4656}]
[null,null,"CF(T)600F","1 сторона","1680Х810","640х810","1680х810",1920.0629448000002,{"$f":"ROUND(H40*(1-$I$8)/[2]СОДЕРЖАНИЕ!$C$6/[2]Лист2!$A$6,0)","v":1920}]
[null,null,null,"3 стороны",null,null,null,3174.3378295200005,{"$f":"ROUND(H41*(1-$I$8)/[2]СОДЕРЖАНИЕ!$C$6/[2]Лист2!$A$6,0)","v":3174}]
[null,null,null,"4 стороны",null,null,null,5094.40077432,{"$f":"ROUND(H42*(1-$I$8)/[2]СОДЕРЖАНИЕ!$C$6/[2]Лист2!$A$6,0)","v":5094}]
[3,"Низкотемпературная надстройка над ларем 400 л. Verona"]
[null,null,null,"1 сторона (верхний баннер, фронтальная часть)","-","-","-",4657.5,{"$f":"ROUND(H44*(1-$I$8)/[2]СОДЕРЖАНИЕ!$C$6/[2]Лист2!$A$6,0)","v":4658}]
[null,null,null,"3 стороны (верхний баннер (фронтальная часть) + 2 боковины)",null,null,null,7917.75,{"$f":"ROUND(H45*(1-$I$8)/[2]СОДЕРЖАНИЕ!$C$6/[2]Лист2!$A$6,0)","v":7918}]
[]
[]
["Примечание:",null,"Пленка толщиной 100 мкр + ламинация толщиной 80 мкр. Качество 720 dpi."]

{"sheet":"Лист1","index":16,"n_rows":0,"n_cols":0,"rows_kept":0,"cut":false,"hidden":true,"merged":[]}

{"sheet":"Лист2","index":17,"n_rows":7,"n_cols":1,"rows_kept":7,"cut":false,"hidden":true,"merged":[]}
[true]
["Базовая \nцена, руб."]
["Базовая \nцена, руб. б/НДС"]
[{"$f":"IF(A1=TRUE,\"руб.\",\"руб. б/НДС\")","v":"руб."}]
[{"$f":"CONCATENATE(\"Ваша цена, \",A4)","v":"Ваша цена, руб."}]
[{"$f":"IF(A1=TRUE,1,1.2)","v":1}]
[{"$f":"IF(A1=TRUE,1,1.2)","v":1}]