{"text_format":"1","workbook":"xlsx","n_sheets":23,"sheets":["Содержание","Витрины Cryspi","Витрины Cryspi (выносное ХО)","Кондитерские витрины","Опции для витрин Cryspi","Витрины Italfrigo","Опции для витрин Italfrigo","Горки Cryspi","Опции для горок Cryspi","Горки Italfrigo","Gamma в линию","Опции для горок Italfrigo","Низкотемпературные шкафы","Лари ItalFrost","Лари-бонеты Italfrost","Столы Italfrost с боковым","Столы Italfrost с нижним","Ледогенераторы","Цвет стандарт","Расчет нестанд.RAL","Брендирование","Лист1","Лист2"],"not_rendered":{"charts":0,"images":126,"macros":1,"external_links":8,"defined_names":420,"comments":2,"pivot_tables":0},"unopened":[],"bounds":{"document_bytes":16777216,"sheet_cells":100000,"rows_first":2000,"rows_last":500,"rows_between":2000,"halvings":0,"cell_chars":16384,"cell_head_chars":4096},"cells_cut":0,"cells_raw":0,"read":"whole","date_system":"1900"}

{"sheet":"Содержание","index":0,"n_rows":47,"n_cols":4,"rows_kept":47,"cut":false,"hidden":false,"merged":[[3,1,3,3],[4,2,38,2]]}
[null,"205.14.00.02",null,"ЗАВОД «ОПК»\nТел.: +7 (495) 987-4388\ne-mail: info@cryspi.ru\nсайт: cryspi.ru"]
[null,"Ваша скидка","-",0]
[null,"НДС","-"]
[null,"Холодильное оборудование (встроенное холодоснабжение)"]
[null,"Холодильные витрины Cryspi",null,"Низкотемпературные шкафы Cryspi "]
[null,"Витрины со статической системой охлаждения",null,"VERONA"]
[null,"Витрины OCTAVA",null,"CORSA"]
[null,"Витрины OCTAVA Quadro",null,"ANZIO"]
[null,"Витрины OCTAVA XL",null,"Лари Italfrost"]
[null,"Витрины GAMMA-2",null,"Морозильные лари с гнутыми раздвижными стеклами"]
[null,"Витрины GAMMA Quadro",null,"Морозильные лари с прямыми раздвижными стеклами"]
[null,"Витрины GAMMA Quadro Fish",null,"Морозильные лари с глухой крышкой"]
[null,"Витрины GAMMA Quadro SELF",null,"Морозильные лари с глухой крышкой (крышка из нерж. стали)"]
[null,"Витрины Sonata Quadro",null,"Морозильные лари с гнутыми раздвижными стеклами (4+)"]
[null,"Витрины настольные Vivo 1000",null,"Морозильные лари с прямыми раздвижными стеклами (4+)"]
[null,"Витрины с динамической системой охлаждения",null,"Морозильные лари для мягкого мороженого"]
[null,"Витрины Magnum",null,"Опции для ларей"]
[null,"Витрины Magnum ECO"]
[null,"Витрины Magnum Quadro",null,"Ларь-бонеты ITALFROST"]
[null,null,null,"Лари-бонеты ITALFROST"]
[null,"Витрины Cryspi без агрегата (под выносное хладоснабжение)",null,"Лари-бонеты ITALFROST Push"]
[null,"Витрины GAMMA-2 БА",null,"Лари-бонеты RONDO с термостатом"]
[null,"Витрины GAMMA QUADRO БА",null,"Лари-бонеты RONDO с контроллером"]
[null,"Витрины MAGNUM ECO БА",null,"Комплектующие для ларей-бонет"]
[null,"Витрины MAGNUM БА"]
[null,"Витрины MAGNUM QUADRO БА",null,"Ледогенераторы"]
[null,"Кондитерские витрины",null,"Льдогенератор кубикового льда"]
[null,"Витрины Adagio"]
[null,"Витрины Elegia"]
[null,"Опции и аксессуары для витрин Cryspi"]
[null,"Опции и аксессуары для витрин и стеллажей Cryspi"]
[]
[null,"Витрины Italfrigo без агрегата"]
[null,"Витрины TOSCANA Q"]
[null,"Витрины серии Veneto Quadro"]
[null,"Опции для витрин Italfrigo"]
[]
[null,"Горки Cryspi"]
[null,"Solo L7/L9"]
[null,"Solo L9 Light",null,"Cтандартные цвета"]
[null,"Solo SML",null,"Таблица расчета нестандартных RAL"]
[null,"Опции для витрин Cryspi",null," БРЕНДИРОВАНИЕ ЛАРЕЙ ITALFROST"]
[]
[null,"Стеллажи Italfrigo под выносное холодообеспечение"]
[null,"Охлаждаемые стеллажи RIMINI"]
[null,"Охлаждаемые стеллажи LAZIO"]
[null,"Опции для cтеллажей Italfrigo"]

{"sheet":"Витрины Cryspi","index":1,"n_rows":344,"n_cols":16,"rows_kept":344,"cut":false,"hidden":false,"merged":[[206,0,206,11],[331,9,332,9],[333,9,334,9],[335,9,336,9],[311,9,312,9],[313,9,314,9],[315,9,316,9],[317,9,318,9],[320,9,321,9],[322,9,323,9],[324,9,325,9],[326,9,327,9],[329,9,330,9],[284,9,285,9],[286,9,287,9],[288,9,289,9],[290,9,291,9],[293,9,294,9],[295,9,296,9],[297,9,298,9],[299,9,300,9],[302,9,303,9],[255,9,256,9],[257,9,258,9],[259,9,260,9],[262,9,263,9],[264,9,265,9],[266,9,267,9],[268,9,269,9],[271,9,274,9],[275,9,278,9],[235,9,236,9],[237,9,238,9],[239,9,240,9],[241,9,242,9],[244,9,245,9],[246,9,247,9],[248,9,249,9],[250,9,251,9],[253,9,254,9],[209,9,211,9],[216,9,217,9],[218,9,219,9],[220,9,221,9],[222,9,223,9],[225,9,226,9],[227,9,228,9],[229,9,230,9],[231,9,232,9],[213,5,213,11],[216,6,223,6],[222,7,223,7],[229,7,230,7],[277,7,278,7],[145,10,146,11],[165,4,166,4],[147,4,148,4],[184,7,185,7],[235,7,236,7],[231,7,232,7],[156,4,157,4],[180,4,181,4],[180,6,181,6],[176,7,177,7],[227,4,228,4],[151,7,152,7],[163,7,164,7],[182,7,183,7],[187,6,188,6],[189,6,190,6],[191,7,192,7],[189,7,190,7],[191,4,192,4],[170,6,171,6],[179,3,179,11],[189,4,190,4],[161,7,162,7],[286,7,287,7],[302,7,303,7],[184,4,185,4],[271,7,272,7],[259,7,260,7],[244,7,245,7],[237,4,238,4],[237,7,238,7],[189,8,190,8],[268,4,269,4],[268,7,269,7],[225,6,232,6],[250,7,251,7],[239,7,240,7],[244,4,245,4],[250,4,251,4],[216,4,217,4],[216,7,217,7],[218,4,219,4],[218,7,219,7],[220,7,221,7],[225,7,226,7],[235,4,236,4],[231,4,232,4],[65,4,65,5],[39,0,50,2],[55,4,55,5],[57,4,57,5],[49,4,49,5],[50,4,50,5],[283,0,336,2],[320,4,321,4],[322,4,323,4],[333,4,334,4],[284,4,285,4],[259,4,260,4],[271,4,272,4],[275,4,276,4],[317,4,318,4],[306,4,307,4],[308,4,309,4],[288,4,289,4],[277,4,278,4],[273,4,274,4],[290,4,291,4],[266,4,267,4],[262,4,263,4],[248,4,249,4],[9,11,10,11],[15,4,15,5],[9,9,10,9],[11,1,11,9],[21,4,21,5],[11,10,12,11],[16,3,16,11],[53,4,53,5],[42,4,42,5],[52,3,52,11],[51,1,51,11],[20,3,20,11],[23,4,23,5],[45,4,45,5],[25,4,25,5],[46,4,46,5],[35,4,35,5],[36,4,36,5],[37,4,37,5],[29,4,29,5],[26,4,26,5],[28,4,28,5],[41,4,41,5],[38,1,38,11],[116,2,136,2],[116,0,136,0],[135,6,136,6],[52,0,66,2],[92,6,93,6],[126,4,127,4],[135,4,136,4],[9,0,10,0],[9,1,10,1],[9,2,10,2],[9,4,10,5],[9,6,10,6],[13,4,13,5],[14,4,14,5],[12,0,37,2],[9,3,10,3],[12,3,12,8],[9,8,10,8],[24,3,24,11],[27,3,27,11],[32,4,32,5],[30,4,30,5],[33,4,33,5],[34,4,34,5],[76,4,77,4],[39,3,39,11],[43,3,43,11],[47,3,47,11],[44,4,44,5],[40,4,40,5],[48,4,48,5],[73,4,74,4],[75,3,75,11],[67,10,68,11],[67,1,67,9],[68,0,114,2],[69,4,70,4],[69,6,70,6],[71,4,72,4],[71,6,72,6],[56,3,56,11],[60,3,60,11],[64,3,64,11],[68,3,68,8],[54,4,54,5],[58,4,58,5],[66,4,66,5],[61,4,61,5],[31,4,31,5],[1,2,1,4],[2,2,2,4],[3,2,3,4],[124,6,125,6],[128,7,129,7],[119,7,120,7],[131,4,132,4],[131,6,132,6],[99,6,100,6],[59,4,59,5],[17,4,17,5],[18,4,18,5],[19,4,19,5],[82,3,82,11],[83,7,84,7],[128,6,129,6],[0,8,4,11],[63,4,63,5],[69,7,70,7],[71,7,72,7],[80,7,81,7],[90,7,91,7],[9,7,10,7],[22,4,22,5],[343,8,344,8],[311,4,312,4],[311,7,312,7],[313,4,314,4],[313,7,314,7],[315,4,316,4],[315,7,316,7],[329,7,330,7],[331,4,332,4],[329,4,330,4],[322,7,323,7],[324,4,325,4],[326,4,327,4],[326,7,327,7],[331,7,332,7],[333,7,334,7],[335,4,336,4],[324,7,325,7],[317,7,318,7],[319,3,319,11],[329,6,336,6],[335,7,336,7],[320,6,327,6],[320,7,321,7],[6,0,7,11],[165,7,166,7],[168,4,169,4],[246,4,247,4],[121,7,122,7],[117,6,118,6],[209,8,211,8],[207,0,207,5],[207,6,207,11],[187,7,188,7],[220,4,221,4],[229,4,230,4],[222,4,223,4],[8,0,8,5],[8,6,8,11],[212,0,212,11],[213,0,213,4],[138,2,144,2],[208,1,208,11],[113,6,114,6],[73,6,74,6],[117,4,118,4],[117,7,118,7],[9,10,10,10],[138,0,144,0],[241,7,242,7],[227,7,228,7],[176,6,177,6],[182,4,183,4],[182,6,183,6],[167,3,167,11],[163,4,164,4],[154,4,155,4],[149,6,150,6],[151,6,152,6],[151,4,152,4],[156,6,157,6],[158,4,159,4],[143,4,144,4],[139,7,140,7],[141,7,142,7],[139,4,140,4],[139,6,140,6],[143,6,144,6],[168,6,169,6],[191,6,192,6],[172,3,172,11],[146,3,146,8],[153,3,153,11],[160,3,160,11],[62,4,62,5],[76,7,77,7],[73,7,74,7],[293,6,300,6],[257,7,258,7],[111,4,112,4],[76,6,77,6],[80,6,81,6],[90,4,91,4],[90,6,91,6],[99,4,100,4],[83,4,84,4],[83,6,84,6],[111,6,112,6],[89,3,89,11],[96,3,96,11],[101,3,101,11],[94,4,95,4],[94,6,95,6],[92,7,93,7],[87,6,88,6],[146,0,177,2],[295,7,296,7],[284,7,285,7],[262,7,263,7],[273,7,274,7],[280,7,281,7],[248,7,249,7],[244,6,251,6],[280,6,281,6],[262,6,269,6],[270,3,270,11],[279,3,279,11],[275,7,276,7],[234,3,234,8],[235,6,242,6],[163,6,164,6],[165,6,166,6],[161,6,162,6],[209,0,211,2],[161,4,162,4],[187,4,188,4],[184,6,185,6],[149,4,150,4],[170,4,171,4],[131,7,132,7],[135,7,136,7],[97,4,98,4],[78,4,79,4],[78,6,79,6],[85,6,86,6],[111,7,112,7],[78,7,79,7],[94,7,95,7],[99,7,100,7],[80,4,81,4],[87,7,88,7],[126,6,127,6],[126,7,127,7],[133,4,134,4],[121,6,122,6],[128,4,129,4],[124,4,125,4],[121,4,122,4],[85,4,86,4],[87,4,88,4],[113,4,114,4],[92,4,93,4],[119,4,120,4],[141,4,142,4],[141,6,142,6],[194,3,194,11],[198,3,198,11],[202,3,202,11],[233,10,234,11],[261,3,261,11],[252,3,252,11],[253,6,260,6],[233,1,233,9],[179,0,185,2],[187,0,192,2],[194,0,205,2],[224,3,224,11],[225,4,226,4],[187,8,188,8],[180,7,181,7],[215,0,232,2],[215,3,215,9],[214,2,214,9],[214,10,215,11],[154,7,155,7],[255,4,256,4],[253,4,254,4],[288,7,289,7],[286,4,287,4],[271,6,278,6],[328,3,328,11],[234,0,281,2],[283,3,283,8],[280,5,281,5],[282,10,283,11],[243,3,243,11],[282,1,282,9],[311,6,318,6],[292,3,292,11],[284,6,291,6],[264,7,265,7],[266,7,267,7],[264,4,265,4],[302,6,309,6],[295,4,296,4],[241,4,242,4],[246,7,247,7],[255,7,256,7],[257,4,258,4],[239,4,240,4],[253,7,254,7],[310,3,310,11],[306,7,307,7],[308,7,309,7],[290,7,291,7],[304,7,305,7],[304,4,305,4],[297,4,298,4],[297,7,298,7],[299,4,300,4],[299,7,300,7],[302,4,303,4],[293,4,294,4],[293,7,294,7],[301,3,301,11],[304,9,305,9],[306,9,307,9],[308,9,309,9],[333,12,336,12],[215,12,232,12],[234,12,251,12],[252,12,260,12],[261,12,269,12],[270,12,274,12],[275,12,278,12],[279,12,281,12],[283,12,300,12],[301,12,309,12],[310,12,318,12],[319,12,323,12],[324,12,327,12],[328,12,332,12],[145,1,145,9],[178,1,178,11],[186,1,186,11],[193,1,193,11],[85,7,86,7],[119,6,120,6],[170,7,171,7],[149,7,150,7],[147,7,148,7],[97,6,98,6],[97,7,98,7],[133,6,134,6],[137,1,137,5],[156,7,157,7],[158,7,159,7],[154,6,155,6],[158,6,159,6],[168,7,169,7],[113,7,114,7],[115,1,115,5],[147,6,148,6],[133,7,134,7],[124,7,125,7],[143,7,144,7]]}
[null,null,null,null,null,null,null,null,"ЗАВОД «ОПК»\nТел.: +7 (495) 987-4388\ne-mail: info@cryspi.ru\nсайт: cryspi.ru",null,null,null,null,"На главную"]
[]
[null,null,"Ваша скидка:",null,null,{"$f":"Содержание!D2","v":0}]
[null,null,"НДС:",null,null,{"$f":"IF(Лист2!A1=TRUE,\"С НДС\",\"БЕЗ НДС\")","v":"С НДС"}]
[]
[]
["Витрины Cryspi со встроенным агрегатом. Статическая система охлаждения "]
[]
["Базовая комплектация:\n- Статическая система охлаждения, компрессор R-290;\n- Электронный контроллер для управления работой витрины;\n- Оттайка для версий ВПС - естественная (без ТЭНа), для версий ВПСН и ВПН - ТЭН (по умолчанию);\n- Общее светодиодное освещение для версий с высоким стеклом - стандартный - 4000К, опционально - 3000К, 6500К, мясной;\n- Товарный накопитель для линейных модулей (запасник с дверкой) (кроме НТ);\n- Упаковка в деревянную обрешетку;",null,null,null,null,null,"- Внутренний объем для витрин ВПС и ВПСН - оцинкованный металл, внутренний объем в зоне выкладки - нерж.сталь;\n- Внутренний объем для витрин ВПН - оцинкованный металл с полимерным покрытием\n- Ночные шторки для витрин с высоким стеклом;\n- Фронтальное стекло закаленное, не открывается;\n- Емкость для сбора талой воды, опционально возможно применение выпаривателя;\n"]
["№","Комплектация","Изображение","Артикул","Наименование",null,"Температурный режим,°C","Площадь экспозиции, кв.м.","Габариты, \n(LxWxH) мм","Габариты в упаковке, \n(LxWxH) мм","Базовая \nцена, руб.\n(с НДС)",{"$f":"[5]Лист2!$A$5","v":"Ваша цена, руб."}]
[]
[1,"Витрины серии OCTAVA, глубина выкладки 660 мм, стандартный Ral 3002.",null,null,null,null,null,null,null,null,"Опции Octava ",null,"EL.2.G3002гл.В7021гл.V0.PS"]
[null,null,null,{"$f":"D40","v":"Среднетемпературные, ВПС"},null,null,null,null,null,null,null,null,"нажмите чтобы перейти в список опций"]
[null,null,null,"О ВПС1 120ГR290","Octava 1200 ",null,"0…+7",0.72,"1180х955х1265","1400х1200х1110",72690,{"$f":"ROUND(K14*(1-$F$3)/Лист2!$A$6,0)","v":72690}]
[null,null,null,"О ВПС1 150ГR290","Octava 1500 ",null,"0…+7",0.92,"1480х955х1265","1700х1200х1110",78852,{"$f":"ROUND(K15*(1-$F$3)/Лист2!$A$6,0)","v":78852}]
[null,null,null,"О ВПС1 180ГR290","Octava 1800 ",null,"0…+7",1.1200000000000001,"1780х955х1265","2000х1200х1110",87628,{"$f":"ROUND(K16*(1-$F$3)/Лист2!$A$6,0)","v":87628}]
[null,null,null,{"$f":"D44","v":"Средне-низкотемпературные, ВПСН"}]
[null,null,null,"О ВПСН1 120ГR290","Octava SN 1200 ",null,"-6…+6",0.72,"1180х955х1265","1400х1200х1110",80814,{"$f":"ROUND(K18*(1-$F$3)/Лист2!$A$6,0)","v":80814}]
[null,null,null,"О ВПСН1 150ГR290","Octava SN 1500 ",null,"-6…+6",0.92,"1480х955х1265","1700х1200х1110",91122,{"$f":"ROUND(K19*(1-$F$3)/Лист2!$A$6,0)","v":91122}]
[null,null,null,"О ВПСН1 180ГR290","Octava SN 1800 ",null,"-6…+6",1.1200000000000001,"1780х955х1265","2000х1200х1110",101202,{"$f":"ROUND(K20*(1-$F$3)/Лист2!$A$6,0)","v":101202}]
[null,null,null,{"$f":"D48","v":"Низкотемпературные, ВПН"}]
[null,null,null,"О ВПН1 120ГR290","Octava M 1200 ",null," -13…-15",0.69,"1180х955х1265","1400х1200х1110",86297,{"$f":"ROUND(K22*(1-$F$3)/Лист2!$A$6,0)","v":86297}]
[null,null,null,"О ВПН1 150ГR290","Octava M 1500 ",null," -13…-15",0.89,"1480х955х1265","1700х1200х1110",98710,{"$f":"ROUND(K23*(1-$F$3)/Лист2!$A$6,0)","v":98710}]
[null,null,null,"О ВПН1 180ГR290","Octava M 1800 ",null," -13…-15",1.08,"1780х955х1265","2000х1200х1110",109065,{"$f":"ROUND(K24*(1-$F$3)/Лист2!$A$6,0)","v":109065}]
[null,null,null,"Угловые витрины"]
[null,null,null,"O ВПС1 OC90Д R290","Octava OC (угол внеш.)",null,"0…+7",0.79,"1180х1180х1265","1750х1250х1110",123382,{"$f":"ROUND(K26*(1-$F$3)/Лист2!$A$6,0)","v":123382}]
[null,null,null,"O ВПС1 IC90Д R290","Octava IC (угол внутр.)",null,"0…+7",0.61,"1354х1354х1265","2050х1150х1110",112370,{"$f":"ROUND(K27*(1-$F$3)/Лист2!$A$6,0)","v":112370}]
[null,null,null," Кассовые прилавки"]
[null,null,null,"O КНП 62 ББ","Octava КНП 620 без боковин",null,"-","-","620х917х900","850х1100х1075",21439,{"$f":"ROUND(K29*(1-$F$3)/Лист2!$A$6,0)","v":21439}]
[null,null,null,"O КНП 70","Octava КНП 700 с боковинами",null,"-","-","700х924х900","850х1100х1075",30141,{"$f":"ROUND(K30*(1-$F$3)/Лист2!$A$6,0)","v":30141}]
[null,null,null,"O КНП 112 ББ","Octava КНП 1120 без боковин",null,"-","-","1120х924х900","1350х1075х1075",33616,{"$f":"ROUND(K31*(1-$F$3)/Лист2!$A$6,0)","v":33616}]
[null,null,null,"O КНП 120","Octava КНП 1200 с боковинами",null,"-","-","1200х924х900","1350х1075х1075",43590,{"$f":"ROUND(K32*(1-$F$3)/Лист2!$A$6,0)","v":43590}]
[null,null,null,"O КНП 900 ББ","Octava КНП 900 без боковин",null,"-","-","900х924х900","1130х1075х1075",26758,{"$f":"ROUND(K33*(1-$F$3)/Лист2!$A$6,0)","v":26758}]
[null,null,null,"O КНП 980","Octava КНП 980 с боковинами",null,"-","-","980х924х900","1130х1075х1075",38452,{"$f":"ROUND(K34*(1-$F$3)/Лист2!$A$6,0)","v":38452}]
[null,null,null,"O КНП OC90 ББ","Octava КНП OC 90 без боковин",null,"-","-","1592х850х900","1600х1210х1075",28978,{"$f":"ROUND(K35*(1-$F$3)/Лист2!$A$6,0)","v":28978}]
[null,null,null,"O КНП OC90","Octava КНП OC 90 с боковинами",null,"-","-","1632х871х900","1600х1210х1075",37685,{"$f":"ROUND(K36*(1-$F$3)/Лист2!$A$6,0)","v":37685}]
[null,null,null,"O КНП IC90 ББ","Octava КНП IC 90 без боковин",null,"-","-","1592х850х900","1780х1030х1075",28406,{"$f":"ROUND(K37*(1-$F$3)/Лист2!$A$6,0)","v":28406}]
[null,null,null,"O КНП IC90","Octava КНП IC 90 с боковинами",null,"-","-","1632х871х900","1780х1030х1075",37114,{"$f":"ROUND(K38*(1-$F$3)/Лист2!$A$6,0)","v":37114}]
[2,"Витрины серии OCTAVA Q, глубина выкладки 660 мм, стандартный RAL 7016",null,null,null,null,null,null,null,null,null,null,"EL.2.G7016гл.В7016гл.V0.PS"]
[null,null,null,"Среднетемпературные, ВПС"]
[null,null,null,"OKQВПС 120 R290","Octava Q 1200",null,"0…+7",0.72,"1180х925х1200","1400х1200х1110",76796,{"$f":"ROUND(K41*(1-$F$3)/Лист2!$A$6,0)","v":76796}]
[null,null,null,"OKQВПС 150 R290","Octava Q 1500",null,"0…+7",0.92,"1480х925х1200","1700х1200х1110",86530,{"$f":"ROUND(K42*(1-$F$3)/Лист2!$A$6,0)","v":86530}]
[null,null,null,"OKQВПС 180 R290","Octava Q 1800",null,"0…+7",1.1200000000000001,"1780х925х1200","2000х1200х1110",98954,{"$f":"ROUND(K43*(1-$F$3)/Лист2!$A$6,0)","v":98954}]
[null,null,null,"Средне-низкотемпературные, ВПСН"]
[null,null,null,"OKQВПСН 120 R290","Octava Q SN 1200",null,"-6…+6",0.72,"1180х925х1200","1400х1200х1110",84403,{"$f":"ROUND(K45*(1-$F$3)/Лист2!$A$6,0)","v":84403}]
[null,null,null,"OKQВПСН 150 R290","Octava Q SN 1500",null,"-6…+6",0.92,"1480х925х1200","1700х1200х1110",96671,{"$f":"ROUND(K46*(1-$F$3)/Лист2!$A$6,0)","v":96671}]
[null,null,null,"OKQВПСН 180 R290","Octava Q SN 1800",null,"-6…+6",1.1200000000000001,"1780х925х1200","2000х1200х1110",108842,{"$f":"ROUND(K47*(1-$F$3)/Лист2!$A$6,0)","v":108842}]
[null,null,null,"Низкотемпературные, ВПН"]
[null,null,null,"OKQВПН 120 R290","Octava Q M 1200",null," -15…-18",0.69,"1180х925х1200","1400х1200х1110",94781,{"$f":"ROUND(K49*(1-$F$3)/Лист2!$A$6,0)","v":94781}]
[null,null,null,"OKQВПН 150 R290","Octava Q M 1500",null," -15…-18",0.89,"1480х925х1200","1700х1200х1110",104506,{"$f":"ROUND(K50*(1-$F$3)/Лист2!$A$6,0)","v":104506}]
[null,null,null,"OKQВПН 180 R290","Octava Q M 1800",null," -15…-18",1.08,"1780х925х1200","2000х1200х1110",118260,{"$f":"ROUND(K51*(1-$F$3)/Лист2!$A$6,0)","v":118260}]
[3,"Витрины серии OCTAVA XL, глубина выкладки 780 мм, стандартный Ral 7016.",null,null,null,null,null,null,null,null,null,null,"EL.2.В7016гл.V0.PS"]
["Стандартная комплектация:",null,null,"Среднетемпературные, ВПС"]
[null,null,null,"OХL ВПС1 120 R290","Octava XL 1200 ",null,"0…+7",0.93,"1218х1069х1214","1400х1200х1110",77015,{"$f":"ROUND(K54*(1-$F$3)/Лист2!$A$6,0)","v":77015}]
[null,null,null,"OХL ВПС1 150 R290","Octava XL 1500 ",null,"0…+7",1.1499999999999999,"1518х1069х1214","1700х1200х1110",85246,{"$f":"ROUND(K55*(1-$F$3)/Лист2!$A$6,0)","v":85246}]
[null,null,null,"OХL ВПС1 180 R290","Octava XL 1800 ",null,"0…+7",1.4,"1818х1069х1214","2000х1200х1110",96660,{"$f":"ROUND(K56*(1-$F$3)/Лист2!$A$6,0)","v":96660}]
[null,null,null,"Средне-низкотемпературные, ВПСН"]
[null,null,null,"OXL ВПСН1 120 R290","Octava XL SN 1200 ",null,"-6…+6",0.93,"1218х1069х1214","1400х1200х1110",90712,{"$f":"ROUND(K58*(1-$F$3)/Лист2!$A$6,0)","v":90712}]
[null,null,null,"OXL ВПСН1 150 R290","Octava XL SN 1500 ",null,"-6…+6",1.1499999999999999,"1518х1069х1214","1700х1200х1110",95902,{"$f":"ROUND(K59*(1-$F$3)/Лист2!$A$6,0)","v":95902}]
[null,null,null,"OXL ВПСН1 180 R290","Octava XL SN 1800 ",null,"-6…+6",1.4,"1818х1069х1214","2000х1200х1110",111766,{"$f":"ROUND(K60*(1-$F$3)/Лист2!$A$6,0)","v":111766}]
[null,null,null,"Низкотемпературные, ВПН"]
[null,null,null,"OХL ВПН1 120 R290","Octava XL М 1200 ",null," -15…-18",0.85,"1218х1093х1300","1400х1200х1110",111774,{"$f":"ROUND(K62*(1-$F$3)/Лист2!$A$6,0)","v":111774}]
[null,null,null,"OХL ВПН1 150 R290","Octava XL М 1500 ",null," -15…-18",1.1000000000000001,"1518х1093х1300","1700х1200х1110",129315,{"$f":"ROUND(K63*(1-$F$3)/Лист2!$A$6,0)","v":129315}]
[null,null,null,"OХL ВПН1 180 R290","Octava XL М 1800 ",null," -15…-18",1.3,"1818х1093х1300","2000х1200х1110",141922,{"$f":"ROUND(K64*(1-$F$3)/Лист2!$A$6,0)","v":141922}]
[null,null,null,"Кассовые прилавки"]
[null,null,null,"OХЛ КНП 500 ББ","Octava XL КНП 500 ББ",null,"-","-",null,null,22116,{"$f":"ROUND(K66*(1-$F$3)/Лист2!$A$6,0)","v":22116}]
[null,null,null,"OХЛ КНП 620 ББ","Octava XL КНП 620 ББ",null,"-","-","600х1069х940","750х1250х1095",24106,{"$f":"ROUND(K67*(1-$F$3)/Лист2!$A$6,0)","v":24106}]
[4,"Витрины серии GAMMA-2, глубина выкладки 760 мм, стандартный Ral 3004.",null,null,null,null,null,null,null,null,"Опции Gamma-2",null,"EL.2.G3004гл.В3004гл.V0.PS"]
[null,null,null,"                                                                   Среднетемпературные, ВПС",null,null,null,null,null,null,null,null,"*нажмите чтобы перейти в список опций"]
[null,null,null,"G2 ВПС1 120 R290","Gamma-2 1200","с боковинами","0…+7",0.85,"1218х1093х1300","1400х1200х1110",82934,{"$f":"ROUND(K70*(1-$F$3)/Лист2!$A$6,0)","v":82934}]
[null,null,null,"G2 ВПС1 120 R290ББ",null,"без боковин",null,null,"1118х1093х1300","1400х1200х1110",71124,{"$f":"ROUND(K71*(1-$F$3)/Лист2!$A$6,0)","v":71124}]
[null,null,null,"G2 ВПС1 150 R290","Gamma-2 1500","с боковинами","0…+7",1.1000000000000001,"1518х1093х1300","1700х1200х1110",88359,{"$f":"ROUND(K72*(1-$F$3)/Лист2!$A$6,0)","v":88359}]
[null,null,null,"G2 ВПС1 150 R290ББ",null,"без боковин",null,null,"1418х1093х1300","1700х1200х1110",76549,{"$f":"ROUND(K73*(1-$F$3)/Лист2!$A$6,0)","v":76549}]
[null,null,null,"G2 ВПС1 180 R290","Gamma-2 1800","с боковинами","0…+7",1.3,"1818х1093х1300","2000х1200х1110",103364,{"$f":"ROUND(K74*(1-$F$3)/Лист2!$A$6,0)","v":103364}]
[null,null,null,"G2 ВПС1 180 R290ББ",null,"без боковин",null,null,"1718х1093х1300","2000х1200х1110",91554,{"$f":"ROUND(K75*(1-$F$3)/Лист2!$A$6,0)","v":91554}]
[null,null,null,"Средне-низкотемпературные, ВПСН"]
[null,null,null,"G2 ВПСН1 120 R290","Gamma-2 SN 1200","с боковинами","-6…+6",0.85,"1218х1093х1300","1400х1200х1110",93042,{"$f":"ROUND(K77*(1-$F$3)/Лист2!$A$6,0)","v":93042}]
[null,null,null,"G2 ВПСН1 120 R290ББ",null,"без боковин",null,null,"1118х1093х1300","1400х1200х1110",81232,{"$f":"ROUND(K78*(1-$F$3)/Лист2!$A$6,0)","v":81232}]
[null,null,null,"G2 ВПСН1 150 R290","Gamma-2 SN 1500","с боковинами","-6…+6",1.1000000000000001,"1518х1093х1300","1700х1200х1110",104180,{"$f":"ROUND(K79*(1-$F$3)/Лист2!$A$6,0)","v":104180}]
[null,null,null,"G2 ВПСН1 150 ББ R290",null,"без боковин",null,null,"1418х1093х1300","1700х1200х1110",92370,{"$f":"ROUND(K80*(1-$F$3)/Лист2!$A$6,0)","v":92370}]
[null,null,null,"G2 ВПСН1 180 R290","Gamma-2 SN 1800","с боковинами","-6…+6",1.3,"1818х1093х1300","2000х1200х1110",118691,{"$f":"ROUND(K81*(1-$F$3)/Лист2!$A$6,0)","v":118691}]
[null,null,null,"G2 ВПСН1 180 ББ R290",null,"без боковин",null,null,"1718х1093х1300","2000х1200х1110",106881,{"$f":"ROUND(K82*(1-$F$3)/Лист2!$A$6,0)","v":106881}]
[null,null,null,"Средне-низкотемпературные для рыбы, ВПСН"]
[null,null,null,"G2ВПСН1 120F R290","Gamma-2 Fish 1200","с боковинами","-6…+6",0.85,"1218х1093х1300","1400х1200х1110",103235,{"$f":"ROUND(K84*(1-$F$3)/Лист2!$A$6,0)","v":103235}]
[null,null,null,null,null,"без боковин",null,null,"1118х1093х1300","1400х1200х1110",91425,{"$f":"ROUND(K85*(1-$F$3)/Лист2!$A$6,0)","v":91425}]
[null,null,null,"G2ВПСН1 150F R290","Gamma-2 Fish 1500","с боковинами","-6…+6",1.1000000000000001,"1518х1093х1300","1700х1200х1110",119488,{"$f":"ROUND(K86*(1-$F$3)/Лист2!$A$6,0)","v":119488}]
[null,null,null,null,null,"без боковин",null,null,"1418х1093х1300","1700х1200х1110",107678,{"$f":"ROUND(K87*(1-$F$3)/Лист2!$A$6,0)","v":107678}]
[null,null,null,"G2ВПСН1 180F R290","Gamma-2 Fish 1800","с боковинами","-6…+6",1.3,"1818х1093х1300","2000х1200х1110",154529,{"$f":"ROUND(K88*(1-$F$3)/Лист2!$A$6,0)","v":154529}]
[null,null,null,null,null,"без боковин",null,null,"1718х1093х1300","2000х1200х1110",142719,{"$f":"ROUND(K89*(1-$F$3)/Лист2!$A$6,0)","v":142719}]
[null,null,null,"Низкотемпературные, ВПН"]
[null,null,null,"G2 ВПН1 120 R290","Gamma-2 М 1200","с боковинами","от -18",0.85,"1218х1093х1300","1400х1200х1110",114854,{"$f":"ROUND(K91*(1-$F$3)/Лист2!$A$6,0)","v":114854}]
[null,null,null,"G2 ВПН1 120 ББ R290",null,"без боковин",null,null,"1118х1093х1300","1400х1200х1110",102862,{"$f":"ROUND(K92*(1-$F$3)/Лист2!$A$6,0)","v":102862}]
[null,null,null,"G2 ВПН1 150 R290","Gamma-2 М 1500","с боковинами","от -18",1.1000000000000001,"1518х1093х1300","1700х1200х1110",131317,{"$f":"ROUND(K93*(1-$F$3)/Лист2!$A$6,0)","v":131317}]
[null,null,null,"G2 ВПН1 150 ББ R290",null,"без боковин",null,null,"1418х1093х1300","1700х1200х1110",119325,{"$f":"ROUND(K94*(1-$F$3)/Лист2!$A$6,0)","v":119325}]
[null,null,null,"G2 ВПН1 180 R290","Gamma-2 М 1800","с боковинами","от -18",1.3,"1818х1093х1300","2000х1200х1110",144590,{"$f":"ROUND(K95*(1-$F$3)/Лист2!$A$6,0)","v":144590}]
[null,null,null,"G2 ВПН1 180 ББ R290",null,"без боковин",null,null,"1718х1093х1300","2000х1200х1110",132598,{"$f":"ROUND(K96*(1-$F$3)/Лист2!$A$6,0)","v":132598}]
[null,null,null,"Угловые витрины (ВПС)"]
[null,null,null,"G2ВПС1 ОС90Д R290","Gamma-2 OC 90 (угол внеш.)","с боковинами","0…+7",0.92,"1180х1180х1300","1750х1400х1110",120667,{"$f":"ROUND(K98*(1-$F$3)/Лист2!$A$6,0)","v":120667}]
[null,null,null,"G2ВПС1 ОС90Д R290ББ",null,"без боковин",null,null,"1130х1130х1300","1750х1400х1110",108857,{"$f":"ROUND(K99*(1-$F$3)/Лист2!$A$6,0)","v":108857}]
[null,null,null,"G2ВПС1 IС90 R290","Gamma-2 IC 90 (угол внутр.)","с боковинами","0…+7",0.74,"1355х1355х1300","2050х1200х1110",133493,{"$f":"ROUND(K100*(1-$F$3)/Лист2!$A$6,0)","v":133493}]
[null,null,null,"G2ВПС1 IС90 R290 ББ",null,"без боковин",null,null,"1305х1305х1300","2050х1200х1110",121683,{"$f":"ROUND(K101*(1-$F$3)/Лист2!$A$6,0)","v":121683}]
[null,null,null," Кассовые прилавки"]
[null,null,null,"G2 КНП 102","Gamma-2 КНП 1020","с боковинами","-","-","1000х1100х940","1170х1250х1095",32935,{"$f":"ROUND(K103*(1-$F$3)/Лист2!$A$6,0)","v":32935}]
[null,null,null,"G2 КНП 92 ББ","Gamma-2 КНП 920 ББ","без боковин","-","-","920х1100х940","1170х1250х1095",26812,{"$f":"ROUND(K104*(1-$F$3)/Лист2!$A$6,0)","v":26812}]
[null,null,null,"G2 КНП 80","Gamma-2 КНП 800","с боковинами","-","-","800х1100х940","950хх1250х1095",31145,{"$f":"ROUND(K105*(1-$F$3)/Лист2!$A$6,0)","v":31145}]
[null,null,null,"G2 КНП 80 ББ","Gamma-2 КНП 800 ББ","без боковин",null,null,null,null,26810,{"$f":"ROUND(K106*(1-$F$3)/Лист2!$A$6,0)","v":26810}]
[null,null,null,"G2 КНП 70","Gamma-2 КНП 700","с боковинами",null,null,"700х1100х940","850х1250х1095",30471,{"$f":"ROUND(K107*(1-$F$3)/Лист2!$A$6,0)","v":30471}]
[null,null,null,"G2 КНП 70 ББ","Gamma-2 КНП 700 ББ","без боковин","-","-","700х1100х940","850х1250х1095",23241,{"$f":"ROUND(K108*(1-$F$3)/Лист2!$A$6,0)","v":23241}]
[null,null,null,"G2 КНП 60","Gamma-2 КНП 600","с боковинами","-","-","600х1100х940","750х1250х1095",29134,{"$f":"ROUND(K109*(1-$F$3)/Лист2!$A$6,0)","v":29134}]
[null,null,null,"G2 КНП 60 ББ","Gamma-2 КНП 600 ББ","без боковин","-","-","600х1100х940","750х1250х1095",21904,{"$f":"ROUND(K110*(1-$F$3)/Лист2!$A$6,0)","v":21904}]
[null,null,null,"G2 КНП 50 ББ","Gamma-2 КНП 500 ББ","без боковин","-","-","500х1100х940","650х1250х1095",19070,{"$f":"ROUND(K111*(1-$F$3)/Лист2!$A$6,0)","v":19070}]
[null,null,null,"G2 КНП OC90","Gamma-2 ОС КНП (угол внеш.)","с боковинами","-","-","1145х1145х930","1850х1390х1095",43760,{"$f":"ROUND(K112*(1-$F$3)/Лист2!$A$6,0)","v":43760}]
[null,null,null,"G2 КНП OC90 ББ",null,"без боковин",null,null,"1095х1095х930","1850х1390х1095",33698,{"$f":"ROUND(K113*(1-$F$3)/Лист2!$A$6,0)","v":33698}]
[null,null,null,"G2 КНП IC90","Gamma-2 IC КНП (угол внутр.)","с боковинами","-","-","1275х1275х930","2050х1300х1095",42995,{"$f":"ROUND(K114*(1-$F$3)/Лист2!$A$6,0)","v":42995}]
[null,null,null,"G2 КНП IC90 ББ",null,"без боковин",null,null,"1225х1225х930","2050х1300х1095",32934,{"$f":"ROUND(K115*(1-$F$3)/Лист2!$A$6,0)","v":32934}]
[5,"Витрины серии GAMMA-2 LED, глубина выкладки 760 мм, стандартный Ral 3004.",null,null,null,null,null,null,null,null,null,null,null,null,{"$f":"K116/M116","v":{"$error":"#DIV/0!"}}]
[null,"Стандартная комплектация:",null,null,"Среднетемпературные",null,null,null,null,null,null,null,null,null,{"$f":"K117/M117","v":{"$error":"#DIV/0!"}}]
[null,"- агрегат",null,null,"Gamma-2 1200 LED","с боковинами","0…+7",0.85,"1218х1093х1300",null,79279,{"$f":"ROUND(K118*(1-$F$3)/Лист2!$A$6,0)","v":79279},null,null,{"$f":"K118/M118","v":{"$error":"#DIV/0!"}}]
[null,"- испаритель",null,null,null,"без боковин",null,null,"1118х1093х1300",null,68488,{"$f":"ROUND(K119*(1-$F$3)/Лист2!$A$6,0)","v":68488},null,null,{"$f":"K119/M119","v":{"$error":"#DIV/0!"}}]
[null,"- шторки из оргстекла",null,null,"Gamma-2 1500 LED","с боковинами","0…+7",1.1000000000000001,"1518х1093х1300",null,84487,{"$f":"ROUND(K120*(1-$F$3)/Лист2!$A$6,0)","v":84487},null,null,{"$f":"K120/M120","v":{"$error":"#DIV/0!"}}]
[null,"- комплект боковин и боковых стекол",null,null,null,"без боковин",null,null,"1418х1093х1300",null,73696,{"$f":"ROUND(K121*(1-$F$3)/Лист2!$A$6,0)","v":73696},null,null,{"$f":"K121/M121","v":{"$error":"#DIV/0!"}}]
[null,"- комплект фронтальных стекол",null,null,"Gamma-2 1800 LED","с боковинами","0…+7",1.3,"1818х1093х1300",null,99221,{"$f":"ROUND(K122*(1-$F$3)/Лист2!$A$6,0)","v":99221},null,null,{"$f":"K122/M122","v":{"$error":"#DIV/0!"}}]
[null,"- экспозиционные полки из шлифованной стали",null,null,null,"без боковин",null,null,"1718х1093х1300",null,88105,{"$f":"ROUND(K123*(1-$F$3)/Лист2!$A$6,0)","v":88105},null,null,{"$f":"K123/M123","v":{"$error":"#DIV/0!"}}]
[null,"- ёмкость для сбора талой воды",null,null,"Средне-низкотемпературные",null,null,null,null,null,null,null,null,null,{"$f":"K124/M124","v":{"$error":"#DIV/0!"}}]
[null,"- светодиодная подсветка",null,null,"Gamma-2 SN 1200 LED","с боковинами","-6…+6",0.85,"1218х1093х1300",null,89313,{"$f":"ROUND(K125*(1-$F$3)/Лист2!$A$6,0)","v":89313},null,null,{"$f":"K125/M125","v":{"$error":"#DIV/0!"}}]
[null,"- электронный пульт управления",null,null,null,"без боковин",null,null,"1118х1093х1300",null,78198,{"$f":"ROUND(K126*(1-$F$3)/Лист2!$A$6,0)","v":78198},null,null,{"$f":"K126/M126","v":{"$error":"#DIV/0!"}}]
[null,"- деревянная тара",null,null,"Gamma-2 SN 1500 LED","с боковинами","-6…+6",1.1000000000000001,"1518х1093х1300",null,100002,{"$f":"ROUND(K127*(1-$F$3)/Лист2!$A$6,0)","v":100002},null,null,{"$f":"K127/M127","v":{"$error":"#DIV/0!"}}]
[null,null,null,null,null,"без боковин",null,null,"1418х1093х1300",null,88888,{"$f":"ROUND(K128*(1-$F$3)/Лист2!$A$6,0)","v":88888},null,null,{"$f":"K128/M128","v":{"$error":"#DIV/0!"}}]
[null,null,null,null,"Gamma-2 SN 1800 LED","с боковинами","-6…+6",1.3,"1818х1093х1300",null,113934,{"$f":"ROUND(K129*(1-$F$3)/Лист2!$A$6,0)","v":113934},null,null,{"$f":"K129/M129","v":{"$error":"#DIV/0!"}}]
[null,null,null,null,null,"без боковин",null,null,"1718х1093х1300",null,102818,{"$f":"ROUND(K130*(1-$F$3)/Лист2!$A$6,0)","v":102818},null,null,{"$f":"K130/M130","v":{"$error":"#DIV/0!"}}]
[null,null,null,null,"Низкотемпературные",null,null,null,null,null,null,null,null,null,{"$f":"K131/M131","v":{"$error":"#DIV/0!"}}]
[null,null,null,null,"Gamma-2 М 1200 LED","с боковинами","от -18",0.85,"1218х1093х1300",null,110250,{"$f":"ROUND(K132*(1-$F$3)/Лист2!$A$6,0)","v":110250},null,null,{"$f":"K132/M132","v":{"$error":"#DIV/0!"}}]
[null,null,null,null,null,"без боковин",null,null,"1118х1093х1300",null,98964,{"$f":"ROUND(K133*(1-$F$3)/Лист2!$A$6,0)","v":98964},null,null,{"$f":"K133/M133","v":{"$error":"#DIV/0!"}}]
[null,null,null,null,"Gamma-2 М 1500 LED","с боковинами","от -18",1.1000000000000001,"1518х1093х1300",null,126052,{"$f":"ROUND(K134*(1-$F$3)/Лист2!$A$6,0)","v":126052},null,null,{"$f":"K134/M134","v":{"$error":"#DIV/0!"}}]
[null,null,null,null,null,"без боковин",null,null,"1418х1093х1300",null,114766,{"$f":"ROUND(K135*(1-$F$3)/Лист2!$A$6,0)","v":114766},null,null,{"$f":"K135/M135","v":{"$error":"#DIV/0!"}}]
[null,null,null,null,"Gamma-2 М 1800 LED","с боковинами","от -18",1.3,"1818х1093х1300",null,138793,{"$f":"ROUND(K136*(1-$F$3)/Лист2!$A$6,0)","v":138793},null,null,{"$f":"K136/M136","v":{"$error":"#DIV/0!"}}]
[null,null,null,null,null,"без боковин",null,null,"1718х1093х1300",null,127507,{"$f":"ROUND(K137*(1-$F$3)/Лист2!$A$6,0)","v":127507},null,null,{"$f":"K137/M137","v":{"$error":"#DIV/0!"}}]
[6,"Витрины серии GAMMA-2  FISH, глубина выкладки 760 мм, стандартный Ral 3004.",null,null,null,null,null,null,null,null,null,null,null,null,{"$f":"K138/M138","v":{"$error":"#DIV/0!"}}]
[null,null,null,null,"Средне-низкотемпературные",null,null,null,null,null,null,null,null,null,{"$f":"K139/M139","v":{"$error":"#DIV/0!"}}]
[null,"- усиленный поддон для льда и рыбы",null,null,"Gamma-2 SN FISH 1200","с боковинами","-6…+6",0.85,"1218х1093х1300",null,97693,{"$f":"ROUND(K140*(1-$F$3)/Лист2!$A$6,0)","v":97693},null,null,{"$f":"K140/M140","v":{"$error":"#DIV/0!"}}]
[null,"- коррозионностойкая решётка защиты испарителя ",null,null,null,"без боковин",null,null,"1118х1093х1300",null,86578,{"$f":"ROUND(K141*(1-$F$3)/Лист2!$A$6,0)","v":86578},null,null,{"$f":"K141/M141","v":{"$error":"#DIV/0!"}}]
[null,"- увеличенный слив (Д 40 мм)",null,null,"Gamma-2 SN FISH 1500","с боковинами","-6…+6",1.1000000000000001,"1518х1093х1300",null,112989,{"$f":"ROUND(K142*(1-$F$3)/Лист2!$A$6,0)","v":112989},null,null,{"$f":"K142/M142","v":{"$error":"#DIV/0!"}}]
[null,null,null,null,null,"без боковин",null,null,"1418х1093х1300",null,101874,{"$f":"ROUND(K143*(1-$F$3)/Лист2!$A$6,0)","v":101874},null,null,{"$f":"K143/M143","v":{"$error":"#DIV/0!"}}]
[null,null,null,null,"Gamma-2 SN FISH 1800","с боковинами","-6…+6",1.3,"1818х1093х1300",null,126856,{"$f":"ROUND(K144*(1-$F$3)/Лист2!$A$6,0)","v":126856},null,null,{"$f":"K144/M144","v":{"$error":"#DIV/0!"}}]
[null,null,null,null,null,"без боковин",null,null,"1718х1093х1300",null,115742,{"$f":"ROUND(K145*(1-$F$3)/Лист2!$A$6,0)","v":115742},null,null,{"$f":"K145/M145","v":{"$error":"#DIV/0!"}}]
[5,"Витрины серии GAMMA QUADRO, глубина выкладки 760 мм, стандартный Ral 9016/7016.",null,null,null,null,null,null,null,null,"Опции Gamma Quadro",null,"EL.2.G9016гл.В7016гл.V0.PS"]
["Стандартная комплектация:",null,null,"                                                                   Среднетемпературные, ВПС",null,null,null,null,null,null,null,null,"*нажмите чтобы перейти в список опций"]
[null,null,null,"G2QUADLXВПС1 120R290","Gamma Quadro 1200","с боковинами","0…+7",0.85,"1218х1087х1209","1400х1200х1110",100346,{"$f":"ROUND(K148*(1-$F$3)/Лист2!$A$6,0)","v":100346}]
[null,null,null,"G2QUADLXВПС1 120R290ББ",null,"без боковин",null,null,"1118х1087х1209","1400х1200х1110",87960,{"$f":"ROUND(K149*(1-$F$3)/Лист2!$A$6,0)","v":87960}]
[null,null,null,"G2QUADLXВПС1 150R290","Gamma Quadro 1500","с боковинами","0…+7",1.1000000000000001,"1518х1087х1209","1700х1200х1110",107222,{"$f":"ROUND(K150*(1-$F$3)/Лист2!$A$6,0)","v":107222}]
[null,null,null,"G2QUADLXВПС1 150R290ББ",null,"без боковин",null,null,"1418х1087х1209","1700х1200х1110",94836,{"$f":"ROUND(K151*(1-$F$3)/Лист2!$A$6,0)","v":94836}]
[null,null,null,"G2QUADLXВПС1 180R290","Gamma Quadro 1800","с боковинами","0…+7",1.3,"1818х1087х1209","2000х1200х1110",128570,{"$f":"ROUND(K152*(1-$F$3)/Лист2!$A$6,0)","v":128570}]
[null,null,null,"G2QUADLXВПС1 180R290ББ",null,"без боковин",null,null,"1718х1087х1209","2000х1200х1110",116184,{"$f":"ROUND(K153*(1-$F$3)/Лист2!$A$6,0)","v":116184}]
[null,null,null,"Средне-низкотемпературные, ВПСН"]
[null,null,null,"G2QUADLXВПСН1 120R290","Gamma Quadro SN 1200","с боковинами","-6…+6",0.85,"1218х1087х1209","1400х1200х1110",108528,{"$f":"ROUND(K155*(1-$F$3)/Лист2!$A$6,0)","v":108528}]
[null,null,null,"G2QLXВПСН1 120VR290",null,"без боковин",null,null,"1118х1087х1209","1400х1200х1110",96142,{"$f":"ROUND(K156*(1-$F$3)/Лист2!$A$6,0)","v":96142}]
[null,null,null,"G2QUADLXВПСН1 150R290","Gamma Quadro SN 1500","с боковинами","-6…+6",1.1000000000000001,"1518х1087х1209","1700х1200х1110",125035,{"$f":"ROUND(K157*(1-$F$3)/Лист2!$A$6,0)","v":125035}]
[null,null,null,"G2QUADLXВПСН1 150R290ББ",null,"без боковин",null,null,"1418х1087х1209","1700х1200х1110",112649,{"$f":"ROUND(K158*(1-$F$3)/Лист2!$A$6,0)","v":112649}]
[null,null,null,"G2QUADLXВПСН1 180R290","Gamma Quadro SN 1800","с боковинами","-6…+6",1.3,"1818х1087х1209","2000х1200х1110",141966,{"$f":"ROUND(K159*(1-$F$3)/Лист2!$A$6,0)","v":141966}]
[null,null,null,"G2QUADLXВПСН1 180R290ББ",null,"без боковин",null,null,"1718х1087х1209","2000х1200х1110",129580,{"$f":"ROUND(K160*(1-$F$3)/Лист2!$A$6,0)","v":129580}]
[null,null,null,"Низкотемпературные, ВПН"]
[null,null,null,"G2QUADLXВПН1 120R290","Gamma Quadro М 1200","с боковинами","от -18",0.85,"1218х1087х1209","1400х1200х1110",126878,{"$f":"ROUND(K162*(1-$F$3)/Лист2!$A$6,0)","v":126878}]
[null,null,null,"G2QUADLXВПН1 120R290 ББ",null,"без боковин",null,null,"1118х1087х1209","1400х1200х1110",111464,{"$f":"ROUND(K163*(1-$F$3)/Лист2!$A$6,0)","v":111464}]
[null,null,null,"G2QUADLXВПН1 150R290","Gamma Quadro М 1500","с боковинами","от -18",1.1000000000000001,"1518х1087х1209","1700х1200х1110",144395,{"$f":"ROUND(K164*(1-$F$3)/Лист2!$A$6,0)","v":144395}]
[null,null,null,null,null,"без боковин",null,null,"1418х1087х1209","1700х1200х1110",128981,{"$f":"ROUND(K165*(1-$F$3)/Лист2!$A$6,0)","v":128981}]
[null,null,null,"G2QUADLXВПН1 180R290","Gamma Quadro М 1800","с боковинами","от -18",1.3,"1818х1087х1209","2000х1200х1110",167859,{"$f":"ROUND(K166*(1-$F$3)/Лист2!$A$6,0)","v":167859}]
[null,null,null,"G2QUADLXВПН1 180R290ББ",null,"без боковин",null,null,"1718х1087х1209","2000х1200х1110",152445,{"$f":"ROUND(K167*(1-$F$3)/Лист2!$A$6,0)","v":152445}]
[null,null,null,"Угловые витрины (ВПС)"]
[null,null,null,"G2QUADLXВПС1 OC90Д R290","Gamma Quadro OC 90 (угол внеш.)","с боковинами","0…+7",0.92,"1180х1180х1209","1750х1400х1110",150092,{"$f":"ROUND(K169*(1-$F$3)/Лист2!$A$6,0)","v":150092}]
[null,null,null,"G2QUADLXВПС1 OC90Д ББR290",null,"без боковин",null,null,"1130х1130х1209","1750х1400х1110",137708,{"$f":"ROUND(K170*(1-$F$3)/Лист2!$A$6,0)","v":137708}]
[null,null,null,"G2QUADLXВПС1 IC90R290","Gamma Quadro IC 90 (угол внутр.)","с боковинами","0…+7",0.74,"1355х1355х1209","2050х1200х1110",150092,{"$f":"ROUND(K171*(1-$F$3)/Лист2!$A$6,0)","v":150092}]
[null,null,null,"G2QUADLXВПС1 IC90ББR290",null,"без боковин",null,null,"1305х1305х1209","2050х1200х1110",137708,{"$f":"ROUND(K172*(1-$F$3)/Лист2!$A$6,0)","v":137708}]
[null,null,null,"Кассовые прилавки"]
[null,null,null,"G2Q КНП LX 500RББ","Gamma Quadro КНП 500 ББ","без боковин","-","-","500х1087х940","750х1250х1085",21900,{"$f":"ROUND(K174*(1-$F$3)/Лист2!$A$6,0)","v":21900}]
[null,null,null,"G2Q КНП LX 800RББ","Gamma Quadro КНП 800 ББ","без боковин",null,null,"800х1087х940","1050х1250х1085",36096,{"$f":"ROUND(K175*(1-$F$3)/Лист2!$A$6,0)","v":36096}]
[null,null,null,"G2Q КНП LX 1000RББ","Gamma Quadro КНП 1000 ББ","без боковин",null,null,"1000х1087х940","1250х1250х1085",42245,{"$f":"ROUND(K176*(1-$F$3)/Лист2!$A$6,0)","v":42245}]
[null,null,null,"G2QLX КНП ОC90R ББ","Gamma Quadro ОС КНП (угол внеш.)","без боковин","-","-","1611х1192х940","1850х1390х1095",39702,{"$f":"ROUND(K177*(1-$F$3)/Лист2!$A$6,0)","v":39702}]
[null,null,null,"G2QLX КНП IC90R ББ","Gamma Quadro IС КНП (угол внутр.)","без боковин",null,null,"1834х1096х940","2050х1300х1085",33921,{"$f":"ROUND(K178*(1-$F$3)/Лист2!$A$6,0)","v":33921}]
[6,"Витрины серии GAMMA Quadro FISH, глубина выкладки 760 мм, стандартный Ral 3004.",null,null,null,null,null,null,null,null,null,null,"EL.2.G3004гл.В7016гл.V0.PS"]
[null,null,null,"Средне-низкотемпературные, ВПСН"]
[null,null,null,"G2QULXВПСН1 120F R290","Gamma Quadro SN FISH 1200 LED","с боковинами","-6…+6",0.85,"1218х1093х1300","1400х1200х1110",118474,{"$f":"ROUND(K181*(1-$F$3)/Лист2!$A$6,0)","v":118474}]
[null,null,null,"G2QULXВПСН1 120F R290 ББ",null,"без боковин",null,null,"1118х1093х1300","1400х1200х1110",106088,{"$f":"ROUND(K182*(1-$F$3)/Лист2!$A$6,0)","v":106088}]
[null,null,null,"G2QULXВПСН1 150F R290","Gamma Quadro SN FISH 1500 LED","с боковинами","-6…+6",1.1000000000000001,"1518х1093х1300","1700х1200х1110",137657,{"$f":"ROUND(K183*(1-$F$3)/Лист2!$A$6,0)","v":137657}]
[null,null,null,"G2QULXВПСН1 150F R290 ББ",null,"без боковин",null,null,"1418х1093х1300","1700х1200х1110",125271,{"$f":"ROUND(K184*(1-$F$3)/Лист2!$A$6,0)","v":125271}]
[null,null,null,"G2QULXВПСН1 180F R290","Gamma Quadro SN FISH 1800 LED","с боковинами","-6…+6",1.3,"1818х1093х1300","2000х1200х1110",155105,{"$f":"ROUND(K185*(1-$F$3)/Лист2!$A$6,0)","v":155105}]
[null,null,null,"G2QULXВПСН1 180F R290 ББ",null,"без боковин",null,null,"1718х1093х1300","2000х1200х1110",142719,{"$f":"ROUND(K186*(1-$F$3)/Лист2!$A$6,0)","v":142719}]
[7,"Витрины серии GAMMA Quadro SELF (низкое стекло), динамический холод, без запасника, глубина выкладки 760 мм, стандартный Ral 3004.",null,null,null,null,null,null,null,null,null,null,"EL.0.G3004гл.В7016гл.V0.PS"]
[null,null,null,"G2QLXВПС1 SG120 R290","Gamma Quadro Self 1200 (динамический холод)","с боковинами","0…+7",0.85,"1204х1096х934","1400х1200х1110",109641,{"$f":"ROUND(K188*(1-$F$3)/Лист2!$A$6,0)","v":109641}]
[null,null,null,null,null,"без боковин",null,null,null,"1400х1200х1110",102131,{"$f":"ROUND(K189*(1-$F$3)/Лист2!$A$6,0)","v":102131}]
[null,null,null,"G2QLXВПС1 SGF120 R290","Gamma Quadro Self Fish 1200 (динамический холод)","с боковинами","0…+7",0.85,"1204х1096х934","1400х1200х1110",120606,{"$f":"ROUND(K190*(1-$F$3)/Лист2!$A$6,0)","v":120606}]
[null,null,null,null,null,"без боковин",null,null,null,"1400х1200х1110",113096,{"$f":"ROUND(K191*(1-$F$3)/Лист2!$A$6,0)","v":113096}]
[]
[]
[8,"Витрины серии Sonata Quadro, глубина выкладки 760 мм, стандартный Ral 7016 ",null,null,null,null,null,null,null,null,null,null,"EL.2.G7016гл.В7016гл.V0.PS"]
[null,null,null,"  Среднетемпературные, ВПС"]
[null,null,null,"SONQВПС120R290","Sonata Quadro  1200 LED","с боковинами","0…+7",0.85,"1218х1087х1209","1400х1200х1110",89697,{"$f":"ROUND(K196*(1-$F$3)/Лист2!$A$6,0)","v":89697}]
[null,null,null,"SONQВПС150R290","Sonata Quadro  1500 LED","с боковинами","0…+7",1.1000000000000001,"1518х1087х1209","1700х1200х1110",103562,{"$f":"ROUND(K197*(1-$F$3)/Лист2!$A$6,0)","v":103562}]
[null,null,null,"SONQВПС180R290","Sonata Quadro  1800 LED","с боковинами","0…+7",1.3,"1818х1087х1209","2000х1200х1110",116033,{"$f":"ROUND(K198*(1-$F$3)/Лист2!$A$6,0)","v":116033}]
[null,null,null,"Средне-низкотемпературные, ВПСН"]
[null,null,null,"SONQВПСН120R290","Sonata Quadro SN 1200 LED","с боковинами","-6…+6",0.85,"1218х1087х1209","1400х1200х1110",91641,{"$f":"ROUND(K200*(1-$F$3)/Лист2!$A$6,0)","v":91641}]
[null,null,null,"SONQВПСН150R290","Sonata Quadro SN 1500 LED","с боковинами","-6…+6",1.1000000000000001,"1518х1087х1209","1700х1200х1110",109114,{"$f":"ROUND(K201*(1-$F$3)/Лист2!$A$6,0)","v":109114}]
[null,null,null,"SONQВПСН180R290","Sonata Quadro SN 1800 LED","с боковинами","-6…+6",1.3,"1818х1087х1209","2000х1200х1110",121700,{"$f":"ROUND(K202*(1-$F$3)/Лист2!$A$6,0)","v":121700}]
[null,null,null,"Низкотемпературные, ВПН"]
[null,null,null,"SONQВПН120R290","Sonata Quadro М 1200 LED","с боковинами","от -18",0.85,"1218х1087х1209","1400х1200х1110",109097,{"$f":"ROUND(K204*(1-$F$3)/Лист2!$A$6,0)","v":109097}]
[null,null,null,"SONQВПН150R290","Sonata Quadro М 1500 LED","с боковинами","от -18",1.1000000000000001,"1518х1087х1209","1700х1200х1110",130893,{"$f":"ROUND(K205*(1-$F$3)/Лист2!$A$6,0)","v":130893}]
[null,null,null,"SONQВПН180R290","Sonata Quadro М 1800 LED","с боковинами","от -18",1.3,"1818х1087х1209","2000х1200х1110",147406,{"$f":"ROUND(K206*(1-$F$3)/Лист2!$A$6,0)","v":147406}]
["Витрины Vivo"]
["Базовая комплектация:\n- Статическая система охлаждения, компрессор R-290;\n- Электронный контроллер;\n- Оттайка - естественная (без ТЭНа),\n- Общее освещение для версий с высоким стеклом - нейтральное (3000К, 4000К, 6500К);\n- Упаковка в деревянную обрешетку;",null,null,null,null,null,"- Внутренний объем - оцинкованный металл, внутренний объем в зоне выкладки - нерж.сталь;\n- Ночные шторки для витрин с высоким стеклом;\n- Фронтальное стекло закаленное, открывается;\n- Емкость для сбора талой воды, опционально возможно применение выпаривателя;\n"]
[8,"Витрины настольные Vivo 1000 (статическое охлаждение, освещение нейтральное)",null,null,null,null,null,null,null,null,null,null,"C.2.PS"]
[null,null,null,"VIVO ВПС 100","Витрина холодильная ВПС Vivo 1000 (0..+5°С)","с боковинами","0…+5",null,"1000x866x450","1200х1030х675",57388,{"$f":"ROUND(K210*(1-$F$3)/Лист2!$A$6,0)","v":57388}]
[null,null,null,null,"Витрина холодильная ВПСН Vivo 1000 (-5..+5°С)","с боковинами","-5…+5",null,null,null,64530,{"$f":"ROUND(K211*(1-$F$3)/Лист2!$A$6,0)","v":64530}]
[null,null,null,null,"Витрина тепловая ВПТ Vivo 1000","с боковинами","до +65",null,null,null,59895,{"$f":"ROUND(K212*(1-$F$3)/Лист2!$A$6,0)","v":59895}]
["Витрины Cryspi со встроенным агрегатом. Динамическая система охлаждения "]
["Базовая комплектация:\n- Динамическая система охлаждения, компрессор R-290;\n- Электронный контроллер;\n- Оттайка для версий ВПС - естественная, для версий ВПСН и ВПН - ТЭН (по умолчанию);\n- Общее освещение для версий с высоким стеклом - нейтральное (4000К), витрины с низким стеклом без освещения;    \n - Товарный накопитель для линейных модулей (запасник с дверкой) (кроме НТ);   ",null,null,null,null,"- Внутренний объем - оцинкованный металл, внутренний объем в зоне выкладки - нерж.сталь;\n- Ночные шторки для витрин с высоким стеклом;                                                                             \n- Фронтальное стекло закаленное \n(Magnum Eco – стекло открывается сверху-вниз, Magnum Quadro – стекло открывается сверху-вниз без гидролифта; Magnum – стекло открывается снизу-вверх, опционально возможно применение гидролифта;) \n- Емкость для сбора талой воды, опционально возможно применение выпаривателя;\n- Упаковка в деревянной обрешетке;"]
[9,"Витрины серии MAGNUM ECO, глубина выкладки 860 мм, стандартный Ral 7016","Витрины серии MAGNUM ECO, глубина выкладки 860 мм, стандартный Ral 7016",null,null,null,null,null,null,null,"Опции Magnum ECO"]
["Стандартная комплектация:",null,null,"  Среднетемпературные, ВПС",null,null,null,null,null,null,null,null,"EL.XR.PS.VS.2.V0.T.Y7016.P7016\n\nдля витрин с боковинами добавить комплекты боковин:\n676.50.01.00;\n676.50.02.00"]
[null,null,null,"MAG ECO ВПС1 125 R290","Magnum Eco 1250","с боковинами","0…+7",1.075,"1330х1130х1235","1510х1190х1150",120748,{"$f":"ROUND(K217*(1-$F$3)/Лист2!$A$6,0)","v":120748}]
[null,null,null,"MAG ECO ВПС1 125 R290 ББ",null,"без боковин",null,null,"1250х1130х1235",null,105620,{"$f":"ROUND(K218*(1-$F$3)/Лист2!$A$6,0)","v":105620}]
[null,null,null,"MAG ECO ВПС1 188 R290","Magnum Eco 1880","с боковинами",null,1.61,"1955х1130х1235","2140х1190х1150",153118,{"$f":"ROUND(K219*(1-$F$3)/Лист2!$A$6,0)","v":153118}]
[null,null,null,"MAG ECO ВПС1 188 R290 ББ",null,"без боковин",null,null,"1875х1130х1235",null,137990,{"$f":"ROUND(K220*(1-$F$3)/Лист2!$A$6,0)","v":137990}]
[null,null,null,"MAG ECO ВПС1 250 R290","Magnum Eco 2500","с боковинами",null,2.15,"2580х1130х1235","2760х1190х1150",190447,{"$f":"ROUND(K221*(1-$F$3)/Лист2!$A$6,0)","v":190447}]
[null,null,null,"MAG ECO ВПС1 250 R290 ББ",null,"без боковин",null,null,"2500х1130х1235",null,175319,{"$f":"ROUND(K222*(1-$F$3)/Лист2!$A$6,0)","v":175319}]
[null,null,null,"MAG ECO ВПС1 375 R290","Magnum Eco 3750","с боковинами",null,3.22,"3830х1130х1235","4010х1190х1150",238115,{"$f":"ROUND(K223*(1-$F$3)/Лист2!$A$6,0)","v":238115}]
[null,null,null,"MAG ECO ВПС1 375 R290 ББ",null,"без боковин",null,null,"3750х1130х1235",null,222987,{"$f":"ROUND(K224*(1-$F$3)/Лист2!$A$6,0)","v":222987}]
[null,null,null,"Средне-низкотемпературные, ВПСН"]
[null,null,null,"MAG ECO ВПСН1 125 R290","Magnum Eco SN 1250","с боковинами","­5…+7",1.075,"1330х1130х1235","1510х1190х1150",129813,{"$f":"ROUND(K226*(1-$F$3)/Лист2!$A$6,0)","v":129813}]
[null,null,null,"MAG ECO ВПСН1 125 R290 ББ",null,"без боковин",null,null,"1250х1130х1235",null,114685,{"$f":"ROUND(K227*(1-$F$3)/Лист2!$A$6,0)","v":114685}]
[null,null,null,"MAG ECO ВПСН1 188 R290","Magnum Eco SN 1880","с боковинами",null,1.61,"1955х1130х1235","2140х1190х1150",161692,{"$f":"ROUND(K228*(1-$F$3)/Лист2!$A$6,0)","v":161692}]
[null,null,null,"MAG ECO ВПСН1 188 R290 ББ",null,"без боковин",null,null,"1875х1130х1235",null,146564,{"$f":"ROUND(K229*(1-$F$3)/Лист2!$A$6,0)","v":146564}]
[null,null,null,"MAG ECO ВПСН1 250 R290","Magnum Eco SN 2500","с боковинами",null,2.15,"2580х1130х1235","2760х1190х1150",195776,{"$f":"ROUND(K230*(1-$F$3)/Лист2!$A$6,0)","v":195776}]
[null,null,null,"MAG ECO ВПСН1 250 R290 ББ",null,"без боковин",null,null,"2500х1130х1235",null,180648,{"$f":"ROUND(K231*(1-$F$3)/Лист2!$A$6,0)","v":180648}]
[null,null,null,"MAG ECO ВПСН1 375 R290","Magnum Eco SN 3750","с боковинами",null,3.22,"3830х1130х1235","4010х1190х1150",261211,{"$f":"ROUND(K232*(1-$F$3)/Лист2!$A$6,0)","v":261211}]
[null,null,null,"MAG ECO ВПСН1 375 R290 ББ",null,"без боковин",null,null,"3750х1130х1235",null,246083,{"$f":"ROUND(K233*(1-$F$3)/Лист2!$A$6,0)","v":246083}]
[10,"Витрины серии MAGNUM, глубина выкладки 860 мм, стандартный Ral 7016",null,null,null,null,null,null,null,null,"Опции Magnum",null,"*нажмите чтобы перейти в список опций"]
[null,null,null,"  Среднетемпературные, ВПС",null,null,null,null,null,null,null,null,"EL.XR.PS.VS.2.V0.T.Y7016.P7016\n\nдля витрин с боковинами добавить комплекты боковин:\n433.50.1000.00;\n433.50.2000.00"]
[null,null,null,"MAG ВПС1 125 R290","Magnum 1250","с боковинами","0…+7",1.075,"1330х1095х1235","1510х1190х1150",140082,{"$f":"ROUND(K236*(1-$F$3)/Лист2!$A$6,0)","v":140082}]
[null,null,null,"MAG ВПС1 125 R290 ББ",null,"без боковин",null,null,"1250х1095х1235",null,124954,{"$f":"ROUND(K237*(1-$F$3)/Лист2!$A$6,0)","v":124954}]
[null,null,null,"MAG ВПС1 188 R290","Magnum 1880","с боковинами",null,1.61,"1955х1095х1235","2140х1190х1150",188050,{"$f":"ROUND(K238*(1-$F$3)/Лист2!$A$6,0)","v":188050}]
[null,null,null,"MAG ВПС1 188 R290 ББ",null,"без боковин",null,null,"1875х1095х1235",null,172922,{"$f":"ROUND(K239*(1-$F$3)/Лист2!$A$6,0)","v":172922}]
[null,null,null,"MAG ВПС1 250 R290","Magnum 2500","с боковинами",null,2.15,"2580х1095х1235","2760х1190х1150",218661,{"$f":"ROUND(K240*(1-$F$3)/Лист2!$A$6,0)","v":218661}]
[null,null,null,"MAG ВПС1 250 R290 ББ",null,"без боковин",null,null,"2500х1095х1235",null,203533,{"$f":"ROUND(K241*(1-$F$3)/Лист2!$A$6,0)","v":203533}]
[null,null,null,"MAG ВПС1 375 R290","Magnum 3750","с боковинами",null,3.22,"3830х1095х1235","4010х1190х1150",276004,{"$f":"ROUND(K242*(1-$F$3)/Лист2!$A$6,0)","v":276004}]
[null,null,null,"MAG ВПС1 375 R290 ББ",null,"без боковин",null,null,"3750х1095х1235",null,260876,{"$f":"ROUND(K243*(1-$F$3)/Лист2!$A$6,0)","v":260876}]
[null,null,null,"Средне-низкотемпературные, ВПСН"]
[null,null,null,"MAG ВПСН1 125 R290","Magnum SN 1250","с боковинами","­5…+7",1.075,"1330х1095х1235","1510х1190х1150",151285,{"$f":"ROUND(K245*(1-$F$3)/Лист2!$A$6,0)","v":151285}]
[null,null,null,"MAG ВПСН1 125 R290  ББ",null,"без боковин",null,null,"1250х1095х1235",null,136157,{"$f":"ROUND(K246*(1-$F$3)/Лист2!$A$6,0)","v":136157}]
[null,null,null,"MAG ВПСН1 188 R290","Magnum SN 1880","с боковинами",null,1.61,"1955х1095х1235","2140х1190х1150",198651,{"$f":"ROUND(K247*(1-$F$3)/Лист2!$A$6,0)","v":198651}]
[null,null,null,"MAG ВПСН1 188 R290  ББ",null,"без боковин",null,null,"1875х1095х1235",null,183523,{"$f":"ROUND(K248*(1-$F$3)/Лист2!$A$6,0)","v":183523}]
[null,null,null,"MAG ВПСН1 250 R290","Magnum SN 2500","с боковинами",null,2.15,"2580х1095х1235","2760х1190х1150",240459,{"$f":"ROUND(K249*(1-$F$3)/Лист2!$A$6,0)","v":240459}]
[null,null,null,"MAG ВПСН1 250 R290  ББ",null,"без боковин",null,null,"2500х1095х1235",null,225331,{"$f":"ROUND(K250*(1-$F$3)/Лист2!$A$6,0)","v":225331}]
[null,null,null,"MAG ВПСН1 375 R290","Magnum SN 3750","с боковинами",null,3.22,"3830х1095х1235","4010х1190х1150",311744,{"$f":"ROUND(K251*(1-$F$3)/Лист2!$A$6,0)","v":311744}]
[null,null,null,"MAG ВПСН1 375 R290  ББ",null,"без боковин",null,null,"3750х1095х1235",null,296616,{"$f":"ROUND(K252*(1-$F$3)/Лист2!$A$6,0)","v":296616}]
[null,null,null,"Низкотемпературные, ВПН",null,null,null,null,null,null,null,null,"EL.XR.PS.VS.2.V0.T.Y7016.P7016\n\nдля витрин с боковинами добавить комплекты боковин:\n476.50.1000.00;\n476.50.2000.00"]
[null,null,null,"MAG ВПН1 125","Magnum F 1250","с боковинами","не выше -15",1.075,"1330х1095х1235","1510х1190х1150",169884,{"$f":"ROUND(K254*(1-$F$3)/Лист2!$A$6,0)","v":169884}]
[null,null,null,"MAG ВПН1 125 ББ",null,"без боковин",null,null,"1250х1095х1235",null,151594,{"$f":"ROUND(K255*(1-$F$3)/Лист2!$A$6,0)","v":151594}]
[null,null,null,"MAG ВПН1 188","Magnum F 1880","с боковинами",null,1.61,"1955х1095х1235","2140х1190х1150",232556,{"$f":"ROUND(K256*(1-$F$3)/Лист2!$A$6,0)","v":232556}]
[null,null,null,"MAG ВПН1 188 ББ",null,"без боковин",null,null,"1875х1095х1235",null,214266,{"$f":"ROUND(K257*(1-$F$3)/Лист2!$A$6,0)","v":214266}]
[null,null,null,"MAG ВПН1 250","Magnum F 2500","с боковинами",null,2.15,"2580х1095х1235","2760х1190х1150",265237,{"$f":"ROUND(K258*(1-$F$3)/Лист2!$A$6,0)","v":265237}]
[null,null,null,"MAG ВПН1 250 ББ",null,"без боковин",null,null,"2500х1095х1235",null,246947,{"$f":"ROUND(K259*(1-$F$3)/Лист2!$A$6,0)","v":246947}]
[null,null,null,"MAG ВПН1 375","Magnum F 3750","с боковинами",null,3.22,"3830х1095х1235","4010х1190х1150",408223,{"$f":"ROUND(K260*(1-$F$3)/Лист2!$A$6,0)","v":408223}]
[null,null,null,"MAG ВПН1 375 ББ",null,"без боковин",null,null,"3750х1095х1235",null,389933,{"$f":"ROUND(K261*(1-$F$3)/Лист2!$A$6,0)","v":389933}]
[null,null,null,"Среднетемпературные с низким стеклом, ВПС Self",null,null,null,null,null,null,null,null,"EL.XR.PS.VS.0.V0.T.Y7016.P7016\n\nдля витрин с боковинами добавить комплекты боковин:\n276.50.01.000;\n276.50.02.00"]
[null,null,null,"MAG ВПС1 SG125 R290","Magnum SG 1250","с боковинами","0…+7",1.075,"1330х1095х895","1510х1190х1150",121977,{"$f":"ROUND(K263*(1-$F$3)/Лист2!$A$6,0)","v":121977}]
[null,null,null,"MAG ВПС1 SG125 R290 ББ",null,"без боковин",null,null,"1250х1095х895",null,107133,{"$f":"ROUND(K264*(1-$F$3)/Лист2!$A$6,0)","v":107133}]
[null,null,null,"MAG ВПС1 SG188 R290","Magnum SG 1880","с боковинами",null,1.61,"1955х1095х895","2140х1190х1150",159340,{"$f":"ROUND(K265*(1-$F$3)/Лист2!$A$6,0)","v":159340}]
[null,null,null,"MAG ВПС1 SG188 R290 ББ",null,"без боковин",null,null,"1875х1095х895",null,144496,{"$f":"ROUND(K266*(1-$F$3)/Лист2!$A$6,0)","v":144496}]
[null,null,null,"MAG ВПС1 SG250 R290","Magnum SG 2500","с боковинами",null,2.15,"2580х1095х895","2760х1190х1150",189642,{"$f":"ROUND(K267*(1-$F$3)/Лист2!$A$6,0)","v":189642}]
[null,null,null,"MAG ВПС1 SG250 R290 ББ",null,"без боковин",null,null,"2500х1095х895",null,174798,{"$f":"ROUND(K268*(1-$F$3)/Лист2!$A$6,0)","v":174798}]
[null,null,null,"MAG ВПС1 SG375 R290","Magnum SG 3750","с боковинами",null,3.22,"3830х1095х895","4010х1190х1150",237002,{"$f":"ROUND(K269*(1-$F$3)/Лист2!$A$6,0)","v":237002}]
[null,null,null,"MAG ВПС1 SG375 R290 ББ",null,"без боковин",null,null,"3750х1095х895",null,222158,{"$f":"ROUND(K270*(1-$F$3)/Лист2!$A$6,0)","v":222158}]
[null,null,null,"Угловые витрины, ВПС",null,null,null,null,null,null,null,null,"EL.XR.PS.VS.2.V0.T.Y7016.P7016\n\nдля витрин с боковинами добавить комплекты боковин:\n433.50.1000.00;\n433.50.2000.00"]
[null,null,null,"MAG ВПС1 ОC90","Magnum OC 90","с боковинами","0…+7",1.2,"1400х1400х1235","2170х1380х1080",242225,{"$f":"ROUND(K272*(1-$F$3)/Лист2!$A$6,0)","v":242225}]
[null,null,null,"MAG ВПС1 ОC90 ББ",null,"без боковин",null,null,"1360х1360х1235",null,227097,{"$f":"ROUND(K273*(1-$F$3)/Лист2!$A$6,0)","v":227097}]
[null,null,null,"MAG ВПС1 ОCSG90","Magnum ОC SG 90","с боковинами",null,1.2,"1400х1400х895",null,191224,{"$f":"ROUND(K274*(1-$F$3)/Лист2!$A$6,0)","v":191224}]
[null,null,null,"MAG ВПС1 ОCSG90 ББ",null,"без боковин",null,null,"1360х1360х895",null,176096,{"$f":"ROUND(K275*(1-$F$3)/Лист2!$A$6,0)","v":176096}]
[null,null,null,"MAG ВПС1 IC90","Magnum IC 90","с боковинами",null,1.08,"1360х1360х1235","2170х1300х1080",235630,{"$f":"ROUND(K276*(1-$F$3)/Лист2!$A$6,0)","v":235630},"EL.XR.PS.VS.2.V0.T.Y7016.P7016\n\nдля витрин с боковинами добавить комплекты боковин:\n276.50.01.000;\n276.50.02.00"]
[null,null,null,"MAG ВПС1 IC90 ББ",null,"без боковин",null,null,"1320х1320х1235",null,220502,{"$f":"ROUND(K277*(1-$F$3)/Лист2!$A$6,0)","v":220502}]
[null,null,null,"MAG ВПС1 ICSG90","Magnum IC SG 90","с боковинами",null,1.08,"1360х1360х895",null,222837,{"$f":"ROUND(K278*(1-$F$3)/Лист2!$A$6,0)","v":222837}]
[null,null,null,"MAG ВПС1 ICSG90 ББ",null,"без боковин",null,null,"1320х1320х895",null,207709,{"$f":"ROUND(K279*(1-$F$3)/Лист2!$A$6,0)","v":207709}]
[null,null,null,"Кассовые прилавки",null,null,null,null,null,null,null,null,"верх7016гл_низ7016гл"]
[null,null,null,"MAG КНП IC 90 ББ","Magnum КНП IC 90","без боковин","-","-",null,null,47733,{"$f":"ROUND(K281*(1-$F$3)/Лист2!$A$6,0)","v":47733}]
[null,null,null,"MAG КНП 100","Magnum КНП 1000",null,null,null,"1000х1090х832","1090х1160х950",33929,{"$f":"ROUND(K282*(1-$F$3)/Лист2!$A$6,0)","v":33929}]
[11,"Витрины серии MAGNUM QUADRO, глубина выкладки 860 мм, стандартный Ral 7016",null,null,null,null,null,null,null,null,"Опции Magnum Quadro",null,"*нажмите чтобы перейти в список опций"]
[null,null,null,"                                                         Среднетемпературные, ВПС",null,null,null,null,null,null,null,null,"EL.XR.PS.VS.2.V0.T.B7016.P7016\n\nдля витрин с боковинами добавить комплекты боковин:\n1007.48.00.00;\n1007.48.00.00mir",null,null,{"$f":"O284/2","v":0}]
[null,null,null,"MAGQ ВПС1 125","Magnum Quadro 1250","с боковинами","0…+7",1.075,"1330х1090х1225","1510х1190х1150",139523,{"$f":"ROUND(K285*(1-$F$3)/Лист2!$A$6,0)","v":139523}]
[null,null,null,"MAGQ ВПС1 125 ББ",null,"без боковин",null,null,"1250х1090х1225",null,124361,{"$f":"ROUND(K286*(1-$F$3)/Лист2!$A$6,0)","v":124361}]
[null,null,null,"MAGQ ВПС1 188","Magnum Quadro 1875","с боковинами",null,1.61,"1955х1090х1225","2140х1190х1150",170145,{"$f":"ROUND(K287*(1-$F$3)/Лист2!$A$6,0)","v":170145}]
[null,null,null,"MAGQ ВПС1 188 ББ",null,"без боковин",null,null,"1875х1090х1225",null,154983,{"$f":"ROUND(K288*(1-$F$3)/Лист2!$A$6,0)","v":154983}]
[null,null,null,"MAGQ ВПС1 250","Magnum Quadro 2500","с боковинами",null,2.15,"2580х1090х1225","2760х1190х1150",197058,{"$f":"ROUND(K289*(1-$F$3)/Лист2!$A$6,0)","v":197058}]
[null,null,null,"MAGQ ВПС1 250 ББ",null,"без боковин",null,null,"2500х1090х1225",null,181896,{"$f":"ROUND(K290*(1-$F$3)/Лист2!$A$6,0)","v":181896}]
[null,null,null,"MAGQ ВПС1 375","Magnum Quadro 3750","с боковинами",null,3.24,"3830х1090х1225","4010х1190х1150",279359,{"$f":"ROUND(K291*(1-$F$3)/Лист2!$A$6,0)","v":279359}]
[null,null,null,"MAGQ ВПС1 375 ББ",null,"без боковин",null,null,"3750х1090х1225",null,264197,{"$f":"ROUND(K292*(1-$F$3)/Лист2!$A$6,0)","v":264197}]
[null,null,null,"Средне-низкотемпературные, ВПСН"]
[null,null,null,"MAGQ ВПСН1 125","Magnum Quadro SN 1250","с боковинами","­5…+7",1.075,"1330х1090х1225","1510х1190х1150",157351,{"$f":"ROUND(K294*(1-$F$3)/Лист2!$A$6,0)","v":157351}]
[null,null,null,"MAGQ ВПСН1 125 ББ",null,"без боковин",null,null,"1250х1090х1225",null,142189,{"$f":"ROUND(K295*(1-$F$3)/Лист2!$A$6,0)","v":142189}]
[null,null,null,"MAGQ ВПСН1 188","Magnum Quadro SN 1875","с боковинами",null,1.61,"1955х1090х1225","2140х1190х1150",192193,{"$f":"ROUND(K296*(1-$F$3)/Лист2!$A$6,0)","v":192193}]
[null,null,null,"MAGQ ВПСН1 188 ББ",null,"без боковин",null,null,"1875х1090х1225",null,177031,{"$f":"ROUND(K297*(1-$F$3)/Лист2!$A$6,0)","v":177031}]
[null,null,null,"MAGQ ВПСН1 250","Magnum Quadro SN 2500","с боковинами",null,2.15,"2580х1090х1225","2760х1190х1150",223008,{"$f":"ROUND(K298*(1-$F$3)/Лист2!$A$6,0)","v":223008}]
[null,null,null,"MAGQ ВПСН1 250 ББ",null,"без боковин",null,null,"2500х1090х1225",null,207846,{"$f":"ROUND(K299*(1-$F$3)/Лист2!$A$6,0)","v":207846}]
[null,null,null,"MAGQ ВПСН1 375","Magnum Quadro SN 3750","с боковинами",null,3.24,"3830х1090х1225","4010х1190х1150",316147,{"$f":"ROUND(K300*(1-$F$3)/Лист2!$A$6,0)","v":316147}]
[null,null,null,"MAGQ ВПСН1 375 ББ",null,"без боковин",null,null,"3750х1090х1225",null,300985,{"$f":"ROUND(K301*(1-$F$3)/Лист2!$A$6,0)","v":300985}]
[null,null,null,"Низкотемпературные, ВПН",null,null,null,null,null,null,null,null,"EL.XR.PS.VS.2.V0.T.B7016.P7016\n\nдля витрин с боковинами добавить комплекты боковин:\n1030.48.00.00;\n1030.48.00.00mir",null,null,{"$f":"O302/2","v":0}]
[null,null,null,"MAGQ ВПН1 125","ВПН Magnum Quadro 1250","с боковинами","не выше -15",1.075,"1330х1090х1225","1510х1190х1150",171473,{"$f":"ROUND(K303*(1-$F$3)/Лист2!$A$6,0)","v":171473}]
[null,null,null,"MAGQ ВПН1 125 ББ",null,"без боковин",null,null,"1250х1090х1225",null,155857,{"$f":"ROUND(K304*(1-$F$3)/Лист2!$A$6,0)","v":155857}]
[null,null,null,"MAGQ ВПН1 188","ВПН Magnum Quadro 1875","с боковинами",null,1.61,"1955х1090х1225","2140х1190х1150",209550,{"$f":"ROUND(K305*(1-$F$3)/Лист2!$A$6,0)","v":209550}]
[null,null,null,"MAGQ ВПН1 188 ББ",null,"без боковин",null,null,"1875х1090х1225",null,193934,{"$f":"ROUND(K306*(1-$F$3)/Лист2!$A$6,0)","v":193934}]
[null,null,null,"MAGQ ВПН1 250","ВПН Magnum Quadro 2500","с боковинами",null,2.15,"2580х1090х1225","2760х1190х1150",243533,{"$f":"ROUND(K307*(1-$F$3)/Лист2!$A$6,0)","v":243533}]
[null,null,null,"MAGQ ВПН1 250 ББ",null,"без боковин",null,null,"2500х1090х1225",null,227917,{"$f":"ROUND(K308*(1-$F$3)/Лист2!$A$6,0)","v":227917}]
[null,null,null,"MAGQ ВПН1 375","ВПН Magnum Quadro 3750","с боковинами",null,3.24,"3830х1090х1225","4010х1190х1150",345055,{"$f":"ROUND(K309*(1-$F$3)/Лист2!$A$6,0)","v":345055}]
[null,null,null,"MAGQ ВПН1 375 ББ",null,"без боковин",null,null,"3750х1090х1225",null,329439,{"$f":"ROUND(K310*(1-$F$3)/Лист2!$A$6,0)","v":329439}]
[null,null,null,"Среднетемпературные с низким стеклом, ВПС Self",null,null,null,null,null,null,null,null,"EL.XR.PS.VS.0.V0.T.B7016.P7016\n\nдля витрин с боковинами добавить комплекты боковин:\n1013.48.00.00;\n1013.48.00.00mir",null,null,{"$f":"O311/2","v":0}]
[null,null,null,"MAGQ ВПС1 SG125","Magnum Quadro Self 1250","с боковинами","0…+7",1.075,"1330х1090х865","1510х1190х1150",130605,{"$f":"ROUND(K312*(1-$F$3)/Лист2!$A$6,0)","v":130605}]
[null,null,null,"MAGQ ВПС1 SG125 ББ",null,"без боковин",null,null,"1250х1090х865",null,116169,{"$f":"ROUND(K313*(1-$F$3)/Лист2!$A$6,0)","v":116169}]
[null,null,null,"MAGQ ВПС1 SG188","Magnum Quadro Self 1875","с боковинами",null,1.61,"1955х1090х865","2140х1190х1150",161662,{"$f":"ROUND(K314*(1-$F$3)/Лист2!$A$6,0)","v":161662}]
[null,null,null,"MAGQ ВПС1 SG188 ББ",null,"без боковин",null,null,"1875х1090х865",null,147226,{"$f":"ROUND(K315*(1-$F$3)/Лист2!$A$6,0)","v":147226}]
[null,null,null,"MAGQ ВПС1 SG250","Magnum Quadro Self 2500","с боковинами",null,2.15,"2580х1090х865","2760х1190х1150",187794,{"$f":"ROUND(K316*(1-$F$3)/Лист2!$A$6,0)","v":187794}]
[null,null,null,"MAGQ ВПС1 SG250 ББ",null,"без боковин",null,null,"2500х1090х865",null,173358,{"$f":"ROUND(K317*(1-$F$3)/Лист2!$A$6,0)","v":173358}]
[null,null,null,"MAGQ ВПС1 SG375","Magnum Quadro Self 3750","с боковинами",null,3.24,"3830х1090х865","4010х1190х1150",267458,{"$f":"ROUND(K318*(1-$F$3)/Лист2!$A$6,0)","v":267458}]
[null,null,null,"MAGQ ВПС1 SG375 ББ",null,"без боковин",null,null,"3750х1090х865",null,253022,{"$f":"ROUND(K319*(1-$F$3)/Лист2!$A$6,0)","v":253022}]
[null,null,null,"Угловые витрины, ВПС",null,null,null,null,null,null,null,null,"EL.XR.PS.VS.2.V0.T.B7016.P7016\n\nдля витрин с боковинами добавить комплекты боковин:\n1007.48.00.00;\n1007.48.00.00mir"]
[null,null,null,"MAGQ ВПС1 ОC90","Magnum Quadro OC 90","с боковинами","0…+7",1.2,"1395х1395х1225","2170х1380х1080",183064,{"$f":"ROUND(K321*(1-$F$3)/Лист2!$A$6,0)","v":183064}]
[null,null,null,"MAGQ ВПС1 ОC90 ББ",null,"без боковин",null,null,"1355х1355х1225",null,167902,{"$f":"ROUND(K322*(1-$F$3)/Лист2!$A$6,0)","v":167902}]
[null,null,null,"MAGQ ВПС1 IC90","Magnum Quadro IC 90","с боковинами",null,1.08,"1365х1365х1225","2170х1300х1080",174961,{"$f":"ROUND(K323*(1-$F$3)/Лист2!$A$6,0)","v":174961}]
[null,null,null,"MAGQ ВПС1 IC90 ББ",null,"без боковин",null,null,"1325х1325х1225",null,159799,{"$f":"ROUND(K324*(1-$F$3)/Лист2!$A$6,0)","v":159799}]
[null,null,null,"MAGQ ВПС1 SGОC90","Magnum Quadro Self OC 90","с боковинами",null,1.2,"1395х1395х865","2170х1380х1080",174919,{"$f":"ROUND(K325*(1-$F$3)/Лист2!$A$6,0)","v":174919},"EL.XR.PS.VS.0.V0.T.B7016.P7016\n\nдля витрин с боковинами добавить комплекты боковин:\n1013.48.00.00;\n1013.48.00.00mir"]
[null,null,null,"MAGQ ВПС1 SGОC90 ББ",null,"без боковин",null,null,"1355х1355х865",null,159757,{"$f":"ROUND(K326*(1-$F$3)/Лист2!$A$6,0)","v":159757}]
[null,null,null,"MAGQ ВПС1 SGIC90","Magnum Quadro Self IC 90","с боковинами",null,1.08,"1365х1365х865","2170х1300х1080",166908,{"$f":"ROUND(K327*(1-$F$3)/Лист2!$A$6,0)","v":166908}]
[null,null,null,"MAGQ ВПС1 SGIC90 ББ",null,"без боковин",null,null,"1325х1325х865",null,151746,{"$f":"ROUND(K328*(1-$F$3)/Лист2!$A$6,0)","v":151746}]
[null,null,null,"Рыбные витрины ВСПН/ВПСН Self",null,null,null,null,null,null,null,null,"EL.XR.PS.VS.2.V0.T.B7016.P7016\n\nдля витрин с боковинами добавить комплекты боковин:\n1007.48.00.00;\n1007.48.00.00mir"]
[null,null,null,"MAGQFS ВПСН1 125","Magnum Quadro Fish 1250","с боковинами","­5…+7",1.075,"1330х1090х1225","1510х1190х1150",171019,{"$f":"ROUND(K330*(1-$F$3)/Лист2!$A$6,0)","v":171019}]
[null,null,null,"MAGQFS ВПСН1 125 ББ",null,"без боковин",null,null,"1250х1090х1225",null,155857,{"$f":"ROUND(K331*(1-$F$3)/Лист2!$A$6,0)","v":155857}]
[null,null,null,"MAGQFS ВПСН1 188","Magnum Quadro Fish 1875","с боковинами",null,1.61,"1955х1090х1225","2140х1190х1150",209096,{"$f":"ROUND(K332*(1-$F$3)/Лист2!$A$6,0)","v":209096}]
[null,null,null,"MAGQFS ВПСН1 188 ББ",null,"без боковин",null,null,"1875х1090х1225",null,193934,{"$f":"ROUND(K333*(1-$F$3)/Лист2!$A$6,0)","v":193934}]
[null,null,null,"MAGQFS ВПСН1 SG125","Magnum Quadro Fish Self 1250","с боковинами",null,1.075,"1330х1090х865","1510х1190х1150",161251,{"$f":"ROUND(K334*(1-$F$3)/Лист2!$A$6,0)","v":161251},"EL.XR.PS.VS.0.V0.T.B7016.P7016\n\nдля витрин с боковинами добавить комплекты боковин:\n1013.48.00.00;\n1013.48.00.00mir"]
[null,null,null,"MAGQFS ВПСН1 SG125 ББ",null,"без боковин",null,null,"1250х1090х865",null,146089,{"$f":"ROUND(K335*(1-$F$3)/Лист2!$A$6,0)","v":146089}]
[null,null,null,"MAGQFS ВПСН1 SG188","Magnum Quadro Fish Self 1875","с боковинами",null,1.61,"1955х1090х865","2140х1190х1150",196452,{"$f":"ROUND(K336*(1-$F$3)/Лист2!$A$6,0)","v":196452}]
[null,null,null,"MAGQFS ВПСН1 SG188 ББ",null,"без боковин",null,null,"1875х1090х865",null,181290,{"$f":"ROUND(K337*(1-$F$3)/Лист2!$A$6,0)","v":181290}]
[]
[]
[]
[]
[]
[]
[null,null,null,null,null,null,null,null,"НАВЕРХ"]

{"sheet":"Витрины Cryspi (выносное ХО)","index":2,"n_rows":115,"n_cols":12,"rows_kept":115,"cut":false,"hidden":false,"merged":[[92,2,92,9],[97,2,97,9],[67,4,70,4],[102,2,102,9],[76,2,76,9],[83,4,86,4],[82,0,111,1],[2,1,2,3],[3,1,3,3],[9,4,9,9],[9,0,9,3],[7,8,8,8],[7,2,8,2],[7,0,8,0],[7,1,8,1],[7,3,8,3],[6,1,6,9],[7,5,8,5],[7,6,8,6],[46,4,49,4],[50,2,50,9],[51,4,54,4],[7,9,8,9],[44,1,44,9],[10,8,10,9],[26,8,26,9],[39,2,39,9],[10,1,10,7],[26,1,26,7],[27,0,42,1],[7,4,8,4],[7,7,8,7],[11,0,25,1],[11,2,11,9],[15,2,15,9],[19,2,19,9],[23,2,23,9],[27,2,27,9],[31,2,31,9],[35,2,35,9],[57,4,60,4],[62,4,65,4],[55,1,55,7],[55,8,55,9],[43,4,43,9],[45,0,54,1],[43,0,43,3],[56,0,80,1],[72,4,75,4],[77,4,80,4],[45,8,45,9],[45,2,45,7],[82,8,82,9],[82,2,82,7],[45,10,54,10],[56,10,65,10],[66,10,70,10],[71,10,75,10],[71,2,71,9],[56,2,56,9],[61,2,61,9],[66,2,66,9],[81,1,81,9],[105,10,106,10],[107,10,109,10],[110,10,111,10],[93,4,96,4],[76,10,78,10],[79,10,80,10],[82,10,91,10],[92,10,96,10],[97,10,101,10],[102,10,104,10],[107,2,107,9],[108,4,111,4],[98,4,101,4],[103,4,106,4],[88,4,91,4],[87,2,87,9]]}
[null,null,null,null,null,null,null,null,null,null,null,"На главную"]
[]
[null,"Ваша скидка:",null,null,{"$f":"Содержание!D2","v":0}]
[null,"НДС:",null,null,{"$f":"IF(Лист2!A1=TRUE,\"С НДС\",\"БЕЗ НДС\")","v":"С НДС"}]
[]
[]
[null,"Витрины Cryspi без агрегата"]
["№","Изображение","Артикул","Наименование","Температурный режим, C°","Площадь экспозиции, кв.м.","Габариты без боковин, мм (L/W/H)","Габариты в упаковке, мм (L/W/H)","Базовая \nцена, руб.\n(с НДС)",{"$f":"[6]Лист2!$A$5","v":"Ваша цена, руб."}]
[]
["Базовая комплектация:\n- Статическая система охлаждения, компрессор R-290;\n- Электронный контроллер для управления работой витрины;\n- Оттайка для версий ВПС - естественная (без ТЭНа), для версий ВПСН и ВПН - ТЭН (по умолчанию);\n- Общее светодиодное освещение для версий с высоким стеклом - стандартный - 4000К, опционально - 3000К, 6500К, мясной;\n- Товарный накопитель для линейных модулей (запасник с дверкой) (кроме НТ);\n- без боковин;\n- Упаковка в деревянную обрешетку",null,null,null,"- Внутренний объем для витрин ВПС и ВПСН - оцинкованный металл, внутренний объем в зоне выкладки - нерж.сталь;\n- Внутренний объем для витрин ВПН - оцинкованный металл с полимерным покрытием\n- Ночные шторки для витрин с высоким стеклом;\n- Фронтальное стекло закаленное, не открывается;\n- Емкость для сбора талой воды, опционально возможно применение выпаривателя;\n"]
[1,"Витрины серии GAMMA-2, глубина выкладки 760 мм ",null,null,null,null,null,null,"Опции Gamma-2"]
[null,null,"Среднетемпературные витрины (без боковых панелей и боковых стекол)",null,null,null,null,null,null,null,"EL.2.G3004гл.В3004гл.V0.PS"]
[null,null,"G2 ВПС2 120 R290ББ","Gamma-2 1200 БА ББ","0…+7",0.85,"1118х1093х1300","1400х1200х1110",65315,{"$f":"ROUND(I13*(1-$E$3)/Лист2!$A$6,0)","v":65315}]
[null,null,"G2 ВПС2 150 R290ББ","Gamma-2 1500 БА ББ","0…+7",1.1000000000000001,"1418х1093х1300","1700х1200х1110",73329,{"$f":"ROUND(I14*(1-$E$3)/Лист2!$A$6,0)","v":73329}]
[null,null,"G2 ВПС2 180 R290ББ","Gamma-2 1800 БА ББ","0…+7",1.3,"1718х1093х1300","2000х1200х1110",85646,{"$f":"ROUND(I15*(1-$E$3)/Лист2!$A$6,0)","v":85646}]
[null,null,"Средне-низкотемпературные витрины (без боковых панелей и боковых стекол)"]
[null,null,"G2 ВПСН2 120 R290ББ","Gamma-2 SN 1200 БА ББ","-6…+6",0.85,"1118х1093х1300","1400х1200х1110",75351,{"$f":"ROUND(I17*(1-$E$3)/Лист2!$A$6,0)","v":75351}]
[null,null,"G2 ВПСН2 150 R290ББ","Gamma-2 SN 1500 БА ББ","-6…+6",1.1000000000000001,"1418х1093х1300","1700х1200х1110",82899,{"$f":"ROUND(I18*(1-$E$3)/Лист2!$A$6,0)","v":82899}]
[null,null,"G2 ВПСН2 180 R290ББ","Gamma-2 SN 1800 БА ББ","-6…+6",1.3,"1718х1093х1300","2000х1200х1110",101401,{"$f":"ROUND(I19*(1-$E$3)/Лист2!$A$6,0)","v":101401}]
[null,null,"Низкотемпературные витрины (без боковых панелей и боковых стекол)"]
[null,null,null,"Gamma-2 М 1200 БА ББ","от -18",0.85,"1118х1093х1300","1400х1200х1110",83101,{"$f":"ROUND(I21*(1-$E$3)/Лист2!$A$6,0)","v":83101}]
[null,null,null,"Gamma-2 М 1500 БА ББ","от -18",1.1000000000000001,"1418х1093х1300","1700х1200х1110",95150,{"$f":"ROUND(I22*(1-$E$3)/Лист2!$A$6,0)","v":95150}]
[null,null,null,"Gamma-2 М 1800 БА ББ","от -18",1.3,"1718х1093х1300","2000х1200х1110",107051,{"$f":"ROUND(I23*(1-$E$3)/Лист2!$A$6,0)","v":107051}]
[null,null,"Угловые среднетемпературные и нейтральные витрины, кассовые прилавки"]
[null,null,"G2ВПС2 ОС90Д ББ","Gamma-2 OC 90 (угол внеш.) БА ББ","0…+7",0.92,"1130х1130х1300","1180х1180х1300",105063,{"$f":"ROUND(I25*(1-$E$3)/Лист2!$A$6,0)","v":105063}]
[null,null,"G2ВПС2 IС90Д ББ","Gamma-2 IC (угол внутр.) БА ББ","0…+7",0.74,"1295х1295х1300","1305х1305х1300",113162,{"$f":"ROUND(I26*(1-$E$3)/Лист2!$A$6,0)","v":113162}]
[2,"Витрины серии GAMMA Quadro LED, глубина выкладки 760 мм ",null,null,null,null,null,null,"Опции Gamma Quadro",null,"EL.2.G9016гл.В7016гл.V0.PS"]
[null,null,"Среднетемпературные витрины (без боковых панелей и боковых стекол)"]
[null,null,"G2QUADLXВПС1 120БА ББ","Gamma Quadro 1200 LED БА ББ","0…+7",0.85,"1118х1093х1300","1400х1200х1110",83122,{"$f":"ROUND(I29*(1-$E$3)/Лист2!$A$6,0)","v":83122}]
[null,null,"G2QUADLXВПС1 150БА ББ","Gamma Quadro 1500 LED БА ББ","0…+7",1.1000000000000001,"1418х1093х1300","1700х1200х1110",89619,{"$f":"ROUND(I30*(1-$E$3)/Лист2!$A$6,0)","v":89619}]
[null,null,"G2QUADLXВПС1 180БА ББ","Gamma Quadro 1800 LED БА ББ","0…+7",1.3,"1718х1093х1300","2000х1200х1110",104565,{"$f":"ROUND(I31*(1-$E$3)/Лист2!$A$6,0)","v":104565}]
[null,null,"Средне-низкотемпературные витрины (без боковых панелей и боковых стекол)"]
[null,null,"G2QUADLXВПСН1 120БА ББ","Gamma Quadro SN 1200 LED БА ББ","-6…+6",0.85,"1118х1093х1300","1400х1200х1110",86527,{"$f":"ROUND(I33*(1-$E$3)/Лист2!$A$6,0)","v":86527}]
[null,null,"G2QUADLXВПСН1 150БА ББ","Gamma Quadro SN 1500 LED БА ББ","-6…+6",1.1000000000000001,"1418х1093х1300","1700х1200х1110",101385,{"$f":"ROUND(I34*(1-$E$3)/Лист2!$A$6,0)","v":101385}]
[null,null,"G2QUADLXВПСН1 180БА ББ","Gamma Quadro SN 1800 LED БА ББ","-6…+6",1.3,"1718х1093х1300","2000х1200х1110",116621,{"$f":"ROUND(I35*(1-$E$3)/Лист2!$A$6,0)","v":116621}]
[null,null,"Низкотемпературные витрины (без боковых панелей и боковых стекол)"]
[null,null,null,"Gamma Quadro M 1200 LED БА ББ","от -18",0.85,"1118х1093х1300","1400х1200х1110",100318,{"$f":"ROUND(I37*(1-$E$3)/Лист2!$A$6,0)","v":100318}]
[null,null,null,"Gamma Quadro M 1500 LED БА ББ","от -18",1.1000000000000001,"1418х1093х1300","1700х1200х1110",116082,{"$f":"ROUND(I38*(1-$E$3)/Лист2!$A$6,0)","v":116082}]
[null,null,"G2QUADLXВПН1 180БА ББ","Gamma Quadro M 1800 LED БА ББ","от -18",1.3,"1718х1093х1300","2000х1200х1110",137200,{"$f":"ROUND(I39*(1-$E$3)/Лист2!$A$6,0)","v":137200}]
[null,null,"Угловые витрины"]
[null,null,"G2QUADLXВПС1 ОС90 БА ББ","Витрина холодильная ВПС Gamma-2 QuadroLX ОС90 БА ББ","0…+7",0.92,"1180х1180х1209","1180х1180х1300",117051,{"$f":"ROUND(I41*(1-$E$3)/Лист2!$A$6,0)","v":117051},"установка за февраль"]
[null,null,"G2QUADLXВПС1 IС90 БА ББ","Витрина холодильная ВПС Gamma-2 QuadroLX IС90 БА ББ","0…+7",0.74,"1355х1355х1209","1305х1305х1300",110166,{"$f":"ROUND(I42*(1-$E$3)/Лист2!$A$6,0)","v":110166}]
[]
["Базовая комплектация:\n Динамическая система охлаждения,\n- Электронный контроллер;\n- Оттайка для версий ВПС - естественная, для версий ВПСН и ВПН - ТЭН (по умолчанию);\n- Общее освещение для версий с высоким стеклом - нейтральное (4000К), витрины с низким стеклом без освещения;    \n - Товарный накопитель для линейных модулей (запасник с дверкой) (кроме НТ);\n- Без боковин;\n- Упаковка в деревянной обрешетке;",null,null,null,"- Внутренний объем - оцинкованный металл, внутренний объем в зоне выкладки - нерж.сталь;\n- Ночные шторки для витрин с высоким стеклом;                                                                             \n- Фронтальное стекло закаленное \n(Magnum Eco – стекло открывается сверху-вниз, Magnum Quadro – стекло открывается сверху-вниз без гидролифта; Magnum – стекло открывается снизу-вверх, опционально возможно применение гидролифта;) \n- Емкость для сбора талой воды, опционально возможно применение выпаривателя;"]
[3,"Витрины серии MAGNUM Eco, глубина выкладки 860 мм"]
[null,null,"Среднетемпературные",null,null,null,null,null,"Опции Magnum ECO",null,"EL.PS.2.V0.T.Y7016.P7016\n\nдля витрин с боковинами добавить комплекты боковин:\n676.50.01.00;\n676.50.02.00"]
[null,null,"1138.00.00.00","Magnum Eco 1250 БА ББ","0…+7",1.075,"1250х1130х1235","1510х1190х1150",86081,{"$f":"ROUND(I47*(1-$E$3)/Лист2!$A$6,0)","v":86081}]
[null,null,"1138.00.00.00-01","Magnum Eco 1880 БА ББ",null,1.61,"1875х1130х1235","2140х1190х1150",112462,{"$f":"ROUND(I48*(1-$E$3)/Лист2!$A$6,0)","v":112462}]
[null,null,"1138.00.00.00-02","Magnum Eco 2500 БА ББ",null,2.15,"2500х1130х1235","2760х1190х1150",142885,{"$f":"ROUND(I49*(1-$E$3)/Лист2!$A$6,0)","v":142885}]
[null,null,"1138.00.00.00-03","Magnum Eco 3750 БА ББ",null,3.22,"3750х1130х1235","4010х1190х1150",181734,{"$f":"ROUND(I50*(1-$E$3)/Лист2!$A$6,0)","v":181734}]
[null,null,"Средне-низкотемпературные"]
[null,null," 1139.00.00.00","Magnum Eco SN 1250 БА ББ","­5…+7",1.075,"1250х1130х1235","1510х1190х1150",93469,{"$f":"ROUND(I52*(1-$E$3)/Лист2!$A$6,0)","v":93469}]
[null,null," 1139.00.00.00-01","Magnum Eco SN 1880 БА ББ",null,1.61,"1875х1130х1235","2140х1190х1150",119450,{"$f":"ROUND(I53*(1-$E$3)/Лист2!$A$6,0)","v":119450}]
[null,null," 1139.00.00.00-02","Magnum Eco SN 2500 БА ББ",null,2.15,"2500х1130х1235","2760х1190х1150",147228,{"$f":"ROUND(I54*(1-$E$3)/Лист2!$A$6,0)","v":147228}]
[null,null," 1139.00.00.00-03","Magnum Eco SN 3750 БА ББ",null,3.22,"3750х1130х1235","4010х1190х1150",200558,{"$f":"ROUND(I55*(1-$E$3)/Лист2!$A$6,0)","v":200558}]
[4,"Витрины серии MAGNUM, глубина выкладки 860 мм",null,null,null,null,null,null,"Опции Magnum"]
[null,null,"Среднетемпературные",null,null,null,null,null,null,null,"EL.PS.2.V0.T.Y7016.P7016\n\nдля витрин с боковинами добавить комплекты боковин:\n433.50.1000.00;\n433.50.2000.00"]
[null,null,"MAG ВПС2 125 БА ББ","Magnum 1250 БА ББ","0…+7",1.075,"1250х1095х1235","1510х1190х1150",105103,{"$f":"ROUND(I58*(1-$E$3)/Лист2!$A$6,0)","v":105103}]
[null,null,"MAG ВПС2 188 БА ББ","Magnum 1880 БА ББ",null,1.61,"1875х1095х1235","2140х1190х1150",145450,{"$f":"ROUND(I59*(1-$E$3)/Лист2!$A$6,0)","v":145450}]
[null,null,"MAG ВПС2 250 БА ББ","Magnum 2500 БА ББ",null,2.15,"2500х1095х1235","2760х1190х1150",171194,{"$f":"ROUND(I60*(1-$E$3)/Лист2!$A$6,0)","v":171194}]
[null,null,"MAG ВПС2 375 БА ББ","Magnum 3750 БА ББ",null,3.22,"3750х1095х1235","4010х1190х1150",219428,{"$f":"ROUND(I61*(1-$E$3)/Лист2!$A$6,0)","v":219428}]
[null,null,"Средне-низкотемпературные"]
[null,null,"MAG ВПСН2 125 БА ББ","Magnum SN 1250 БА ББ","­5…+7",1.075,"1250х1095х1235","1510х1190х1150",114525,{"$f":"ROUND(I63*(1-$E$3)/Лист2!$A$6,0)","v":114525}]
[null,null,"MAG ВПСН2 188 БА ББ","Magnum SN 1880 БА ББ",null,1.61,"1875х1095х1235","2140х1190х1150",154366,{"$f":"ROUND(I64*(1-$E$3)/Лист2!$A$6,0)","v":154366}]
[null,null,"MAG ВПСН2 250 БА ББ","Magnum SN 2500 БА ББ",null,2.15,"2500х1095х1235","2760х1190х1150",189529,{"$f":"ROUND(I65*(1-$E$3)/Лист2!$A$6,0)","v":189529}]
[null,null,"MAG ВПСН2 375 БА ББ","Magnum SN 3750 БА ББ",null,3.22,"3750х1095х1235","4010х1190х1150",249491,{"$f":"ROUND(I66*(1-$E$3)/Лист2!$A$6,0)","v":249491}]
[null,null,"Низкотемпературные",null,null,null,null,null,null,null,"EL.PS.2.V0.T.Y7016.P7016\nдля витрин с боковинами добавить комплекты боковин:\n476.50.1000.00;\n476.50.2000.00"]
[null,null,"  1208.00.00.00","Magnum F 1250 БА ББ","не выше -15",1.075,"1250х1095х1235","1510х1190х1150",127510,{"$f":"ROUND(I68*(1-$E$3)/Лист2!$A$6,0)","v":127510}]
[null,null,"  1208.00.00.00-01","Magnum F 1880 БА ББ",null,1.61,"1875х1095х1235","2140х1190х1150",180224,{"$f":"ROUND(I69*(1-$E$3)/Лист2!$A$6,0)","v":180224}]
[null,null,"  1208.00.00.00-02","Magnum F 2500 БА ББ",null,2.15,"2500х1095х1235","2760х1190х1150",207714,{"$f":"ROUND(I70*(1-$E$3)/Лист2!$A$6,0)","v":207714}]
[null,null,"  1208.00.00.00-03","Magnum F 3750 БА ББ",null,3.22,"3750х1095х1235","4010х1190х1150",327982,{"$f":"ROUND(I71*(1-$E$3)/Лист2!$A$6,0)","v":327982}]
[null,null,"Среднетемпературные с низким стеклом",null,null,null,null,null,null,null,"EL.PS.0.V0.T.Y7016.P7016\nдля витрин с боковинами добавить комплекты боковин:\n276.50.01.000;\n276.50.02.00"]
[null,null,"MAG ВПС2 SG125 БА ББ","Magnum SG 1250 БА ББ","0…+7",1.075,"1250х1095х895","1510х1190х1150",90112,{"$f":"ROUND(I73*(1-$E$3)/Лист2!$A$6,0)","v":90112}]
[null,null,"MAG ВПС2 SG188 БА ББ","Magnum SG 1880 БА ББ",null,1.61,"1880х1095х895","2140х1190х1150",121539,{"$f":"ROUND(I74*(1-$E$3)/Лист2!$A$6,0)","v":121539}]
[null,null,"MAG ВПС2 SG250 БА ББ","Magnum SG 2500 БА ББ",null,2.15,"2500х1095х895","2760х1190х1150",147026,{"$f":"ROUND(I75*(1-$E$3)/Лист2!$A$6,0)","v":147026}]
[null,null,"MAG ВПС2 SG375 БА ББ","Magnum SG 3750 БА ББ",null,3.22,"3750х1095х895","4010х1190х1150",186861,{"$f":"ROUND(I76*(1-$E$3)/Лист2!$A$6,0)","v":186861}]
[null,null,"Угловые витрины",null,null,null,null,null,null,null,"EL.PS.2.V0.T.Y7016.P7016\nдля витрин с боковинами добавить комплекты боковин:\n476.50.1000.00;\n476.50.2000.00"]
[null,null,"MAG ВПС2 ОC90 БА ББ","Magnum OC 90 БА ББ","0…+7",1.1919999999999999,"1360х1360х1235","2170х1380х1080",191016,{"$f":"ROUND(I78*(1-$E$3)/Лист2!$A$6,0)","v":191016}]
[null,null,"MAG ВПС2 ОCSG90 БА ББ","Magnum ОC SG 90 БА ББ",null,1.1919999999999999,"1360х1360х895","2170х1300х1080",148117,{"$f":"ROUND(I79*(1-$E$3)/Лист2!$A$6,0)","v":148117}]
[null,null,"MAG ВПС2 IC90 БА ББ","Magnum IC 90 БА ББ",null,1.08,"1320х1320х1235","2170х1380х1080",185471,{"$f":"ROUND(I80*(1-$E$3)/Лист2!$A$6,0)","v":185471},"EL.PS.0.V0.T.Y7016.P7016\nдля витрин с боковинами добавить комплекты боковин:\n276.50.01.000;\n276.50.02.00"]
[null,null,"MAG ВПС2 ICSG90 БА ББ","Magnum IC SG 90 БА ББ",null,1.08,"1320х1320х895","2170х1300х1080",174708,{"$f":"ROUND(I81*(1-$E$3)/Лист2!$A$6,0)","v":174708}]
[5,"Витрины серии MAGNUM Quadro, глубина выкладки 860 мм"]
[null,null,"Среднетемпературные",null,null,null,null,null,"Опции Magnum Q",null,"EL.PS.2.V0.T.B7016.P7016\n\nдля витрин с боковинами добавить комплекты боковин:\n1007.48.00.00;\n1007.48.00.00mir"]
[null,null,"MAGQ ВПС1 125 БА ББ","Magnum Quadro 1250 БА ББ","0…+7",1.075,"1250х1095х1225","1510х1190х1150",105928,{"$f":"ROUND(I84*(1-$E$3)/Лист2!$A$6,0)","v":105928}]
[null,null,"MAGQ ВПС1 188 БА ББ","Magnum Quadro 1875 БА ББ",null,1.61,"1875х1095х1225","2140х1190х1150",131736,{"$f":"ROUND(I85*(1-$E$3)/Лист2!$A$6,0)","v":131736}]
[null,null,"MAGQ ВПС1 250 БА ББ","Magnum Quadro 2500 БА ББ",null,2.15,"2500х1095х1225","2760х1190х1150",154988,{"$f":"ROUND(I86*(1-$E$3)/Лист2!$A$6,0)","v":154988}]
[null,null,"MAGQ ВПС1 375 БА ББ","Magnum Quadro 3750 БА ББ",null,3.22,"3750х1095х1225","4010х1190х1150",224567,{"$f":"ROUND(I87*(1-$E$3)/Лист2!$A$6,0)","v":224567}]
[null,null,"Средне-низкотемпературные"]
[null,null,"MAGQ ВПСН1 125 БА ББ","Magnum Quadro SN 1250 БА ББ","­5…+7",1.075,"1250х1095х1225","1510х1190х1150",120861,{"$f":"ROUND(I89*(1-$E$3)/Лист2!$A$6,0)","v":120861}]
[null,null,"MAGQ ВПСН1 188 БА ББ","Magnum Quadro SN 1875 БА ББ",null,1.61,"1875х1095х1225","2140х1190х1150",150476,{"$f":"ROUND(I90*(1-$E$3)/Лист2!$A$6,0)","v":150476}]
[null,null,"MAGQ ВПСН1 250 БА ББ","Magnum Quadro SN 2500 БА ББ",null,2.15,"2500х1095х1225","2760х1190х1150",176669,{"$f":"ROUND(I91*(1-$E$3)/Лист2!$A$6,0)","v":176669}]
[null,null,"MAGQ ВПСН1 375 БА ББ","Magnum Quadro SN 3750 БА ББ",null,3.22,"3750х1095х1225","4010х1190х1150",255838,{"$f":"ROUND(I92*(1-$E$3)/Лист2!$A$6,0)","v":255838}]
[null,null,"Низкотемпературные",null,null,null,null,null,null,null,"EL.PS.2.V0.T.B7016.P7016\nдля витрин с боковинами добавить комплекты боковин:\n1030.48.00.00;\n1030.48.00.00mir"]
[null,null,"1182.00.00.00","ВПН Magnum Quadro 1250 БА ББ","не выше -15",1.075,"1250х1095х1225","1510х1190х1150",132479,{"$f":"ROUND(I94*(1-$E$3)/Лист2!$A$6,0)","v":132479}]
[null,null,"1182.00.00.00-01","ВПН Magnum Quadro 1875 БА ББ",null,1.61,"1875х1095х1225","2140х1190х1150",164844,{"$f":"ROUND(I95*(1-$E$3)/Лист2!$A$6,0)","v":164844}]
[null,null,"1182.00.00.00-02","ВПН Magnum Quadro 2500 БА ББ",null,2.15,"2500х1095х1225","2760х1190х1150",193729,{"$f":"ROUND(I96*(1-$E$3)/Лист2!$A$6,0)","v":193729}]
[null,null,"1182.00.00.00-03","ВПН Magnum Quadro 3750 БА ББ",null,3.22,"3750х1095х1225","4010х1190х1150",280023,{"$f":"ROUND(I97*(1-$E$3)/Лист2!$A$6,0)","v":280023}]
[null,null,"Среднетемпературные с низким стеклом",null,null,null,null,null,null,null,"EL.PS.0.V0.T.B7016.P7016\nдля витрин с боковинами добавить комплекты боковин:\n1013.48.00.00;\n1013.48.00.00mir"]
[null,null,"MAGQ ВПС1 SG125 БА ББ","Magnum Quadro Self 1250 БА ББ","0…+7",1.075,"1250х1095х865","1510х1190х1150",104552,{"$f":"ROUND(I99*(1-$E$3)/Лист2!$A$6,0)","v":104552}]
[null,null,"MAGQ ВПС1 SG188 БА ББ","Magnum Quadro Self 1875 БА ББ",null,1.61,"1875х1095х865","2140х1190х1150",132504,{"$f":"ROUND(I100*(1-$E$3)/Лист2!$A$6,0)","v":132504}]
[null,null,"MAGQ ВПС1 SG250 БА ББ","Magnum Quadro Self 2500 БА ББ",null,2.15,"2500х1095х865","2760х1190х1150",156022,{"$f":"ROUND(I101*(1-$E$3)/Лист2!$A$6,0)","v":156022}]
[null,null,"MAGQ ВПС1 SG375 БА ББ","Magnum Quadro Self 3750 БА ББ",null,3.22,"3750х1095х865","4010х1190х1150",227720,{"$f":"ROUND(I102*(1-$E$3)/Лист2!$A$6,0)","v":227720}]
[null,null,"Угловые витрины",null,null,null,null,null,null,null,"EL.PS.2.V0.T.B7016.P7016\nдля витрин с боковинами добавить комплекты боковин:\n1007.48.00.00;\n1007.48.00.00mir"]
[null,null,"1183.00.00.00","Magnum Quadro OC 90 БА ББ","0…+7",1.2,"1355х1355х1225","2170х1380х1080",147457,{"$f":"ROUND(I104*(1-$E$3)/Лист2!$A$6,0)","v":147457}]
[null,null,"1184.00.00.00","Magnum Quadro IC 90 БА ББ",null,1.08,"1325х1325х1225","2170х1300х1080",140623,{"$f":"ROUND(I105*(1-$E$3)/Лист2!$A$6,0)","v":140623}]
[null,null,"1185.00.00.00","Magnum Quadro Self OC 90 БА ББ",null,1.2,"1355х1355х865","2170х1380х1080",140586,{"$f":"ROUND(I106*(1-$E$3)/Лист2!$A$6,0)","v":140586},"EL.PS.0.V0.T.B7016.P7016\nдля витрин с боковинами добавить комплекты боковин:\n1013.48.00.00;\n1013.48.00.00mir"]
[null,null,"1186.00.00.00","Magnum Quadro Self IC 90 БА ББ",null,1.08,"1325х1325х865","2170х1300х1080",133536,{"$f":"ROUND(I107*(1-$E$3)/Лист2!$A$6,0)","v":133536}]
[null,null,"Рыбные витрины ВСПН/ВПСН Self",null,null,null,null,null,null,null,"EL.PS.2.V0.T.B7016.P7016\nдля витрин с боковинами добавить комплекты боковин:\n1007.48.00.00;\n1007.48.00.00mir"]
[null,null,"1250.00.00.00","Magnum Quadro Fish 1250 БА ББ","­5…+7",null,"1250х1095х1225","1510х1190х1150",132479,{"$f":"ROUND(I109*(1-$E$3)/Лист2!$A$6,0)","v":132479}]
[null,null,"1250.00.00.00-01","Magnum Quadro Fish 1875 БА ББ",null,null,"1875х1095х1225","2140х1190х1150",164844,{"$f":"ROUND(I110*(1-$E$3)/Лист2!$A$6,0)","v":164844}]
[null,null,"1251.00.00.00","Magnum Quadro Fish Self 1250 БА ББ",null,null,"1250х1095х865","1510х1190х1150",124176,{"$f":"ROUND(I111*(1-$E$3)/Лист2!$A$6,0)","v":124176},"EL.PS.0.V0.T.B7016.P7016\nдля витрин с боковинами добавить комплекты боковин:\n1013.48.00.00;\n1013.48.00.00mir"]
[null,null,"1251.00.00.00-01","Magnum Quadro Fish Self 1875 БА ББ",null,null,"1875х1095х865","2140х1190х1150",154096,{"$f":"ROUND(I112*(1-$E$3)/Лист2!$A$6,0)","v":154096}]
[null,null,null,null,null,null,null,null,0]
[]
[null,null,null,null,null,null,"наверх"]

{"sheet":"Кондитерские витрины","index":3,"n_rows":53,"n_cols":24,"rows_kept":53,"cut":false,"hidden":false,"merged":[[12,0,12,4],[1,1,1,3],[2,1,2,3],[3,1,3,3],[8,7,9,7],[10,0,11,0],[8,0,9,0],[8,1,9,1],[8,3,9,4],[8,2,9,2],[12,5,12,10],[5,0,7,10],[0,7,4,10],[43,0,50,1],[51,1,53,1],[52,7,53,7],[41,0,42,0],[40,3,40,4],[41,1,42,10],[13,0,40,1],[25,3,25,4],[26,3,26,4],[27,3,27,4],[22,3,22,4],[31,3,31,4],[32,3,32,4],[37,3,37,4],[38,3,38,4],[39,3,39,4],[34,3,34,4],[35,3,35,4],[29,3,29,4],[30,3,30,4],[24,3,24,4],[11,23,11,27],[11,18,11,22],[11,13,11,17],[10,13,10,27],[8,5,9,5],[8,6,9,6],[8,9,9,9],[8,10,9,10],[10,1,11,10],[8,8,9,8],[36,2,36,10],[43,2,43,5],[44,2,44,10],[13,2,13,10],[18,2,18,10],[23,2,23,10],[28,2,28,10],[33,2,33,10],[43,6,43,10],[14,3,14,4],[15,3,15,4],[16,3,16,4],[17,3,17,4],[19,3,19,4],[20,3,20,4],[21,3,21,4]]}
[null,null,null,null,null,null,null,"ЗАВОД «ОПК»\nТел.: +7 (495) 987-4388\ne-mail: info@cryspi.ru\nсайт: cryspi.ru",null,null,null,null,"На главную"]
[]
[null,"Ваша скидка:",null,null,{"$f":"Содержание!D2","v":0}]
[null,"НДС:",null,null,{"$f":"IF(Лист2!A1=TRUE,\"С НДС\",\"БЕЗ НДС\")","v":"С НДС"}]
[]
["Кондитерские витрины Cryspi со встроенным агрегатом"]
[]
[]
["№","Изображение","Артикул","Наименование",null,"Температурный режим,°C","Площадь экспозиции, кв.м.","Габариты, \n(LxWxH) мм","Габариты в упаковке, \n(LxWxH) мм","Базовая \nцена, руб.\n(с НДС)",{"$f":"[5]Лист2!$A$5","v":"Ваша цена, руб."}]
[]
[1,"ADAGIO",null,null,null,null,null,null,null,null,null,null,null,"СЕЧЕНИЯ"]
[null,null,null,null,null,null,null,null,null,null,null,null,null,"ADAGIO",null,null,null,null,"ADAGIO CUBE",null,null,null,null,"ELEGIA"]
["Стандартная комплектация:               \n- 3 уровня навесных полок, 230, 320, 380 мм (Adagio/Adagio LX),  380 мм (Adagio Cube/Adagio LX Cube); \n- подсветка всех полок (4500К или 2700К) \n- фронтальная металическая панель\n- Возможно применение фронтальной панели из ЛДСП с наценкой в 4%.\n- Компрессор  R-290\n- Электронный контроллер Carel\n- Цифровой термометр",null,null,null,null,"- Оттайка испарителя естественным способом; Автоматическое выпаривание конденсата\n- Задняя дверца - оргстекло (Adagio),  закаленный стеклопакет (Adagio LX);\n- Вентилируемое (динамическое) охлаждение\n- Внутренний объем - сталь оцинкованная\n- зона выкладки - сталь оцинкованна с покраской\n- шелкография стекол черного цвета (Ral 9005)\n- Упаковка в деревянной обрешетке;                                                                                                                                                                  "]
[null,null,"Витрины охлаждаемые, кондитерские, закаленное стекло"]
[null,null,"ADAGV 90 R290","Витрина холодильная ВПВ (ADAGIO 900 Д)",null,"+6..+12°С",1.27,"900х620х1330",null,87062,{"$f":"ROUND(J15*(1-$E$3)/Лист2!$A$6,0)","v":87062}]
[null,null,"ADAGV 130 R290","Витрина холодильная ВПВ (ADAGIO 1300 Д)",null,"+6..+12°С",1.58,"1300Х620Х1330",null,93858,{"$f":"ROUND(J16*(1-$E$3)/Лист2!$A$6,0)","v":93858}]
[null,null,"ADAGVCUBE 90 R290","Витрина холодильная ВПВ (ADAGIO Cube 900 Д)",null,"+6..+12°С",1.46,"900х620х1330",null,87062,{"$f":"ROUND(J17*(1-$E$3)/Лист2!$A$6,0)","v":87062}]
[null,null,"ADAGVCUBE 130 R290","Витрина холодильная ВПВ (ADAGIO Cube 1300 Д)",null,"+6..+12°С",1.83,"1300Х620Х1330",null,93858,{"$f":"ROUND(J18*(1-$E$3)/Лист2!$A$6,0)","v":93858}]
[null,null,"Витрины охлаждаемые, кондитерские, закаленный стеклопакет"]
[null,null,"ADAGLX 90 R290","Витрина холодильная ВПС (ADAGIO LX 900 Д)",null,"0..+7°С",1.27,"900х620х1330",null,114484,{"$f":"ROUND(J20*(1-$E$3)/Лист2!$A$6,0)","v":114484}]
[null,null,"ADAGLX 130 R290","Витрина холодильная ВПС (ADAGIO LX 1300 Д)",null,"0..+7°С",1.58,"1300Х620Х1330",null,135551,{"$f":"ROUND(J21*(1-$E$3)/Лист2!$A$6,0)","v":135551}]
[null,null,"ADAGLXCUBE 90 R290","Витрина холодильная ВПС (ADAGIO LX Cube 900 Д)",null,"0..+7°С",1.46,"900х620х1330",null,114484,{"$f":"ROUND(J22*(1-$E$3)/Лист2!$A$6,0)","v":114484}]
[null,null,"ADAGLXCUBE 130 R290","Витрина холодильная ВПС (ADAGIO LX Cube 1300 Д)",null,"0..+7°С",1.83,"1300Х620Х1330",null,135551,{"$f":"ROUND(J23*(1-$E$3)/Лист2!$A$6,0)","v":135551}]
[null,null,"Витрины для самообслуживания охлаждаемые, кондитерские "]
[null,null,"ADAGVSELF 90 R290","Витрина холодильная ВПВ (ADAGIO Self  900 Д)",null,"+1..+10°С",1.27,"900х620х1330","1100х790х1475",128138,{"$f":"ROUND(J25*(1-$E$3)/Лист2!$A$6,0)","v":128138}]
[null,null,"ADAGVSELF 130 R290","Витрина холодильная ВПВ (ADAGIO Self 1300 Д)",null,"+1..+10°С",1.58,"1300Х620Х1330","1500х790х1475",151445,{"$f":"ROUND(J26*(1-$E$3)/Лист2!$A$6,0)","v":151445}]
[null,null,"DAGVSELFCUBE 90 R290","Витрина холодильная ВПВ (ADAGIO Self Cube 900 Д)",null,"+1..+10°С",1.46,"900х620х1330","1100х790х1475",129918,{"$f":"ROUND(J27*(1-$E$3)/Лист2!$A$6,0)","v":129918}]
[null,null,"ADAGVSELFCUBE 130 R290","Витрина холодильная ВПВ (ADAGIO Self Cube 1300 Д)",null,"+1..+10°С",1.83,"1300Х620Х1330","1500х790х1475",153518,{"$f":"ROUND(J28*(1-$E$3)/Лист2!$A$6,0)","v":153518}]
[null,null,"Витрины нейтральные, кондитерские без охлаждения для самообслуживания"]
[null,null,"ADAGNSELF 90","Витрина нейтральная ВП (ADAGIO N Self 900)",null,"-",1.27,"900х620х1330","1100х790х1475",67483,{"$f":"ROUND(J30*(1-$E$3)/Лист2!$A$6,0)","v":67483}]
[null,null,"ADAGNSELF 130","Витрина нейтральная ВП (ADAGIO N Self 1300)",null,"-",1.58,"1300Х620Х1330","1500х790х1475",75017,{"$f":"ROUND(J31*(1-$E$3)/Лист2!$A$6,0)","v":75017}]
[null,null,"ADAGNSELFCUBE 90","Витрина холодильная ВПВ (ADAGIO N Self Cube 900 Д)",null,"-",1.46,"900х620х1330","1100х790х1475",69346,{"$f":"ROUND(J32*(1-$E$3)/Лист2!$A$6,0)","v":69346},"EL.2.G9006гл.A3002гл.В3002гл.Р1.PS.9005гл.0"]
[null,null,"ADAGNSELFCUBE 130","Витрина холодильная ВПВ (ADAGIO N Self Cube 1300 Д)",null,"-",1.83,"1300Х620Х1330","1500х790х1475",73042,{"$f":"ROUND(J33*(1-$E$3)/Лист2!$A$6,0)","v":73042}]
[null,null,"Витрины нейтральные, кондитерские без охлаждения для самообслуживания. Хлебная модификация",null,null,null,null,null,null,null,null,"N.2.G9006гл.A3002гл.В3002гл.Р1.PS.9005гл.0"]
[null,null,"ADAGNSELFCUBE 90","Витрина холодильная ВПВ (ADAGIO N Self Cube 900 Д)",null,"-",1.46,"900х620х1330","1100х790х1475",65984,{"$f":"ROUND(J35*(1-$E$3)/Лист2!$A$6,0)","v":65984}]
[null,null,"ADAGNSELFCUBE 130","Витрина холодильная ВПВ (ADAGIO N Self Cube 1300 Д)",null,"-",1.83,"1300Х620Х1330","1500х790х1475",71042,{"$f":"ROUND(J36*(1-$E$3)/Лист2!$A$6,0)","v":71042}]
[null,null,"Кассовый нейтральный прилавок (КНП) ",null,null,null,null,null,null,null,null,"А3002гл.PS.RAL9005гл"]
[null,null,"ADAGLXKNP 60","Прилавок КНП ADAGIO 600 (фронтальные панели металл)",null,"-","-","600х650х906","800х790х1065",21917,{"$f":"ROUND(J38*(1-$E$3)/Лист2!$A$6,0)","v":21917}]
[null,null,"ADAGLXKNP 90","Прилавок КНП ADAGIO 900 (фронтальные панели металл)",null,"-","-","900Х650Х906","1100х790х1065",26650,{"$f":"ROUND(J39*(1-$E$3)/Лист2!$A$6,0)","v":26650}]
[null,null,"ADAGLXKNP 60","Прилавок КНП ADAGIO 600 (фронтальные панели ЛДСП)",null,"-","-","600х650х906","800х790х1065",24090,{"$f":"ROUND(J40*(1-$E$3)/Лист2!$A$6,0)","v":24090}]
[null,null,"ADAGLXKNP 90","Прилавок КНП ADAGIO 900 (фронтальные панели ЛДСП)",null,"-","-","900Х650Х906","1100х790х1065",27892,{"$f":"ROUND(J41*(1-$E$3)/Лист2!$A$6,0)","v":27892}]
[2,"ELEGIA QUADRO"]
[]
[null,null,"Стандартная комплектация:\n- Компрессор R-290\n- стеклопакеты по периметру;\n",null,null,null,"- фронтальное стекло (кроме версии SELF);\n- выпариватель;\n- LED подсветка в стойках и полках\n- ТЭНы оттайки испарителей\n- Упаковка в деревянной обрешетке"]
[null,null,null,null,null,null,null,null,null,null,null,"EL.2.G9016гл.А9005гл.В8016гл.Р1.PS"]
[null,null,"EQ 850 R290","Elegia Quadro К 850",null,"+1...+10",1.23,"850х764х1312","1050х990х1550",143538,{"$f":"ROUND(J46*(1-$E$3)/Лист2!$A$6,0)","v":143538}]
[null,null,"EQ 100 R290","Elegia Quadro К 1000",null,"+1...+10",1.46,"1 000×764×1 312","1200х990х1550",158287,{"$f":"ROUND(J47*(1-$E$3)/Лист2!$A$6,0)","v":158287}]
[null,null,"EQ 125 R290","Elegia Quadro K 1250",null,"+1...+10",1.85,"1 250×764×1 312","1450х990х1550",173157,{"$f":"ROUND(J48*(1-$E$3)/Лист2!$A$6,0)","v":173157}]
[null,null,"EQ SELF 100 R290","Elegia Quadro SELF 1000 (для самообслуживания)",null,"+1...+10",1.39,"1 000×764×1 312","1200х990х1550",158287,{"$f":"ROUND(J49*(1-$E$3)/Лист2!$A$6,0)","v":158287}]
[null,null,"EQ SELF 125 R290","Elegia Quadro SELF 1250 (для самообслуживания)",null,"+1...+10",1.72,"1 254×764×1 312","1450х990х1550",159010,{"$f":"ROUND(J50*(1-$E$3)/Лист2!$A$6,0)","v":159010}]
[null,null,"EQKNP900NEW","Прилавок КНП Elegia Quadro 600",null,"-","-","600х764х870","740х950х1025",25554,{"$f":"ROUND(J51*(1-$E$3)/Лист2!$A$6,0)","v":25554}]
[]
[null,null,null,null,null,null,null,"НАВЕРХ"]

{"sheet":"Опции для витрин Cryspi","index":4,"n_rows":234,"n_cols":7,"rows_kept":234,"cut":false,"hidden":false,"merged":[[192,5,196,11],[147,5,151,11],[177,5,181,11],[182,5,186,11],[187,5,191,11],[152,5,156,11],[157,5,161,11],[162,5,166,11],[167,5,171,11],[172,5,176,11],[1,2,1,3],[2,2,2,3],[3,2,3,3],[7,0,8,0],[7,2,8,2],[7,3,8,3],[6,3,6,4],[233,3,234,3],[7,4,8,4],[10,0,12,0],[14,0,61,0],[63,0,72,0],[9,3,9,4],[13,3,13,4],[62,3,62,4],[89,3,89,4],[146,3,146,4],[147,0,230,0],[132,0,145,0],[90,0,130,0],[131,3,131,4]]}
[null,null,null,null,null,"На главную"]
[]
[null,null,"Ваша скидка:",null,{"$f":"Содержание!D2","v":0}]
[null,null,"НДС:",null,{"$f":"IF(Лист2!A1=TRUE,\"С НДС\",\"БЕЗ НДС\")","v":"С НДС"}]
[]
[]
[null,null,"Опции для витрин Cryspi","СОДЕРЖАНИЕ"]
["№",null,"Название","Базовая \nцена, руб.\n(с НДС)",{"$f":"[5]Лист2!$A$5","v":"Ваша цена, руб."}]
[null,null,null,null,null,"Комментарий"]
[1,null,"Octava","Вернуться к прайсу Octava"]
[null,"З0000089012","Разделитель передвижной низкий(оргстекл) 343.55.00.00 для ВПС/ВПСН Octava",1121,{"$f":"ROUND(D11*(1-$E$3)/Лист2!$A$6,0)","v":1121}]
[null,"З0000089013","Разделитель передвижной высокий(оргстекл) 343.56.00.00 для ВПС/ВПСН Octava",1962,{"$f":"ROUND(D12*(1-$E$3)/Лист2!$A$6,0)","v":1962}]
[null,"З0000090244","Комплект полки навесной для весов 343.54.00.00 для ВПС/ВПСН/ВПН Octava",3259,{"$f":"ROUND(D13*(1-$E$3)/Лист2!$A$6,0)","v":3259}]
[2,null,"Gamma-2","Вернуться к прайсу Gamma-2"]
[null,null,"Комплект боковин 337.40.00.00 для ВПС/ВПСН Gamma 2",11810,{"$f":"ROUND(D15*(1-$E$3)/Лист2!$A$6,0)","v":11810}]
[null,null,"Комплект боковин 350.40.00.00 для ВПН Gamma-2",11992,{"$f":"ROUND(D16*(1-$E$3)/Лист2!$A$6,0)","v":11992}]
[null,null,"Комплект боковин 354.41.00.00 для КНП Gamma-2",9338,{"$f":"ROUND(D17*(1-$E$3)/Лист2!$A$6,0)","v":9338}]
[null,null,"Комплект боковин 391.40.00.00 для ВПВ Gamma-2",0,{"$f":"ROUND(D18*(1-$E$3)/Лист2!$A$6,0)","v":0}]
[null,null,"Комплект боковины левой 337.40.01.00 для ВПС/ВПСН Gamma-2",5905,{"$f":"ROUND(D19*(1-$E$3)/Лист2!$A$6,0)","v":5905}]
[null,null,"Комплект боковины правой 337.40.01.00-01 для ВПС/ВПСН Gamma-2",5905,{"$f":"ROUND(D20*(1-$E$3)/Лист2!$A$6,0)","v":5905}]
[null,null,"Комплект боковины левой 350.40.01.00 для ВПН Gamma-2",5996,{"$f":"ROUND(D21*(1-$E$3)/Лист2!$A$6,0)","v":5996}]
[null,null,"Комплект боковины правой 350.40.01.00-01 для ВПН Gamma-2",5996,{"$f":"ROUND(D22*(1-$E$3)/Лист2!$A$6,0)","v":5996}]
[null,null,"Комплект герметичного разделителя 337.83.00.00 для ВПС/ВПСН/ВПН Gamma-2",13611,{"$f":"ROUND(D23*(1-$E$3)/Лист2!$A$6,0)","v":13611}]
[null,null,"Комплект для рыбы и морепродуктов 865.60.00.00 для Gamma/Gamma Quadro 1200",9370,{"$f":"ROUND(D24*(1-$E$3)/Лист2!$A$6,0)","v":9370}]
[null,null,"Комплект для рыбы и морепродуктов 865.60.00.00-01 для Gamma/Gamma Quadro 1500",11851,{"$f":"ROUND(D25*(1-$E$3)/Лист2!$A$6,0)","v":11851}]
[null,null,"Комплект для рыбы и морепродуктов 865.60.00.00-02 для Gamma/Gamma Quadro 1800",13961,{"$f":"ROUND(D26*(1-$E$3)/Лист2!$A$6,0)","v":13961}]
[null,null,"Полка навесная 337.46.00.00 L=1200 для ВПС/ВПСН/ВПН Gamma-2",4165,{"$f":"ROUND(D27*(1-$E$3)/Лист2!$A$6,0)","v":4165},"Полка дополнительная для отдельно стоящей витрины"]
[null,null,"Полка навесная 337.46.00.00-01 L=1500 для ВПС/ВПСН/ВПН Gamma-2",4405,{"$f":"ROUND(D28*(1-$E$3)/Лист2!$A$6,0)","v":4405},"Полка дополнительная для отдельно стоящей витрины"]
[null,null,"Полка навесная 337.46.00.00-02 L=1800 для ВПС/ВПСН/ВПН Gamma-2",4649,{"$f":"ROUND(D29*(1-$E$3)/Лист2!$A$6,0)","v":4649},"Полка дополнительная для отдельно стоящей витрины"]
[null,null,"Разделитель передвижной низкий 337.47.00.00 для ВПС/ВПСН Gamma-2",557,{"$f":"ROUND(D30*(1-$E$3)/Лист2!$A$6,0)","v":557},"Из стекла!"]
[null,null,"Разделитель передвижной низкий из оргстекла 337.48.00.00 для ВПС/ВПСН Gamma-2",1065,{"$f":"ROUND(D31*(1-$E$3)/Лист2!$A$6,0)","v":1065}]
[null,null,"Разделитель передвижной высокий 337.49.00.00 для  ВПС/ВПСН Gamma-2",989,{"$f":"ROUND(D32*(1-$E$3)/Лист2!$A$6,0)","v":989},"Из стекла!"]
[null,null,"Разделитель передвижной высокий из оргстекла 337.53.00.00 для ВПС/ВПСН Gamma-2",3303,{"$f":"ROUND(D33*(1-$E$3)/Лист2!$A$6,0)","v":3303}]
[null,null,"Комплект соединительный 337.50.00.00 для ВПС/ВПСН/ВПН Gamma-2",4201,{"$f":"ROUND(D34*(1-$E$3)/Лист2!$A$6,0)","v":4201}]
[null,null,"Комплект соединительный 391.50.00.00 для ВПВ Gamma-2",7262,{"$f":"ROUND(D35*(1-$E$3)/Лист2!$A$6,0)","v":7262}]
[null,null,"Комплект полки навесной для весов 337.54.00.00 для ВПС/ВПСН/ВПН Gamma-2",5160,{"$f":"ROUND(D36*(1-$E$3)/Лист2!$A$6,0)","v":5160}]
[null,null,"Перемычка 337.60.00.00 для ВПС/ВПСН/ВПН Gamma-2",3829,{"$f":"ROUND(D37*(1-$E$3)/Лист2!$A$6,0)","v":3829}]
[null,null,"Доска навесная для нарезки 337.61.00.00 для ВПС/ВПСН/ВПН Gamma-2",8235,{"$f":"ROUND(D38*(1-$E$3)/Лист2!$A$6,0)","v":8235}]
[null,null,"Полка дополнительная 337.70.00.00 L=1200 для ВПС/ВПСН/ВПН Gamma-2",4110,{"$f":"ROUND(D39*(1-$E$3)/Лист2!$A$6,0)","v":4110},"Полка дополнительная (стыковка левым торцом)"]
[null,null,"Полка дополнительная 337.70.00.00-01 L=1500 для ВПС/ВПСН/ВПН Gamma-2",4351,{"$f":"ROUND(D40*(1-$E$3)/Лист2!$A$6,0)","v":4351},"Полка дополнительная (стыковка левым торцом)"]
[null,null,"Полка дополнительная 337.70.00.00-02 L=1800 для ВПС/ВПСН/ВПН Gamma-2",4592,{"$f":"ROUND(D41*(1-$E$3)/Лист2!$A$6,0)","v":4592},"Полка дополнительная (стыковка левым торцом)"]
[null,null,"Полка дополнительная 337.70.00.00-03 L=1200 для ВПС/ВПСН/ВПН Gamma-2",1089,{"$f":"ROUND(D42*(1-$E$3)/Лист2!$A$6,0)","v":1089},"Полка дополнительная (стыковка с двух сторон)"]
[null,null,"Полка дополнительная 337.70.00.00-04 L=1500 для ВПС/ВПСН/ВПН Gamma-2",1314,{"$f":"ROUND(D43*(1-$E$3)/Лист2!$A$6,0)","v":1314},"Полка дополнительная (стыковка с двух сторон)"]
[null,null,"Полка дополнительная 337.70.00.00-05 L=1800 для ВПС/ВПСН/ВПН Gamma-2",1621,{"$f":"ROUND(D44*(1-$E$3)/Лист2!$A$6,0)","v":1621},"Полка дополнительная (стыковка с двух сторон)"]
[null,null,"Полка дополнительная 337.70.00.00-06 L=1200 для ВПС/ВПСН/ВПН Gamma-2",4110,{"$f":"ROUND(D45*(1-$E$3)/Лист2!$A$6,0)","v":4110},"Полка дополнительная (стыковка правым торцом)"]
[null,null,"Полка дополнительная 337.70.00.00-07 L=1500 для ВПС/ВПСН/ВПН Gamma-2",4351,{"$f":"ROUND(D46*(1-$E$3)/Лист2!$A$6,0)","v":4351},"Полка дополнительная (стыковка правым торцом)"]
[null,null,"Полка дополнительная 337.70.00.00-08 L=1800 для ВПС/ВПСН/ВПН Gamma-2",4592,{"$f":"ROUND(D47*(1-$E$3)/Лист2!$A$6,0)","v":4592},"Полка дополнительная (стыковка правым торцом)"]
[null,null,"Подиум одноступенчатый 337.80.00.00 L=1200 для ВПС/ВПСН Gamma-2",2227,{"$f":"ROUND(D48*(1-$E$3)/Лист2!$A$6,0)","v":2227},"Комплект на витрину"]
[null,null,"Подиум одноступенчатый 337.80.00.00-01 L=1500 для ВПС/ВПСН Gamma-2",2652,{"$f":"ROUND(D49*(1-$E$3)/Лист2!$A$6,0)","v":2652},"Комплект на витрину"]
[null,null,"Подиум одноступенчатый 337.80.00.00-02 L=1800 для ВПС/ВПСН Gamma-2",3384,{"$f":"ROUND(D50*(1-$E$3)/Лист2!$A$6,0)","v":3384},"Комплект на витрину"]
[null,null,"Подиум одноступенчатый 351.80.00.00 OC 90 для ВПС Gamma-2",2801,{"$f":"ROUND(D51*(1-$E$3)/Лист2!$A$6,0)","v":2801},"Комплект на витрину"]
[null,null,"Подиум двухступенчатый 337.81.00.00 L=1200 для ВПС/ВПСН Gamma-2",5283,{"$f":"ROUND(D52*(1-$E$3)/Лист2!$A$6,0)","v":5283},"Комплект на витрину"]
[null,null,"Подиум двухступенчатый 337.81.00.00-01L=1500 для ВПС/ВПСН Gamma-2",6186,{"$f":"ROUND(D53*(1-$E$3)/Лист2!$A$6,0)","v":6186},"Комплект на витрину"]
[null,null,"Подиум двухступенчатый 337.81.00.00-02 L=1800 для ВПС/ВПСН Gamma-2",7986,{"$f":"ROUND(D54*(1-$E$3)/Лист2!$A$6,0)","v":7986},"Комплект на витрину"]
[null,null,"Подиум двухступенчатый 351.81.00.00 OC 90 для ВПС Gamma-2",6455,{"$f":"ROUND(D55*(1-$E$3)/Лист2!$A$6,0)","v":6455},"Комплект на витрину"]
[null,null,"Монтажный набор (до 4 кВт) 1106.120.00.00S для ВПВ/ВПС/ВПСН/ВПН",9143,{"$f":"ROUND(D56*(1-$E$3)/Лист2!$A$6,0)","v":9143}]
[null,null,"Опора гастроемкостей для витрин 337.85.00.00 L=1200 для ВПС/ВПСН Gamma-2",2734,{"$f":"ROUND(D57*(1-$E$3)/Лист2!$A$6,0)","v":2734}]
[null,null,"Опора гастроемкостей для витрин 337.85.00.00-01 L=1500 для ВПС/ВПСН Gamma-2",3054,{"$f":"ROUND(D58*(1-$E$3)/Лист2!$A$6,0)","v":3054}]
[null,null,"Опора гастроемкостей для витрин 337.85.00.00-02 L=1800 для ВПС/ВПСН Gamma-2",4513,{"$f":"ROUND(D59*(1-$E$3)/Лист2!$A$6,0)","v":4513}]
[null,null,"Комплект для декорирования 337.87.00.00 для Gamma-2 L=1200",10015,{"$f":"ROUND(D60*(1-$E$3)/Лист2!$A$6,0)","v":10015}]
[null,null,"Комплект для декорирования 337.87.00.00-01 для Gamma-2 L=1500",11313,{"$f":"ROUND(D61*(1-$E$3)/Лист2!$A$6,0)","v":11313}]
[null,null,"Комплект для декорирования 337.87.00.00-02 для Gamma-2 L=1800",12538,{"$f":"ROUND(D62*(1-$E$3)/Лист2!$A$6,0)","v":12538}]
[3,null,"Gamma Quadro","Вернуться к прайсу Gamma Q"]
[null,null,"Комплект боковины левой 1062.40.00.00 для ВПС/ВПСН GAMMA-2 Quadro",6193,{"$f":"ROUND(D64*(1-$E$3)/Лист2!$A$6,0)","v":6193},null,{"$f":"D64+D65","v":12386}]
[null,null,"Комплект боковины правой 1062.40.00.00mir для ВПС/ВПСН GAMMA-2 Quadro",6193,{"$f":"ROUND(D65*(1-$E$3)/Лист2!$A$6,0)","v":6193}]
[null,null,"Комплект боковины левой 1064.40.00.00 для ВПН GAMMA-2 Quadro",7707,{"$f":"ROUND(D66*(1-$E$3)/Лист2!$A$6,0)","v":7707}]
[null,null,"Комплект боковины правой 1064.40.00.00mir для ВПН GAMMA-2 Quadro",7707,{"$f":"ROUND(D67*(1-$E$3)/Лист2!$A$6,0)","v":7707}]
[null,null,"Комплект герметичного разделителя 643.83.00.00 для ВПС/ВПН/ВПСН GAMMA-2 Quadro",14271,{"$f":"ROUND(D68*(1-$E$3)/Лист2!$A$6,0)","v":14271}]
[null,null,"Комплект герметичного разделителя с доп. полкой 643.84.00.00 для ВПС/ВПН/ВПСН GAMMA-2 Quadro",15828,{"$f":"ROUND(D69*(1-$E$3)/Лист2!$A$6,0)","v":15828}]
[null,null,"Комплект соединительный 1062.50.00.00 для ВПС/ВПН/ВПСН GAMMA-2 Quadro",3037,{"$f":"ROUND(D70*(1-$E$3)/Лист2!$A$6,0)","v":3037}]
[null,null,"Разделитель передвижной высокий (стекло) 643.43.00.00 для ВПС/ВПН/ВПСН GAMMA-2 Quadro",1407,{"$f":"ROUND(D71*(1-$E$3)/Лист2!$A$6,0)","v":1407}]
[null,null,"Разделитель передвижной низкий (оргстекло) 643.42.00.00 для ВПС/ВПН/ВПСН GAMMA-2 Quadro",1168,{"$f":"ROUND(D72*(1-$E$3)/Лист2!$A$6,0)","v":1168}]
[null,null,"Разделитель передвижной низкий (стекло) 643.41.00.00 для ВПС/ВПН/ВПСН GAMMA-2 Quadro",749,{"$f":"ROUND(D73*(1-$E$3)/Лист2!$A$6,0)","v":749}]
[null,null,"Комплект полки навесной для весов L=420 мм. 643.54.00.00 для ВПС/ВПН/ВПСН GAMMA-2 Quadro",5409,{"$f":"ROUND(D74*(1-$E$3)/Лист2!$A$6,0)","v":5409}]
[null,null,"Комплект отбойника фронтального 15х30 мм. 643.55.00.00 для ВПС/ВПН/ВПСН GAMMA-2 Quadro L=1200",1861,{"$f":"ROUND(D75*(1-$E$3)/Лист2!$A$6,0)","v":1861}]
[null,null,"Комплект отбойника фронтального 15х30 мм. 643.55.00.00-01 для ВПС/ВПН/ВПСН GAMMA-2 Quadro L=1500",2079,{"$f":"ROUND(D76*(1-$E$3)/Лист2!$A$6,0)","v":2079}]
[null,null,"Комплект отбойника фронтального 15х30 мм. 643.55.00.00-02 для ВПС/ВПН/ВПСН GAMMA-2 Quadro L=1800",2296,{"$f":"ROUND(D77*(1-$E$3)/Лист2!$A$6,0)","v":2296}]
[null,null,"Доска навесная для нарезки 643.61.00.00 для ВПС/ВПН/ВПСН GAMMA-2 Quadro",19700,{"$f":"ROUND(D78*(1-$E$3)/Лист2!$A$6,0)","v":19700}]
[null,null,"Полка дополнительная 643.46.00.00 L=1200 для ВПС/ВПН/ВПСН GAMMA-2 Quadro",3673,{"$f":"ROUND(D79*(1-$E$3)/Лист2!$A$6,0)","v":3673}]
[null,null,"Полка дополнительная 643.46.00.00-01 L=1500 для ВПС/ВПН/ВПСН GAMMA-2 Quadro",3993,{"$f":"ROUND(D80*(1-$E$3)/Лист2!$A$6,0)","v":3993}]
[null,null,"Полка дополнительная 643.46.00.00-02 L=1800 для ВПС/ВПН/ВПСН GAMMA-2 Quadro",4294,{"$f":"ROUND(D81*(1-$E$3)/Лист2!$A$6,0)","v":4294}]
[null,null,"Подиум одноступенчатый 337.80.00.00 L=1200 для ВПС/ВПСН Gamma-2",2226,{"$f":"ROUND(D82*(1-$E$3)/Лист2!$A$6,0)","v":2226}]
[null,null,"Подиум одноступенчатый 337.80.00.00-01 L=1500 для ВПС/ВПСН Gamma-2",2655,{"$f":"ROUND(D83*(1-$E$3)/Лист2!$A$6,0)","v":2655}]
[null,null,"Подиум одноступенчатый 337.80.00.00-02 L=1800 для ВПС/ВПСН Gamma-2",3387,{"$f":"ROUND(D84*(1-$E$3)/Лист2!$A$6,0)","v":3387}]
[null,null,"Подиум одноступенчатый 351.80.00.00 OC 90 для ВПС Gamma-2",2802,{"$f":"ROUND(D85*(1-$E$3)/Лист2!$A$6,0)","v":2802}]
[null,null,"Подиум двухступенчатый 337.81.00.00 L=1200 для ВПС/ВПСН Gamma-2",5281,{"$f":"ROUND(D86*(1-$E$3)/Лист2!$A$6,0)","v":5281}]
[null,null,"Подиум двухступенчатый 337.81.00.00-01L=1500 для ВПС/ВПСН Gamma-2",6186,{"$f":"ROUND(D87*(1-$E$3)/Лист2!$A$6,0)","v":6186}]
[null,null,"Подиум двухступенчатый 337.81.00.00-02 L=1800 для ВПС/ВПСН Gamma-2",7988,{"$f":"ROUND(D88*(1-$E$3)/Лист2!$A$6,0)","v":7988}]
[null,null,"Подиум двухступенчатый 351.81.00.00 OC 90 для ВПС Gamma-2",6455,{"$f":"ROUND(D89*(1-$E$3)/Лист2!$A$6,0)","v":6455}]
[4,"Код 1С","Magnum","Вернуться к прайсу Magnum"]
[null,"З0000101899","Комплект боковины левой со стеклом 433.50.1000.00 для ВПС/ВПСН Magnum ",7564,{"$f":"ROUND(D91*(1-$E$3)/Лист2!$A$6,0)","v":7564}]
[null,"З0000101900","Комплект боковины правой со стеклом 433.50.2000.00 для ВПС/ВПСН Magnum ",7564,{"$f":"ROUND(D92*(1-$E$3)/Лист2!$A$6,0)","v":7564}]
[null,"З0000101907","Комплект боковины левой со стеклом 476.50.1000.00 для ВПН Magnum ",9145,{"$f":"ROUND(D93*(1-$E$3)/Лист2!$A$6,0)","v":9145}]
[null,"З0000101908","Комплект боковины правой со стеклом 476.50.2000.00 для ВПН Magnum ",9145,{"$f":"ROUND(D94*(1-$E$3)/Лист2!$A$6,0)","v":9145}]
[null,"З0000101902","Комплект боковины левой со стеклом 276.50.01.00 для ВПС Magnum SG ",7422,{"$f":"ROUND(D95*(1-$E$3)/Лист2!$A$6,0)","v":7422}]
[null,"З0000101903","Комплект боковины правой со стеклом 276.50.02.00 для ВПС Magnum SG ",7422,{"$f":"ROUND(D96*(1-$E$3)/Лист2!$A$6,0)","v":7422}]
[null,"З0000276011","Доска навесная для весов 1007.60.00.00 (420х325) для Magnum/Eco/Quadro",7907,{"$f":"ROUND(D97*(1-$E$3)/Лист2!$A$6,0)","v":7907}]
[null,"З0000304079","Доска навесная для нарезки 1007.62.00.00 (420х325) для Magnum/Eco/Quadro",10823,{"$f":"ROUND(D98*(1-$E$3)/Лист2!$A$6,0)","v":10823}]
[null,"З0000296634","Доска навесная универсальная для весов и для нарезки (450х410) 1007.160.00.00 для Magnum, Magnum Eco, Magnum Quadro",3454,{"$f":"ROUND(D99*(1-$E$3)/Лист2!$A$6,0)","v":3454}]
[null,"З0000297102","Комплект бампера 1098.72.00.00 для ВПС/ВПСН/ВПН Magnum 1250",3783,{"$f":"ROUND(D100*(1-$E$3)/Лист2!$A$6,0)","v":3783}]
[null,"З0000297098","Комплект бампера 1098.72.00.00-01 для ВПС/ВПСН/ВПН Magnum 1880",5578,{"$f":"ROUND(D101*(1-$E$3)/Лист2!$A$6,0)","v":5578}]
[null,"З0000297099","Комплект бампера 1098.72.00.00-02 для ВПС/ВПСН/ВПН Magnum 2500",6069,{"$f":"ROUND(D102*(1-$E$3)/Лист2!$A$6,0)","v":6069}]
[null,"З0000297100","Комплект бампера 1098.72.00.00-03 для ВПС/ВПСН/ВПН Magnum 3750",8358,{"$f":"ROUND(D103*(1-$E$3)/Лист2!$A$6,0)","v":8358}]
[null,"З0000304089","Комплект бампера 1102.72.00.00 для Magnum OС 90",11216,{"$f":"ROUND(D104*(1-$E$3)/Лист2!$A$6,0)","v":11216}]
[null,"З0000297110","Комплект бампера 1103.72.00.00 для Magnum IС 90",9838,{"$f":"ROUND(D105*(1-$E$3)/Лист2!$A$6,0)","v":9838}]
[null,"З0000101796","Комплект гидроамортизаторов 263.67.00.00 для ВПС/ВПСН/ВПН Magnum L=1250",7804,{"$f":"ROUND(D106*(1-$E$3)/Лист2!$A$6,0)","v":7804}]
[null,"З0000101797","Комплект гидроамортизаторов 263.67.00.00-01 для ВПС/ВПСН/ВПН Magnum L=1880",14724,{"$f":"ROUND(D107*(1-$E$3)/Лист2!$A$6,0)","v":14724}]
[null,"З0000101798","Комплект гидроамортизаторов 263.67.00.00-02 для ВПС/ВПСН/ВПН Magnum L=2500",14724,{"$f":"ROUND(D108*(1-$E$3)/Лист2!$A$6,0)","v":14724}]
[null,"З0000110281","Комплект гидроамортизаторов 263.67.00.00-03 для ВПС/ВПСН/ВПН Magnum L=3750",21481,{"$f":"ROUND(D109*(1-$E$3)/Лист2!$A$6,0)","v":21481}]
[null,"З0000101812","Комплект гидроамортизаторов 268.67.00.00 для ВПС Magnum IС 90",13917,{"$f":"ROUND(D110*(1-$E$3)/Лист2!$A$6,0)","v":13917}]
[null,"З0000101811","Комплект гидроамортизаторов 267.67.00.00 для ВПС Magnum OС 90",13917,{"$f":"ROUND(D111*(1-$E$3)/Лист2!$A$6,0)","v":13917}]
[null,"З0000101612","Комплект соединительный 263.55.00.00 для ВПС/ВПСН/ВПН Magnum",1646,{"$f":"ROUND(D112*(1-$E$3)/Лист2!$A$6,0)","v":1646}]
[null,"З0000101725","Компл соединительный 276.55.00.00 для ВПС Magnum SG",1647,{"$f":"ROUND(D113*(1-$E$3)/Лист2!$A$6,0)","v":1647}]
[null,"З0000104851","Комплект подиума двухступ(нерж) 433.73.0000.00 L=1250 для ВПС/ВПСН/ВПН Magnum",4131,{"$f":"ROUND(D114*(1-$E$3)/Лист2!$A$6,0)","v":4131},"ступенька на экспозиционную полку в витрине "]
[null,"З0000104852","Комплект подиума двухступ(нерж) 433.73.0000.00-01 L=1880 для ВПС/ВПСН/ВПН Magnum",5232,{"$f":"ROUND(D115*(1-$E$3)/Лист2!$A$6,0)","v":5232},"ступенька на экспозиционную полку в витрине "]
[null,"З0000104853","Комплект подиума двухступ(нерж) 433.73.0000.00-02 L=2500 для ВПС/ВПСН/ВПН Magnum",8263,{"$f":"ROUND(D116*(1-$E$3)/Лист2!$A$6,0)","v":8263},"ступенька на экспозиционную полку в витрине "]
[null,"З0000104854","Комплект подиума двухступ(нерж) 433.73.0000.00-03 L=3750 для ВПС/ВПСН/ВПН Magnum",12397,{"$f":"ROUND(D117*(1-$E$3)/Лист2!$A$6,0)","v":12397},"ступенька на экспозиционную полку в витрине "]
[null,"З0000101740","Подиум двухступенчатый 268.58.00.00 IC 90 для ВПС Magnum",5829,{"$f":"ROUND(D118*(1-$E$3)/Лист2!$A$6,0)","v":5829},"ступенька на экспозиционную полку в витрине "]
[null,"З0000101738","Подиум двухступенчатый 267.58.00.00 OC 90 для ВПС Magnum",3886,{"$f":"ROUND(D119*(1-$E$3)/Лист2!$A$6,0)","v":3886},"ступенька на экспозиционную полку в витрине "]
[null,"З0000280986","Комплект герметичного разделителя 1098.43.00.00 для ВПС/ВПСН/ВПН Magnum",16357,{"$f":"ROUND(D120*(1-$E$3)/Лист2!$A$6,0)","v":16357}]
[null,"З0000304091","Комплект герметичного разделителя 1101.43.00.00  для ВПС/ВПСН Magnum SG",12607,{"$f":"ROUND(D121*(1-$E$3)/Лист2!$A$6,0)","v":12607}]
[null,"З0000280988","Комплект разделителя передвижного высокого 1098.42.00.00 для ВПС/ВПСН/ВПН Magnum",1481,{"$f":"ROUND(D122*(1-$E$3)/Лист2!$A$6,0)","v":1481}]
[null,"З0000280987","Комплект разделителя передвижного низкого 1098.41.00.00 для ВПС/ВПСН/ВПН Magnum",1195,{"$f":"ROUND(D123*(1-$E$3)/Лист2!$A$6,0)","v":1195}]
[null,"З0000101825","ТЭН оттайки испарителя 273.65.00.00 L=1250 для ВПС Magnum  / IС 90 / ОС 90 / Eco / Quadro",1739,{"$f":"ROUND(D124*(1-$E$3)/Лист2!$A$6,0)","v":1739}]
[null,"З0000101826","ТЭН оттайки испарителя 273.65.00.00-01 L=1880 для ВПС Magnum / Eco / Quadro",3131,{"$f":"ROUND(D125*(1-$E$3)/Лист2!$A$6,0)","v":3131}]
[null,"З0000101828","ТЭН оттайки испарителя 273.65.00.00-02 L=2500 для ВПС Magnum / Eco / Quadro",3726,{"$f":"ROUND(D126*(1-$E$3)/Лист2!$A$6,0)","v":3726}]
[null,"З0000101829","ТЭН оттайки испарителя 273.65.00.00-03 L=3750 для ВПС Magnum / Eco / Quadro",5993,{"$f":"ROUND(D127*(1-$E$3)/Лист2!$A$6,0)","v":5993}]
[null,"З0000302271","Комплект шторок ночных 1101.40.00.00 для Magnum SG исп.1250",4574,{"$f":"ROUND(D128*(1-$E$3)/Лист2!$A$6,0)","v":4574}]
[null,"З0000302272","Комплект шторок ночных 1101.40.00.00-01  для Magnum SG исп.1875",6823,{"$f":"ROUND(D129*(1-$E$3)/Лист2!$A$6,0)","v":6823}]
[null,"З0000302273","Комплект шторок ночных 1101.40.00.00-02  для Magnum SG исп.2500",9124,{"$f":"ROUND(D130*(1-$E$3)/Лист2!$A$6,0)","v":9124}]
[null,"З0000302274","Комплект шторок ночных 1101.40.00.00-03  для Magnum SG исп.3750",13433,{"$f":"ROUND(D131*(1-$E$3)/Лист2!$A$6,0)","v":13433}]
[5,"Код 1С","Magnum ECO","Вернуться к прайсу Magnum ECO"]
[null,"З0000123582","Комплект боковины левой  676.50.01.00 для ВПС/ВПСН Magnum Eco",7564,{"$f":"ROUND(D133*(1-$E$3)/Лист2!$A$6,0)","v":7564}]
[null,"З0000123583","Комплект боковины правой  676.50.02.00 для ВПС/ВПСН Magnum Eco",7564,{"$f":"ROUND(D134*(1-$E$3)/Лист2!$A$6,0)","v":7564}]
[null,"З0000276011","Доска навесная для весов 1007.60.00.00 (420х325) для Magnum/Eco/Quadro",5456,{"$f":"ROUND(D135*(1-$E$3)/Лист2!$A$6,0)","v":5456}]
[null,"З0000304079","Доска навесная для нарезки 1007.62.00.00 (420х325) для Magnum/Eco/Quadro",8042,{"$f":"ROUND(D136*(1-$E$3)/Лист2!$A$6,0)","v":8042}]
[null,"З0000296634","Доска навесная универсальная для весов и для нарезки (450х410) 1007.160.00.00 для Magnum, Magnum Eco, Magnum Quadro",3454,{"$f":"ROUND(D137*(1-$E$3)/Лист2!$A$6,0)","v":3454}]
[null,"З0000123589","Комплект соединительный 676.40.00.00 для ВПС/ВПСН/ВПН Magnum Eco",1647,{"$f":"ROUND(D138*(1-$E$3)/Лист2!$A$6,0)","v":1647}]
[null,"З0000104851","Комплект подиума двухступ(нерж) 433.73.0000.00 L=1250 для ВПС/ВПСН/ВПН Magnum",4131,{"$f":"ROUND(D139*(1-$E$3)/Лист2!$A$6,0)","v":4131},"ступенька на экспозиционную полку в витрине "]
[null,"З0000104852","Комплект подиума двухступ(нерж) 433.73.0000.00-01 L=1880 для ВПС/ВПСН/ВПН Magnum",5232,{"$f":"ROUND(D140*(1-$E$3)/Лист2!$A$6,0)","v":5232},"ступенька на экспозиционную полку в витрине "]
[null,"З0000104853","Комплект подиума двухступ(нерж) 433.73.0000.00-02 L=2500 для ВПС/ВПСН/ВПН Magnum",8263,{"$f":"ROUND(D141*(1-$E$3)/Лист2!$A$6,0)","v":8263},"ступенька на экспозиционную полку в витрине "]
[null,"З0000104854","Комплект подиума двухступ(нерж) 433.73.0000.00-03 L=3750 для ВПС/ВПСН/ВПН Magnum",12397,{"$f":"ROUND(D142*(1-$E$3)/Лист2!$A$6,0)","v":12397},"ступенька на экспозиционную полку в витрине "]
[null,"З0000101825","ТЭН оттайки испарителя 273.65.00.00 L=1250 для ВПС Magnum  / IС 90 / ОС 90 / Eco / Quadro",1739,{"$f":"ROUND(D143*(1-$E$3)/Лист2!$A$6,0)","v":1739}]
[null,"З0000101826","ТЭН оттайки испарителя 273.65.00.00-01 L=1880 для ВПС Magnum / Eco / Quadro",3131,{"$f":"ROUND(D144*(1-$E$3)/Лист2!$A$6,0)","v":3131}]
[null,"З0000101828","ТЭН оттайки испарителя 273.65.00.00-02 L=2500 для ВПС Magnum / Eco / Quadro",3726,{"$f":"ROUND(D145*(1-$E$3)/Лист2!$A$6,0)","v":3726}]
[null,"З0000101829","ТЭН оттайки испарителя 273.65.00.00-03 L=3750 для ВПС Magnum / Eco / Quadro",5993,{"$f":"ROUND(D146*(1-$E$3)/Лист2!$A$6,0)","v":5993}]
[6,"Код 1С","MAGNUM Quadro","Вернуться к прайсу Magnum Q"]
[null,null,"Комплект общей подсветки для Magnum Quadro L=1250 мм",2143,{"$f":"D148*(1-$E$3)","v":2143},"Спектр освещения определяется характеристикой\n (пятый символ, \"1\" - 6500К, \"2\" -  4000К, \"3\" - 3000 К, \"4\" -  мясной)"]
[null,null,"Комплект общей подсветки для Magnum Quadro L=1875 мм",3188,{"$f":"D149*(1-$E$3)","v":3188}]
[null,null,"Комплект общей подсветки для Magnum Quadro L=2500 мм",3188,3188]
[null,null,"Комплект общей подсветки для Magnum Quadro OC90",3215,3215]
[null,null,"Комплект общей подсветки для Magnum Quadro  IC90",1929,1929]
[null,null,"Комплект декоративной фронтальной панели металлической узкой L=1250 мм",3104,3104,"Определяется характеристикой\nВосьмой символ характеристики - ВХХХХ\nгде ХХХХ цвет со структурой, пример - В7016гл"]
[null,null,"Комплект декоративной фронтальной панели металлической узкой L=1875 мм",4430,4430]
[null,null,"Комплект декоративной фронтальной панели металлической узкой L=2500 мм",5281,5281]
[null,null,"Комплект декоративной фронтальной панели металлической узкой OC90",5293,5293]
[null,null,"Комплект декоративной фронтальной панели металлической узкой IC90",3259,3259]
[null,null,"Комплект декоративной фронтальной панели металлической узкой с отбойником L=1250 мм",4967,4967,"Определяется характеристикой\nВосьмой символ характеристики - DХХХХ\nгде ХХХХ цвет со структурой, пример - D7016гл"]
[null,null,"Комплект декоративной фронтальной панели металлической узкой с отбойником  L=1875 мм",7088,7088]
[null,null,"Комплект декоративной фронтальной панели металлической узкой с отбойником  L=2500 мм",8449,8449]
[null,null,"Комплект декоративной фронтальной панели металлической узкой с отбойником  OC90",8469,8469]
[null,null,"Комплект декоративной фронтальной панели металлической узкой с отбойником  IC90",5215,5215]
[null,null,"Комплект декоративной фронтальной панели металлической широкой  L=1250 мм",3352,3352,"Определяется характеристикой\nВосьмой символ характеристики - AХХХХ\nгде ХХХХ цвет со структурой, пример - A7016гл"]
[null,null,"Комплект декоративной фронтальной панели металлической широкой  L=1875 мм",4784,4784]
[null,null,"Комплект декоративной фронтальной панели металлической широкой  L=2500 мм",5703,5703]
[null,null,"Комплект декоративной фронтальной панели металлической широкой для OC90",5717,5717]
[null,null,"Комплект декоративной фронтальной панели металлической широкой для IC90",3520,3520]
[null,null,"Комплект декоративной фронтальной панели металлической широкой с отбойником  L=1250 мм",5364,5364,"Определяется характеристикой\nВосьмой символ характеристики - СХХХХ\nгде ХХХХ цвет со структурой, пример - С7016гл"]
[null,null,"Комплект декоративной фронтальной панели металлической широкой с отбойником  L=1875 мм",7655,7655]
[null,null,"Комплект декоративной фронтальной панели металлической широкой с отбойником  L=2500 мм",9125,9125]
[null,null,"Комплект декоративной фронтальной панели металлической широкой с отбойником для OC90",9147,9147]
[null,null,"Комплект декоративной фронтальной панели металлической широкой с отбойником для IC90",5632,5632]
[null,null,"Комплект декоративной фронтальной панели металлической узкой L=1250 мм, ЛДСП",5587,5587,"Расшифровка характеристик ЛДСП (нажать)"]
[null,null,"Комплект декоративной фронтальной панели металлической узкой L=1875 мм, ЛДСП",7974,7974]
[null,null,"Комплект декоративной фронтальной панели металлической узкой L=2500 мм, ЛДСП",9505,9505]
[null,null,"Комплект декоративной фронтальной панели металлической узкой OC90, ЛДСП",9528,9528]
[null,null,"Комплект декоративной фронтальной панели металлической узкой IC90, ЛДСП",5867,5867]
[null,null,"Комплект декоративной фронтальной панели металлической узкой с отбойником L=1250 мм, ЛДСП",7450,7450,"Расшифровка характеристик ЛДСП (нажать)"]
[null,null,"Комплект декоративной фронтальной панели металлической узкой с отбойником  L=1875 мм, ЛДСП",10632,10632]
[null,null,"Комплект декоративной фронтальной панели металлической узкой с отбойником  L=2500 мм, ЛДСП",12674,12674]
[null,null,"Комплект декоративной фронтальной панели металлической узкой с отбойником  OC90, ЛДСП",12704,12704]
[null,null,"Комплект декоративной фронтальной панели металлической узкой с отбойником  IC90, ЛДСП",7822,7822]
[null,null,"Комплект декоративной фронтальной панели металлической широкой  L=1250 мм, ЛДСП",6034,6034,"Расшифровка характеристик ЛДСП (нажать)"]
[null,null,"Комплект декоративной фронтальной панели металлической широкой  L=1875 мм, ЛДСП",8612,8612]
[null,null,"Комплект декоративной фронтальной панели металлической широкой  L=2500 мм, ЛДСП",10266,10266]
[null,null,"Комплект декоративной фронтальной панели металлической широкой для OC90, ЛДСП",10290,10290]
[null,null,"Комплект декоративной фронтальной панели металлической широкой для IC90, ЛДСП",6336,6336]
[null,null,"Комплект декоративной фронтальной панели металлической широкой с отбойником  L=1250 мм, ЛДСП",8046,8046,"Расшифровка характеристик ЛДСП (нажать)"]
[null,null,"Комплект декоративной фронтальной панели металлической широкой с отбойником  L=1875 мм, ЛДСП",11483,11483]
[null,null,"Комплект декоративной фронтальной панели металлической широкой с отбойником  L=2500 мм, ЛДСП",13688,{"$f":"D190*(1-$E$3)","v":13688}]
[null,null,"Комплект декоративной фронтальной панели металлической широкой с отбойником для OC90, ЛДСП",13720,{"$f":"D191*(1-$E$3)","v":13720}]
[null,null,"Комплект декоративной фронтальной панели металлической широкой с отбойником для IC90, ЛДСП",8448,8448]
[null,null,"Система выпаривания конденсата для Magnum Quadro L=1250 мм",3542,3542,"Применение выпаривателя определяется характеристикой\n(шестой символ, \"V0\" - без выпаривателя, \"V1\" - выпариватель применен)"]
[null,null,"Система выпаривания конденсата для Magnum Quadro L=1875 мм",6021,6021]
[null,null,"Система выпаривания конденсата для Magnum Quadro L=2500 мм",7934,7934]
[null,null,"Система выпаривания конденсата для Magnum Quadro OC90",6021,6021]
[null,null,"Система выпаривания конденсата для Magnum Quadro IC90",3188,3188]
[null,"З0000252734","Комплект боковины левой под узкую фронтальную панель 1007.48.00.00 для ВПС/ВПСН Magnum Quadro",7581,7581]
[null,"З0000252736","Комплект боковины правой под узкую фронтальную панель 1007.48.00.00mir дляВПС/ВПСН Magnum Quadro",7581,7581]
[null,"З0000250536","Комплект боковины левой под узкую фронтальную панель 1013.48.00.00 для ВПС/ВПСН Magnum Quadro Self",7218,7218]
[null,"З0000265366","Комплект боковины правой под узкую фронтальную панель 1013.48.00.00mir для ВПС/ВПСН Magnum Quadro Self",7218,7218]
[null,"З0000275651","Комплект боковины левой под узкую фронтальную панель 1030.48.00.00 для ВПН Magnum Quadro",7808,7808]
[null,"З0000275653","Комплект боковины правой под узкую фронтальную панель 1030.48.00.00mir для ВПН Magnum Quadro",7808,7808]
[null,"З0000268674","Комплект боковины левой под широкую фронтальную панель 1007.50.00.00 для ВПС/ВПСН Magnum Quadro",7600,7600]
[null,"З0000268675","Комплект боковины правой под широкую фронтальную панель 1007.50.00.00mir для ВПС/ВПСН Magnum Quadro",7600,7600]
[null,"З0000281768","Комплект боковины левой под широкую фронтальную панель 1013.50.00.00 для ВПС/ВПСН Magnum Quadro Self",7237,7237]
[null,"З0000281769","Комплект боковины правой под широкую фронтальную панель 1013.50.00.00mir для ВПС/ВПСН Magnum Quadro",7237,7237]
[null,"З0000304139","Комплект боковины левой под широкую фронтальную панель 1030.50.00.00 для ВПН Magnum Quadro",9716,9716]
[null,"З0000304141","Комплект боковины правой под широкую фронтальную панель 1030.50.00.00mir для ВПН Magnum Quadro",9716,9716]
[null,"З0000260404","Комплект соединительный для стыковки витрин в линию 1007.56.00.00 для ВПС/ВПСН/ВПН Magnum Quadro",1203,1203]
[null,"З0000281770","Делитель внутреннего объема передвижной низкий 1007.41.00.00 для Magnum Quadro",1929,1929]
[null,"З0000260906","Делитель внутр.объема передвижной высокий (орг.стекло) 1007.42.00.00 для всех линейных Magnum Quadro",3539,3539]
[null,"З0000250537","Комплект герметичного разделителя под узкую панель 1007.44.00.00 ВПС/ВПСН Magnum Quadro",13096,13096]
[null,"З0000268676","Комплект герметичного разделителя под широкую панель 1007.43.00.00 ВПС/ВПСН Magnum Quadro",14550,14550]
[null,"З0000104851","Комплект подиума двухступ(нерж) 433.73.0000.00 L=1250 для ВПС/ВПСН/ВПН Magnum",4131,4131,"ступенька на экспозиционную полку в витрине "]
[null,"З0000104852","Комплект подиума двухступ(нерж) 433.73.0000.00-01 L=1880 для ВПС/ВПСН/ВПН Magnum",5231,5231,"ступенька на экспозиционную полку в витрине "]
[null,"З0000104853","Комплект подиума двухступ(нерж) 433.73.0000.00-02 L=2500 для ВПС/ВПСН/ВПН Magnum",8264,8264,"ступенька на экспозиционную полку в витрине "]
[null,"З0000104854","Комплект подиума двухступ(нерж) 433.73.0000.00-03 L=3750 для ВПС/ВПСН/ВПН Magnum",12398,12398,"ступенька на экспозиционную полку в витрине "]
[null,"З0000101740","Подиум двухступенчатый 268.58.00.00 IC 90 для ВПС Magnum",3789,3789,"ступенька на экспозиционную полку в витрине "]
[null,"З0000101738","Подиум двухступенчатый 267.58.00.00 OC 90 для ВПС Magnum",3886,3886,"ступенька на экспозиционную полку в витрине "]
[null,"З0000276011","Доска навесная для весов 1007.60.00.00 (420х325) для Magnum/Eco/Quadro",7907,7907]
[null,"З0000304079","Доска навесная для нарезки 1007.62.00.00 (420х325) для Magnum/Eco/Quadro",10823,10823]
[null,"З0000296634","Доска навесная универсальная для весов и для нарезки (450х410) 1007.160.00.00 для Magnum, Magnum Eco, Magnum Quadro",3454,3454]
[null,"З0000101825","ТЭН оттайки испарителя 273.65.00.00 L=1250 для ВПС Magnum  / IС 90 / ОС 90 / Eco / Quadro",1739,1739]
[null,"З0000101826","ТЭН оттайки испарителя 273.65.00.00-01 L=1880 для ВПС Magnum / Eco / Quadro",3131,3131]
[null,"З0000101828","ТЭН оттайки испарителя 273.65.00.00-02 L=2500 для ВПС Magnum / Eco / Quadro",3726,3726]
[null,"З0000101829","ТЭН оттайки испарителя 273.65.00.00-03 L=3750 для ВПС Magnum / Eco / Quadro",5993,5993]
[null,"З0000304152","Комплект шторок ночных 1013.40.00.00 для Magnum Quadro Self исп.1250",4881,4881]
[null,"З0000304153","Комплект шторок ночных 1013.40.00.00-01 для Magnum Quadro Self исп.1875",7293,7293]
[null,"З0000304154","Комплект шторок ночных 1013.40.00.00-02 для Magnum Quadro Self исп.2500",9754,9754]
[null,"З0000304155","Комплект шторок ночных 1013.40.00.00-03 для Magnum Quadro Self исп.3750",14587,14587]
[]
[]
[null,null,null,"НАВЕРХ"]

{"sheet":"Витрины Italfrigo","index":5,"n_rows":71,"n_cols":11,"rows_kept":71,"cut":false,"hidden":false,"merged":[[24,2,24,9],[27,2,27,9],[66,2,66,9],[35,1,35,8],[36,0,67,1],[60,2,60,9],[61,4,62,4],[63,2,63,9],[64,4,65,4],[42,4,45,4],[46,2,46,9],[47,4,48,4],[52,2,52,9],[53,4,56,4],[49,2,49,9],[50,4,51,4],[41,2,41,9],[37,4,40,4],[57,2,57,9],[36,2,36,9],[10,1,10,8],[11,0,34,1],[33,2,33,9],[11,2,11,9],[30,2,30,9],[28,4,29,4],[31,4,32,4],[16,2,16,9],[22,4,23,4],[25,4,26,4],[21,2,21,9],[17,4,20,4],[12,4,15,4],[2,1,2,3],[3,1,3,3],[6,1,6,9],[7,5,8,5],[7,6,8,6],[7,7,8,7],[7,8,8,8],[7,9,8,9],[9,0,9,3],[9,4,9,9],[7,0,8,0],[7,1,8,1],[7,2,8,2],[7,3,8,3],[7,4,8,4]]}
[null,null,null,null,null,null,null,null,null,null,"На главную"]
[null,null,null,null,null,null,null,null,null,"На главную"]
[null,"Ваша скидка:",null,null,{"$f":"Содержание!D2","v":0}]
[null,"НДС:",null,null,{"$f":"IF(Лист2!A1=TRUE,\"С НДС\",\"БЕЗ НДС\")","v":"С НДС"}]
[]
[]
[null,"Витрины Italfrigo без агрегата"]
["№","Изображение","Артикул","Наименование","Температурный режим, C°","Площадь экспозиции, кв.м.","Габариты без боковин, мм (L/W/H)","Габариты в упаковке, мм (L/W/H)","Базовая \nцена, руб.\n(с НДС)",{"$f":"[6]Лист2!$A$5","v":"Ваша цена, руб."}]
[]
[]
[1,"Витрины серии TOSCANA Q, глубина выкладки 860 мм"]
[null,null,"Среднетемпературные витрины"]
[null,null,"125ITSQВПС2","Витрина холодильная ВПC Italfrigo Toscana Q 1250 Д","0…+5 С",null,"1250х1060х1195","1500х1190х1080",107731,{"$f":"I13*(1-$E$3)","v":107731}]
[null,null,"188ITSQВПС2","Витрина холодильная ВПC Italfrigo Toscana Q 1875 Д",null,null,"1875х1060х1195","2100х1190х1080",145071,145071]
[null,null,"250ITSQВПС2","Витрина холодильная ВПC Italfrigo Toscana Q 2500 Д",null,null,"2500х1060х1195","2750х1190х1080",168733,168733]
[null,null,"375ITSQВПС2","Витрина холодильная ВПC Italfrigo Toscana Q 3750 Д",null,null,"3750х1060х1195","4050х1190х1080",226864,226864]
[null,null,"Среднетемпературные витрины c низким стеклом"]
[null,null,"ITSQВПС2SG125Д","Витрина холодильная ВПC Italfrigo Toscana Q Self 1250 Д","0…+5 С",null,"1250х1060х880","1500х1190х1080",86918,86918]
[null,null,"ITSQВПС2SG188Д","Витрина холодильная ВПC Italfrigo Toscana Q Self 1875 Д",null,null,"1875х1060х880","2100х1190х1080",106792,106792]
[null,null,"ITSQВПС2SG250Д","Витрина холодильная ВПC Italfrigo Toscana Q Self 2500 Д",null,null,"2500х1060х880","2750х1190х1080",127699,127699]
[null,null,"ITSQВПС2SG375Д","Витрина холодильная ВПC Italfrigo Toscana Q Self 3750 Д",null,null,"3750х1060х880","4050х1190х1080",170023,170023]
[null,null,"Угловые среднетемпературные витрины"]
[null,null,"OC90ITSQ ВПС2","Витрина холодильная ВПC Italfrigo Toscana Q OC 90 Д","0…+5 С",null,"1355х1355х1195","2170х1380х1055",196236,196236]
[null,null,"IC90ITSQ ВПС2","Витрина холодильная ВПC Italfrigo Toscana Q IC 90 Д",null,null,"1295х1295х1195","2170х1380х1055",173624,173624]
[null,null,"Угловые среднетемпературные витрины с низким стеклом"]
[null,null,"OC90ITSQВПС2SG","Витрина холодильная ВПC Italfrigo Toscana Q OC90 Self Д","0…+5 С",null,"1355х1355х880","2170х1380х1055",172687,172687]
[null,null,"IC90ITSQВПС2SG","Витрина холодильная ВПC Italfrigo Toscana Q IC90 Self Д",null,null,"1295х1295х880","2170х1380х1055",152789,152789]
[null,null,"Средне-низкотемпературные витрины FISH (рыба на льду)"]
[null,null,"125ITSQFSВПСН2","Витрина холодильно-морозильная ВПCН (Italfrigo Toscana Q Fish 1250 Д)","-5…+5 С",null,"1250х1060х1195","1500х1190х1080",140052,140052]
[null,null,"188ITSQFSВПСН2","Витрина холодильно-морозильная ВПCН (Italfrigo Toscana Q Fish 1875 Д)",null,null,"1875х1060х1195","2100х1190х1080",161060,161060]
[null,null,"Средне-низкотемпературные витрины FISH (рыба на льду) c низким стеклом"]
[null,null,"125ITSQFSВПСН2SG","Витрина холодильно-морозильная ВПCН (Italfrigo Toscana Q Self Fish 1250 Д)","-5…+5 С",null,"1250х1060х880","1500х1190х1080",118925,118925]
[null,null,"188ITSQFSВПСН2SG","Витрина холодильно-морозильная ВПCН (Italfrigo Toscana Q Self Fish 1875 Д)",null,null,"1875х1060х880","2100х1190х1080",136705,136705]
[null,null,"Тепловая витрина (мармит) +65, нагрев горячим паром"]
[null,null,"125ITSQВПТВМ","Витрина тепловая ВПТ Italfrigo Toscana Q 1250 ВМ","+65 C",null,"1250х1060х1195","1500х1190х1400",195606,195606]
[2,"Витрины серии Veneto Quadro, глубина выкладки 960 мм"]
[null,null,"Среднетемпературные витрины"]
[null,null,"IVQ ВПС2 125Д","Витрина холодильная ВПC 0,195-1,2 (Italfrigo Veneto Quadro 1250 Д)","+2…+4 С",null,"1250х1165х1175","1500х1450х1420",120033,{"$f":"I38*(1-$E$3)","v":120033}]
[null,null,"IVQ ВПС2 188Д","Витрина холодильная ВПC 0,29-1,75 (Italfrigo Veneto Quadro 1875 Д)",null,null,"1875х1165х1175","2125х1450х1420",162045,162045]
[null,null,"IVQ ВПС2 250Д","Витрина холодильная ВПC 0,39-2,4 (Italfrigo Veneto Quadro 2500 Д)",null,null,"2500х1165х1175","2750х1450х1420",194191,194191]
[null,null,"IVQ ВПС2 375Д","Витрина холодильная ВПC 0,585-3,5 (Italfrigo Veneto Quadro 3750 Д)",null,null,"3750х1165х1175","4000х1450х1420",261236,261236]
[null,null,"Среднетемпературные витрины c низким стеклом"]
[null,null,"IVQ ВПС2 SG 125Д","Витрина холодильная ВПC 0,195-1,2 (Italfrigo Veneto Quadro Self 1250 Д)","+2…+4 С",null,"1250х1165х870","1500х1450х1050",98771,{"$f":"I43*(1-$E$3)","v":98771}]
[null,null,"IVQ ВПС2 SG 188Д","Витрина холодильная ВПC 0,29-1,75 (Italfrigo Veneto Quadro Self 1875 Д)",null,null,"1875х1165х870","2125х1450х1050",121355,121355]
[null,null,"IVQ ВПС2 SG 250Д","Витрина холодильная ВПC 0,39-2,4 (Italfrigo Veneto Quadro Self 2500 Д)",null,null,"2500х1165х870","2750х1450х1050",149181,149181]
[null,null,"IVQ ВПС2 SG 375Д","Витрина холодильная ВПC 0,585-3,5 (Italfrigo Veneto Quadro Self 3750 Д)",null,null,"3750х1165х870","4000х1450х1050",198625,198625]
[null,null,"Угловые среднетемпературные витрины"]
[null,null,"IVQ ВПС2 OC90Д","Витрина холодильная ВПC 0,226-1,33 (Italfrigo Veneto Quadro OС 90 Д)","+2…+4 С",null,"1800х1200х1175","2000х1380х1295",241883,{"$f":"I48*(1-$E$3)","v":241883}]
[null,null,"IVQ ВПС2 IC45Д","Витрина холодильная ВПC 0,11-0,64 (Italfrigo Veneto Quadro IС 45 Д)",null,null,"1455х1380х1175","1750х1670х1395",142709,142709]
[null,null,"Угловые среднетемпературные витрины с низким стеклом"]
[null,null,"IVQ ВПС2 SG OC90Д","Витрина холодильная ВПC 0,226-1,33 (Italfrigo Veneto Quadro Self OС 90 Д)","0…+5 С",null,"1800х1200х870","2000х1380х1050",220164,{"$f":"I51*(1-$E$3)","v":220164}]
[null,null,"IVQ ВПС2 SG IC45Д","Витрина холодильная ВПC 0,11-0,64 (Italfrigo Veneto Quadro Self IС 45 Д)",null,null,"1455х1380х870","1750х1670х1050",123404,123404]
[null,null,"Средне-низкотемпературные витрины"]
[null,null,"IVQ ВПСН2 125Д","Витрина холодильно-морозильная ВПCН 0,195-1,2 (Italfrigo Veneto Quadro 1250 Д)","-5…+5 С",null,"1250х1165х1175","1500х1450х1420",126167,{"$f":"I54*(1-$E$3)","v":126167}]
[null,null,"IVQ ВПСН2 188Д","Витрина холодильно-морозильная ВПCН 0,29-1,75 (Italfrigo Veneto Quadro 1875 Д)",null,null,"1875х1165х1175","2125х1450х1420",168912,168912]
[null,null,"IVQ ВПСН2 250Д","Витрина холодильно-морозильная ВПCН 0,39-2,4 (Italfrigo Veneto Quadro 2500 Д)",null,null,"2500х1165х1175","2750х1450х1420",200905,200905]
[null,null,"IVQ ВПСН2 375Д","Витрина холодильно-морозильная ВПCН 0,585-3,5 (Italfrigo Veneto Quadro 3750 Д)",null,null,"3750х1165х1175","4000х1450х1420",268407,268407]
[]
[null,null,"IVQ КНП IC90","Прилавок КНП Italfrigo Veneto Quadro IC90 (с широкой панелью)",null,null,null,null,32769,32769,"Ахххх.Рхххх"]
[null,null,"IVQ КНП 1000","Прилавок КНП Italfrigo Veneto Quadro 1000 (с широкой панелью)",null,null,null,null,40956,40956,"Ахххх.Рхххх"]
[null,null,"Средне-низкотемпературные витрины FISH (рыба на льду)"]
[null,null,"IVQFS ВПСН2 125Д","Витрина холодильно-морозильная ВПCН 0,195-1,2 (Italfrigo Veneto Quadro Fish 1250 Д)","-5…+5 С",null,"1250х1165х1175","1500х1450х1420",164902,{"$f":"I62*(1-$E$3)","v":164902}]
[null,null,"IVQFS ВПСН2 188Д","Витрина холодильно-морозильная ВПCН 0,29-1,75 (Italfrigo Veneto Quadro Fish 1875 Д)",null,null,"1875х1165х1175","2125х1450х1420",200523,200523]
[null,null,"Средне-низкотемпературные витрины FISH (рыба на льду) c низким стеклом"]
[null,null,"IVQFS ВПСН2 SG 125Д","Витрина холодильно-морозильная ВПCН 0,195-1,2 (Italfrigo Veneto Quadro Self Fish 1250 Д)","-5…+5 С",null,"1250х1165х870","1500х1450х1050",147243,{"$f":"I65*(1-$E$3)","v":147243}]
[null,null,"IVQFS ВПСН2 SG 188Д","Витрина холодильно-морозильная ВПCН 0,29-1,75 (Italfrigo Veneto Quadro Self Fish 1875 Д)",null,null,"1875х1165х870","2125х1450х1050",168278,168278]
[null,null,"Тепловая витрина (мармит) +65, нагрев горячим паром"]
[null,null,"IVQ BM125","Витрина тепловая ВПТ 0,56-0,09 (Italfrigo Veneto Quadro ВМ 1250)","+65 C",null,"1250х1165х1175","1500х1450х1420",228207,{"$f":"I68*(1-$E$3)","v":228207}]
[]
[]
[null,null,null,null,null,null,"наверх"]

{"sheet":"Опции для витрин Italfrigo","index":6,"n_rows":260,"n_cols":6,"rows_kept":260,"cut":false,"hidden":false,"merged":[[96,0,96,4],[119,4,120,4],[119,0,119,3],[259,3,260,3],[97,0,97,4],[229,0,229,4],[240,0,240,4],[183,0,183,4],[105,0,105,4],[120,0,120,3],[121,0,121,4],[164,0,164,4],[228,0,228,4],[36,0,36,4],[53,0,53,4],[1,2,1,3],[2,2,2,3],[3,2,3,3],[6,2,6,4],[11,0,11,4],[10,0,10,3],[7,0,8,0],[7,2,8,2],[7,3,8,3],[7,4,8,4],[7,1,8,1],[9,0,9,3],[9,4,10,4]]}
[null,null,null,null,null,"На главную"]
[]
[null,null,"Ваша скидка:",null,{"$f":"Содержание!D2","v":0}]
[null,null,"НДС:",null,{"$f":"IF(Лист2!A1=TRUE,\"С НДС\",\"БЕЗ НДС\")","v":"С НДС"}]
[]
[]
[null,null,"Опции для витрин Italfrigo"]
["№","Артикул","Название","Базовая \nцена, руб.\n(с НДС)",{"$f":"[5]Лист2!$A$5","v":"Ваша цена, руб."}]
[null,null,null,null,null,"Комментарий"]
["Опции VENETO",null,null,null,"Назад к списку"]
["1. Veneto Quadro"]
["Обязательные опции для Veneto Quadro"]
[1,"713.39.00.00","Комплект декоративной фронтальной панели широкой, без отбойника L=1250",3414,{"$f":"ROUND(D13*(1-$E$3)/Лист2!$A$6,0)","v":3414}]
[2,"713.39.00.00-01","Комплект декоративной фронтальной панели широкой, без отбойника L=1875",4873,{"$f":"ROUND(D14*(1-$E$3)/Лист2!$A$6,0)","v":4873}]
[3,"713.39.00.00-02","Комплект декоративной фронтальной панели широкой, без отбойника L=2500",5809,{"$f":"ROUND(D15*(1-$E$3)/Лист2!$A$6,0)","v":5809}]
[4,"713.39.00.00-03","Комплект декоративной фронтальной панели широкой, без отбойника L=3750",6003,{"$f":"ROUND(D16*(1-$E$3)/Лист2!$A$6,0)","v":6003}]
[5,"735.39.00.00","Комплект декоративной фронтальной панели широкой, без отбойника для ОС 90",3570,{"$f":"ROUND(D17*(1-$E$3)/Лист2!$A$6,0)","v":3570}]
[6,"736.39.00.00","Комплект декоративной фронтальной панели широкой, без отбойника для IC 45",2586,{"$f":"ROUND(D18*(1-$E$3)/Лист2!$A$6,0)","v":2586}]
[7,"713.35.00.00 ","Комплект декоративной фронтальной панели узкой, без отбойника L=1250",3176,{"$f":"ROUND(D19*(1-$E$3)/Лист2!$A$6,0)","v":3176}]
[8,"713.35.00.00-01","Комплект декоративной фронтальной панели узкой, без отбойника L=1875",4532,{"$f":"ROUND(D20*(1-$E$3)/Лист2!$A$6,0)","v":4532}]
[9,"713.35.00.00-02 ","Комплект декоративной фронтальной панели узкой, без отбойника L=2500",5402,{"$f":"ROUND(D21*(1-$E$3)/Лист2!$A$6,0)","v":5402}]
[10,"713.35.00.00-03 ","Комплект декоративной фронтальной панели узкой, без отбойника L=3750",5583,{"$f":"ROUND(D22*(1-$E$3)/Лист2!$A$6,0)","v":5583}]
[13,"713.36.00.00","Комплект декор фронт панели узкой c отбойником нерж L=1250 для Veneto Quadro",5690,{"$f":"ROUND(D23*(1-$E$3)/Лист2!$A$6,0)","v":5690}]
[14,"713.36.00.00-01","Комплект декор фронт панели узкой c отбойником нерж L=1875 для Veneto Quadro",8121,{"$f":"ROUND(D24*(1-$E$3)/Лист2!$A$6,0)","v":8121}]
[15,"713.36.00.00-02","Комплект декор фронт панели узкой c отбойником нерж L=2500 для Veneto Quadro",9682,{"$f":"ROUND(D25*(1-$E$3)/Лист2!$A$6,0)","v":9682}]
[16,"713.36.00.00-03","Комплект декор фронт панели узкой c отбойником нерж L=3750 для Veneto Quadro",10005,{"$f":"ROUND(D26*(1-$E$3)/Лист2!$A$6,0)","v":10005}]
[19,"713.47.00.00","Комплект декоративной фронтальной панели широкой, c отбойником нержав. L=1250",6914,{"$f":"ROUND(D27*(1-$E$3)/Лист2!$A$6,0)","v":6914}]
[20,"713.47.00.00-01","Комплект декоративной фронтальной панели широкой, c отбойником нержав. L=1875",9909,{"$f":"ROUND(D28*(1-$E$3)/Лист2!$A$6,0)","v":9909}]
[21,"713.47.00.00-02","Комплект декоративной фронтальной панели широкой, c отбойником нержав. L=2500",11811,{"$f":"ROUND(D29*(1-$E$3)/Лист2!$A$6,0)","v":11811}]
[22,"713.47.00.00-03","Комплект декоративной фронтальной панели широкой, c отбойником нержав. L=3750",12206,{"$f":"ROUND(D30*(1-$E$3)/Лист2!$A$6,0)","v":12206}]
[25,"537.38.00.00","Комплект нижних цветных фронтальных панелей L=1250",6914,{"$f":"ROUND(D31*(1-$E$3)/Лист2!$A$6,0)","v":6914}]
[26,"537.38.00.00-01","Комплект нижних цветных фронтальных панелей  L=1880",7728,{"$f":"ROUND(D32*(1-$E$3)/Лист2!$A$6,0)","v":7728}]
[27,"537.38.00.00-02","Комплект нижних цветных фронтальных панелей  L=2500",11409,{"$f":"ROUND(D33*(1-$E$3)/Лист2!$A$6,0)","v":11409}]
[28,"537.38.00.00-03","Комплект нижних цветных фронтальных панелей  L=3750",12126,{"$f":"ROUND(D34*(1-$E$3)/Лист2!$A$6,0)","v":12126}]
[29,"735.38.00.00","Комплект нижних цветных фронтальных панелей ОС 90",4811,{"$f":"ROUND(D35*(1-$E$3)/Лист2!$A$6,0)","v":4811}]
[30,"736.38.00.00","Комплект нижних цветных фронтальных панелей IC 45",3697,{"$f":"ROUND(D36*(1-$E$3)/Лист2!$A$6,0)","v":3697}]
["Подсветка светодиодная (2 ряда светильников с раздельным включением)"]
[1,"713.70.00.00","Комплект светодиодных светильников 1250 (нейтральный, 2х18 Вт/м) ",4869,{"$f":"ROUND(D38*(1-$E$3)/Лист2!$A$6,0)","v":4869}]
[2,"713.70.00.00-01","Комплект светодиодных светильников 1875 (нейтральный, 2х18 Вт/м)",5724,{"$f":"ROUND(D39*(1-$E$3)/Лист2!$A$6,0)","v":5724}]
[3,"713.70.00.00-02","Комплект светодиодных светильников 2500 (нейтральный, 2х18 Вт/м) ",5965,{"$f":"ROUND(D40*(1-$E$3)/Лист2!$A$6,0)","v":5965}]
[4,"713.70.00.00-03","Комплект светодиодных светильников 3750 (нейтральный, 2х18 Вт/м) ",7730,{"$f":"ROUND(D41*(1-$E$3)/Лист2!$A$6,0)","v":7730}]
[5,"735.70.00.00","Комплект светодиодных светильников для ОС 90 (нейтральный, 2х18 Вт/м) ",5964,{"$f":"ROUND(D42*(1-$E$3)/Лист2!$A$6,0)","v":5964}]
[6,"736.70.00.00","Комплект светодиодных светильников для IC 45 (нейтральный, 2х18 Вт/м)",5964,{"$f":"ROUND(D43*(1-$E$3)/Лист2!$A$6,0)","v":5964}]
[7,"713.71.00.00","Комплект светодиодных светильников 1250 (теплый, 2х18 Вт/м) ",5113,{"$f":"ROUND(D44*(1-$E$3)/Лист2!$A$6,0)","v":5113}]
[8,"713.71.00.00-01","Комплект светодиодных светильников 1875 (теплый, 2х18 Вт/м) ",6010,{"$f":"ROUND(D45*(1-$E$3)/Лист2!$A$6,0)","v":6010}]
[9,"713.71.00.00-02","Комплект светодиодных светильников 2500 (теплый, 2х18 Вт/м) ",6263,{"$f":"ROUND(D46*(1-$E$3)/Лист2!$A$6,0)","v":6263}]
[10,"713.71.00.00-03","Комплект светодиодных светильников 3750 (теплый, 2х18 Вт/м) ",8116,{"$f":"ROUND(D47*(1-$E$3)/Лист2!$A$6,0)","v":8116}]
[13,"713.72.00.00","Комплект светодиодных светильников 1250 (розовый, 2х18 Вт/м) ",5210,{"$f":"ROUND(D48*(1-$E$3)/Лист2!$A$6,0)","v":5210}]
[14,"713.72.00.00-01","Комплект светодиодных светильников 1875 (розовый, 2х18 Вт/м) ",6125,{"$f":"ROUND(D49*(1-$E$3)/Лист2!$A$6,0)","v":6125}]
[15,"713.72.00.00-02","Комплект светодиодных светильников 2500 (розовый, 2х18 Вт/м) ",6382,{"$f":"ROUND(D50*(1-$E$3)/Лист2!$A$6,0)","v":6382}]
[16,"713.72.00.00-03","Комплект светодиодных светильников 3750 (розовый 2х18 Вт/м) ",8270,{"$f":"ROUND(D51*(1-$E$3)/Лист2!$A$6,0)","v":8270}]
[17,"735.72.00.00","Комплект светодиодных светильников для ОС 90 (розовый, 2х18 Вт/м) ",6382,{"$f":"ROUND(D52*(1-$E$3)/Лист2!$A$6,0)","v":6382}]
[18,"736.72.00.00","Комплект светодиодных светильников для IC 45 (розовый, 2х18 Вт/м) ",6382,{"$f":"ROUND(D53*(1-$E$3)/Лист2!$A$6,0)","v":6382}]
["Дополнительные опции для Veneto Quadro"]
[1,"713.52.00.00","Комплект боковины левой для Veneto Quadro, пластик черный, матовый для шир.фронт.панель",8360,{"$f":"ROUND(D55*(1-$E$3)/Лист2!$A$6,0)","v":8360}]
[2,"713.52.00.00mir","Комплект боковины правой для Veneto Quadro, пластик черный, матовый для шир.фронт.панель",8360,{"$f":"ROUND(D56*(1-$E$3)/Лист2!$A$6,0)","v":8360}]
[3,"765.52.00.00","Комплект боковины левой для Veneto Quadro Self, пластик черный, матовый, для шир.фронт.панель",7961,{"$f":"ROUND(D57*(1-$E$3)/Лист2!$A$6,0)","v":7961}]
[4,"765.52.00.00mir","Комплект боковины правой для Veneto Quadro Self, пластик черный, матовый для шир.фронт.панель",7961,{"$f":"ROUND(D58*(1-$E$3)/Лист2!$A$6,0)","v":7961}]
[5,"713.49.00.00","Комплект боковины металлической левой для широкой фронт. панели Veneto Quadro",12147,{"$f":"ROUND(D59*(1-$E$3)/Лист2!$A$6,0)","v":12147}]
[6,"713.49.00.00mir","Комплект боковины металлической правой для широкой фронт. панели Veneto Quadro",12147,{"$f":"ROUND(D60*(1-$E$3)/Лист2!$A$6,0)","v":12147}]
[7,"713.48.00.00","Комплект боковины металлической левой для узк. фронт. панели для Veneto Quadro",11176,{"$f":"ROUND(D61*(1-$E$3)/Лист2!$A$6,0)","v":11176}]
[8,"713.48.00.00mir","Комплект боковины металлической правой для узк. фронт. панели для Veneto Quadro",11176,{"$f":"ROUND(D62*(1-$E$3)/Лист2!$A$6,0)","v":11176}]
[9,"765.49.00.00 ","Комплект боковины металлической левой для широкой фронт.панели Veneto Quadro Self ",11748,{"$f":"ROUND(D63*(1-$E$3)/Лист2!$A$6,0)","v":11748}]
[10,"765.49.00.00mir ","Комплект боковины металлической правой для широкой фронт. панели Veneto Quadro Self",11748,{"$f":"ROUND(D64*(1-$E$3)/Лист2!$A$6,0)","v":11748}]
[11,"765.48.00.00","Комплект боковины металлической для узк. фронт. панели для Veneto Quadro Self",10809,{"$f":"ROUND(D65*(1-$E$3)/Лист2!$A$6,0)","v":10809}]
[12,"765.48.00.00mir","Комплект боковины металлической для узк. фронт. панели для Veneto Quadro Self",10809,{"$f":"ROUND(D66*(1-$E$3)/Лист2!$A$6,0)","v":10809}]
[13,"537.37.00.00 ","Комплект нижних боковых панелей (левая, правая)",2286,{"$f":"ROUND(D67*(1-$E$3)/Лист2!$A$6,0)","v":2286}]
[14,"713.68.00.00","Комплект торцевой заглушки для стыковки стандартной витрины с витриной SELF ",1286,{"$f":"ROUND(D68*(1-$E$3)/Лист2!$A$6,0)","v":1286}]
[15,"713.56.00.00","Комплект соединительный в линию для Veneto Quadro",1323,{"$f":"ROUND(D69*(1-$E$3)/Лист2!$A$6,0)","v":1323}]
[16,"765.56.00.00","Комплект соединительный в линию для Veneto Quadro Self",848,{"$f":"ROUND(D70*(1-$E$3)/Лист2!$A$6,0)","v":848}]
[17,"713.44.00.00","Разделитель герметичный и комплект соед. для широкой фронт.панели, оргстекло (8 мм)",11032,{"$f":"ROUND(D71*(1-$E$3)/Лист2!$A$6,0)","v":11032}]
[18,"713.44.00.00-01","Разделитель герметичный и комплект соед. для узкой фронт.панели, оргстекло (8 мм)",10921,{"$f":"ROUND(D72*(1-$E$3)/Лист2!$A$6,0)","v":10921}]
[19,"713.45.00.00","Теплоизоляционный герметичный разделитель (двухкамерный стеклопакет)  и компл.соед. для широкой фронтальной панели",16863,{"$f":"ROUND(D73*(1-$E$3)/Лист2!$A$6,0)","v":16863}]
[21,"713.41.00.00","Делитель внутреннего объема  передвижной низкий (оргстекло) для Self",2037,{"$f":"ROUND(D74*(1-$E$3)/Лист2!$A$6,0)","v":2037}]
[22,"713.42.00.00","Делитель внутреннего объема передвижной высокий (оргстекло)",6797,{"$f":"ROUND(D75*(1-$E$3)/Лист2!$A$6,0)","v":6797}]
[24,"537.54.00.00","Комплект для электрооттайки  L=1250",1626,{"$f":"ROUND(D76*(1-$E$3)/Лист2!$A$6,0)","v":1626}]
[25,"537.54.00.00-01","Комплект для электрооттайки  L=1875",2576,{"$f":"ROUND(D77*(1-$E$3)/Лист2!$A$6,0)","v":2576}]
[26,"537.54.00.00-02","Комплект для электрооттайки  L=2500",3471,{"$f":"ROUND(D78*(1-$E$3)/Лист2!$A$6,0)","v":3471}]
[27,"537.54.00.00-03","Комплект для электрооттайки  L=3750",9310,{"$f":"ROUND(D79*(1-$E$3)/Лист2!$A$6,0)","v":9310}]
[28,"1106.120.00.00S","Монтажный набор (до 4 кВт) 1106.120.00.00S L=1250/1875/2500",9756,{"$f":"ROUND(D80*(1-$E$3)/Лист2!$A$6,0)","v":9756}]
[30,"713.60.00.00","Доска навесная для весов 500х400 мм. (нержавейка)",6443,{"$f":"ROUND(D81*(1-$E$3)/Лист2!$A$6,0)","v":6443}]
[31,"713.62.00.00","Доска навесная для нарезки 600х400 мм (полипропилен)",8457,{"$f":"ROUND(D82*(1-$E$3)/Лист2!$A$6,0)","v":8457}]
[32,"713.63.00.00","Комплект корзины навесной для упаковочного материала",8457,{"$f":"ROUND(D83*(1-$E$3)/Лист2!$A$6,0)","v":8457}]
[33,"713.61.00.00","Комплект корзины навесной для ножей",8788,{"$f":"ROUND(D84*(1-$E$3)/Лист2!$A$6,0)","v":8788}]
[35,"537.66.00.00","Подиум трехступенчатый (нержавейка)  L=1250",6061,{"$f":"ROUND(D85*(1-$E$3)/Лист2!$A$6,0)","v":6061}]
[36,"537.66.00.00-01","Подиум трехступенчатый (нержавейка)  L=1880",11600,{"$f":"ROUND(D86*(1-$E$3)/Лист2!$A$6,0)","v":11600}]
[37,"537.66.00.00-02","Подиум трехступенчатый (нержавейка)  L=2500",12121,{"$f":"ROUND(D87*(1-$E$3)/Лист2!$A$6,0)","v":12121}]
[38,"537.66.00.00-03","Подиум трехступенчатый (нержавейка)  L=3750",18182,{"$f":"ROUND(D88*(1-$E$3)/Лист2!$A$6,0)","v":18182}]
[39,"735.66.00.00","Подиум трехступенчатый (нержавейка) ОС 90",8923,{"$f":"ROUND(D89*(1-$E$3)/Лист2!$A$6,0)","v":8923}]
[40,"538.66.00.00","Подиум трехступенчатый (нержавейка) IC 45",6307,{"$f":"ROUND(D90*(1-$E$3)/Лист2!$A$6,0)","v":6307}]
[42,"713.40.00.00","Комплект шторок раздвижных для Veneto Quadro 1250",3776,{"$f":"ROUND(D91*(1-$E$3)/Лист2!$A$6,0)","v":3776}]
[43,"713.40.00.00-01","Комплект шторок раздвижных для Veneto Quadro 1875",5534,{"$f":"ROUND(D92*(1-$E$3)/Лист2!$A$6,0)","v":5534}]
[44,"713.40.00.00-02","Комплект шторок раздвижных для Veneto Quadro 2500",7552,{"$f":"ROUND(D93*(1-$E$3)/Лист2!$A$6,0)","v":7552}]
[45,"713.40.00.00-03","Комплект шторок раздвижных для Veneto Quadro 3750",11067,{"$f":"ROUND(D94*(1-$E$3)/Лист2!$A$6,0)","v":11067}]
[46,"735.40.00.00","Комплект шторок раздвижных для Veneto Quadro ОС 90",5645,{"$f":"ROUND(D95*(1-$E$3)/Лист2!$A$6,0)","v":5645}]
[47,"736.40.00.00","Комплект шторок раздвижных для Veneto Quadro IC 45",6774,{"$f":"ROUND(D96*(1-$E$3)/Лист2!$A$6,0)","v":6774}]
["2. Veneto Quadro BM"]
["Обязательные опции для Veneto Quadro BM"]
[null,"713.39.00.00","Комплект декоративной фронтальной панели (без отбойника) L=1250",3414,{"$f":"ROUND(D99*(1-$E$3)/Лист2!$A$6,0)","v":3414}]
[null,"713.36.00.00","Комплект декор фронт панели узкой c отбойником нерж L=1250 для Veneto Quadro",5690,{"$f":"ROUND(D100*(1-$E$3)/Лист2!$A$6,0)","v":5690}]
[null,"713.47.00.00","Комплект декоративной фронтальной панели c отбойником нержав. L=1250",6914,{"$f":"ROUND(D101*(1-$E$3)/Лист2!$A$6,0)","v":6914}]
[null,"537.38.00.00","Комплект нижних цветных фронтальных панелей L=1250, без боковин",6914,{"$f":"ROUND(D102*(1-$E$3)/Лист2!$A$6,0)","v":6914}]
[null,"713.70.00.00","Комплект светодиодных светильников 1250 (нейтральный, 2х18 Вт/м) ",4869,{"$f":"ROUND(D103*(1-$E$3)/Лист2!$A$6,0)","v":4869}]
[null,"713.71.00.00","Комплект светодиодных светильников 1250 (теплый, 2х18 Вт/м) ",5113,{"$f":"ROUND(D104*(1-$E$3)/Лист2!$A$6,0)","v":5113}]
[null,"713.72.00.00","Комплект светодиодных светильников 1250 (розовый, 2х18 Вт/м) ",5210,{"$f":"ROUND(D105*(1-$E$3)/Лист2!$A$6,0)","v":5210}]
["Дополнительные опции для Veneto Quadro BM"]
[null,"713.52.00.00","Комплект боковины левой для Veneto Quadro",8360,{"$f":"ROUND(D107*(1-$E$3)/Лист2!$A$6,0)","v":8360}]
[null,"713.52.00.00mir","Комплект боковины правой для Veneto Quadro",8360,{"$f":"ROUND(D108*(1-$E$3)/Лист2!$A$6,0)","v":8360}]
[null,"713.49.00.00","Комплект боковины металлической левой для Veneto Quadro",12147,{"$f":"ROUND(D109*(1-$E$3)/Лист2!$A$6,0)","v":12147}]
[null,"713.49.00.00mir","Комплект боковины металлической правой для Veneto Quadro",12147,{"$f":"ROUND(D110*(1-$E$3)/Лист2!$A$6,0)","v":12147}]
[null,"713.48.00.00","Комплект боковины металлической левой для узк. фронт. панели для Veneto Quadro",11176,{"$f":"ROUND(D111*(1-$E$3)/Лист2!$A$6,0)","v":11176}]
[null,"713.48.00.00mir","Комплект боковины металлической правой для узк. фронт. панели для Veneto Quadro",11176,{"$f":"ROUND(D112*(1-$E$3)/Лист2!$A$6,0)","v":11176}]
[null,"537.37.00.00 ","Комплект нижних боковых панелей (левая, правая)",2286,{"$f":"ROUND(D113*(1-$E$3)/Лист2!$A$6,0)","v":2286}]
[null,"713.56.00.00","Комплект соединительный в линию",1323,{"$f":"ROUND(D114*(1-$E$3)/Лист2!$A$6,0)","v":1323}]
[null,"713.45.00.00","Комплект теплоизоляционного герметичного разделителя (двухкамерный стеклопакет) для широкой фронтальной панели",16863,{"$f":"ROUND(D115*(1-$E$3)/Лист2!$A$6,0)","v":16863}]
[null,"713.60.00.00","Доска навесная для весов 500х400 мм. (нержавейка)",6443,{"$f":"ROUND(D116*(1-$E$3)/Лист2!$A$6,0)","v":6443}]
[null,"713.62.00.00","Доска навесная для нарезки 600х400 мм (полипропилен)",8457,{"$f":"ROUND(D117*(1-$E$3)/Лист2!$A$6,0)","v":8457}]
[null,"713.63.00.00","Комплект корзины навесной для упаковочного материала",6145,{"$f":"ROUND(D118*(1-$E$3)/Лист2!$A$6,0)","v":6145}]
[null,"713.61.00.00","Комплект корзины навесной для ножей",8788,{"$f":"ROUND(D119*(1-$E$3)/Лист2!$A$6,0)","v":8788}]
["Опции TOSCANA",null,null,null,"Назад к списку"]
["2. Toscana Q"]
["Обязательные опции для Toscana Q"]
[null,"815.39.00.00","Комплект декоративной фронтальной панели широкой исп.1250",3688,{"$f":"ROUND(D123*(1-$E$3)/Лист2!$A$6,0)","v":3688}]
[null,"815.39.00.00-01","Комплект декоративной фронтальной панели широкой исп.1875",5263,{"$f":"ROUND(D124*(1-$E$3)/Лист2!$A$6,0)","v":5263}]
[null,"815.39.00.00-02","Комплект декоративной фронтальной панели широкой исп. 2500",6274,{"$f":"ROUND(D125*(1-$E$3)/Лист2!$A$6,0)","v":6274}]
[null,"815.39.00.00-03","Комплект декоративной фронтальной панели широкой исп. 3750",6483,{"$f":"ROUND(D126*(1-$E$3)/Лист2!$A$6,0)","v":6483}]
[null,"888.39.00.00","Комплект декоративной фронтальной панели широкой исп. ОС 90",6288,{"$f":"ROUND(D127*(1-$E$3)/Лист2!$A$6,0)","v":6288}]
[null,"889.39.00.00","Комплект декоративной фронтальной панели широкой исп. IC 90",3872,{"$f":"ROUND(D128*(1-$E$3)/Лист2!$A$6,0)","v":3872}]
[null,"815.47.00.00","Комплект декор фронт панели широкой c отбойником нерж исп. 1250",6222,{"$f":"ROUND(D129*(1-$E$3)/Лист2!$A$6,0)","v":6222}]
[null,"815.47.00.00-01","Комплект декор фронт панели широкой c отбойником нерж исп. 1875",8918,{"$f":"ROUND(D130*(1-$E$3)/Лист2!$A$6,0)","v":8918}]
[null,"815.47.00.00-02","Комплект декор фронт панели широкой c отбойником нерж исп. 2500",10630,{"$f":"ROUND(D131*(1-$E$3)/Лист2!$A$6,0)","v":10630}]
[null,"815.47.00.00-03","Комплект декор фронт панели широкой c отбойником нерж исп. 3750",10985,{"$f":"ROUND(D132*(1-$E$3)/Лист2!$A$6,0)","v":10985}]
[null,"888.47.00.00","Комплект декор фронт панели широкой c отбойником нерж исп. ОС90",9433,{"$f":"ROUND(D133*(1-$E$3)/Лист2!$A$6,0)","v":9433}]
[null,"889.47.00.00","Комплект декор фронт панели широкой c отбойником нерж исп. IC90",5808,{"$f":"ROUND(D134*(1-$E$3)/Лист2!$A$6,0)","v":5808}]
[null,"815.35.00.00","Комплект декоративной фронтальной панели узкой исп.1250",3414,{"$f":"ROUND(D135*(1-$E$3)/Лист2!$A$6,0)","v":3414}]
[null,"815.35.00.00-01","Комплект декоративной фронтальной панели узкой исп.1875",4873,{"$f":"ROUND(D136*(1-$E$3)/Лист2!$A$6,0)","v":4873}]
[null,"815.35.00.00-02","Комплект декоративной фронтальной панели узкой исп. 2500",5809,{"$f":"ROUND(D137*(1-$E$3)/Лист2!$A$6,0)","v":5809}]
[null,"815.35.00.00-03","Комплект декоративной фронтальной панели узкой исп. 3750",6003,{"$f":"ROUND(D138*(1-$E$3)/Лист2!$A$6,0)","v":6003}]
[null,"888.35.00.00","Комплект декоративной фронтальной панели узкой исп. ОС 90",5823,{"$f":"ROUND(D139*(1-$E$3)/Лист2!$A$6,0)","v":5823}]
[null,"889.35.00.00","Комплект декоративной фронтальной панели узкой исп. IC 90",3585,{"$f":"ROUND(D140*(1-$E$3)/Лист2!$A$6,0)","v":3585}]
[null,"815.36.00.00","Комплект декор фронт панели узкой c отбойником нерж исп. 1250",5122,{"$f":"ROUND(D141*(1-$E$3)/Лист2!$A$6,0)","v":5122}]
[null,"815.36.00.00-01","Комплект декор фронт панели узкой c отбойником нерж исп. 1875",7310,{"$f":"ROUND(D142*(1-$E$3)/Лист2!$A$6,0)","v":7310}]
[null,"815.36.00.00-02","Комплект декор фронт панели узкой c отбойником нерж исп. 2500",8713,{"$f":"ROUND(D143*(1-$E$3)/Лист2!$A$6,0)","v":8713}]
[null,"815.36.00.00-03","Комплект декор фронт панели узкой c отбойником нерж исп. 3750",9004,{"$f":"ROUND(D144*(1-$E$3)/Лист2!$A$6,0)","v":9004}]
[null,"888.36.00.00","Комплект декор фронт панели узкой c отбойником нерж исп. ОС90",8734,{"$f":"ROUND(D145*(1-$E$3)/Лист2!$A$6,0)","v":8734}]
[null,"889.36.00.00","Комплект декор фронт панели узкой c отбойником нерж исп. IC90",5378,{"$f":"ROUND(D146*(1-$E$3)/Лист2!$A$6,0)","v":5378}]
[null,"815.34.00.00","Комплект декоративной фронтальной панели широкой исп.1250 (текстура дерева, ЛДСП)",6638,{"$f":"ROUND(D147*(1-$E$3)/Лист2!$A$6,0)","v":6638}]
[null,"815.34.00.00-01","Комплект декоративной фронтальной панели широкой исп.1875 (текстура дерева, ЛДСП)",9473,{"$f":"ROUND(D148*(1-$E$3)/Лист2!$A$6,0)","v":9473}]
[null,"815.34.00.00-02","Комплект декоративной фронтальной панели широкой исп. 2500 (текстура дерева, ЛДСП)",11292,{"$f":"ROUND(D149*(1-$E$3)/Лист2!$A$6,0)","v":11292}]
[null,"815.34.00.00-03","Комплект декоративной фронтальной панели широкой исп. 3750 (текстура дерева, ЛДСП)",11669,{"$f":"ROUND(D150*(1-$E$3)/Лист2!$A$6,0)","v":11669}]
[null,"888.34.00.00","Комплект декоративной фронтальной панели широкой исп. OC90 (текстура дерева, ЛДСП)",11319,{"$f":"ROUND(D151*(1-$E$3)/Лист2!$A$6,0)","v":11319}]
[null,"889.34.00.00","Комплект декоративной фронтальной панели широкой исп. IC90 (текстура дерева, ЛДСП)",6970,{"$f":"ROUND(D152*(1-$E$3)/Лист2!$A$6,0)","v":6970}]
[null,"815.33.00.00","Комплект декоративной фронтальной панели узкой исп.1250 (текстура дерева, ЛДСП)",6146,{"$f":"ROUND(D153*(1-$E$3)/Лист2!$A$6,0)","v":6146}]
[null,"815.33.00.00-01","Комплект декоративной фронтальной панели узкой исп.1875 (текстура дерева, ЛДСП)",8771,{"$f":"ROUND(D154*(1-$E$3)/Лист2!$A$6,0)","v":8771}]
[null,"815.33.00.00-02","Комплект декоративной фронтальной панели узкой исп. 2500 (текстура дерева, ЛДСП)",10456,{"$f":"ROUND(D155*(1-$E$3)/Лист2!$A$6,0)","v":10456}]
[null,"815.33.00.00-03","Комплект декоративной фронтальной панели узкой исп. 3750 (текстура дерева, ЛДСП)",10805,{"$f":"ROUND(D156*(1-$E$3)/Лист2!$A$6,0)","v":10805}]
[null,"888.33.00.00","Комплект декоративной фронтальной панели узкой исп. OC90 (текстура дерева, ЛДСП)",10481,{"$f":"ROUND(D157*(1-$E$3)/Лист2!$A$6,0)","v":10481}]
[null,"889.33.00.00","Комплект декоративной фронтальной панели узкой исп. IC90 (текстура дерева, ЛДСП)",6453,{"$f":"ROUND(D158*(1-$E$3)/Лист2!$A$6,0)","v":6453}]
[null,"815.38.00.01","Нижняя фронтальная панель исп. 1250",3113,{"$f":"ROUND(D159*(1-$E$3)/Лист2!$A$6,0)","v":3113}]
[null,"815.38.00.01-01","Нижняя фронтальная панель исп. 1875",3891,{"$f":"ROUND(D160*(1-$E$3)/Лист2!$A$6,0)","v":3891}]
[null,"815.38.00.01-02","Нижняя фронтальная панель исп. 2500",5743,{"$f":"ROUND(D161*(1-$E$3)/Лист2!$A$6,0)","v":5743}]
[null,"815.38.00.01-03","Нижняя фронтальная панель исп. 3750",7396,{"$f":"ROUND(D162*(1-$E$3)/Лист2!$A$6,0)","v":7396}]
[null,"888.38.00.01 ","Нижняя фронтальная панель исп. OC90",7174,{"$f":"ROUND(D163*(1-$E$3)/Лист2!$A$6,0)","v":7174}]
[null,"889.38.00.01 ","Нижняя фронтальная панель исп. IC90",3268,{"$f":"ROUND(D164*(1-$E$3)/Лист2!$A$6,0)","v":3268}]
["Подсветка светодиодная (2 ряда светильников с раздельным включением)"]
[null,"815.80.00.00","Комплект светодиодных светильников 1250 (нейтральный, 2х18 Вт/м) ",4139,{"$f":"ROUND(D166*(1-$E$3)/Лист2!$A$6,0)","v":4139}]
[null,"815.80.00.00-01","Комплект светодиодных светильников 1875 (нейтральный, 2х18 Вт/м) ",4865,{"$f":"ROUND(D167*(1-$E$3)/Лист2!$A$6,0)","v":4865}]
[null,"815.80.00.00-02","Комплект светодиодных светильников 2500 (нейтральный, 2х18 Вт/м) ",5071,{"$f":"ROUND(D168*(1-$E$3)/Лист2!$A$6,0)","v":5071}]
[null,"815.80.00.00-03","Комплект светодиодных светильников 3750 (нейтральный, 2х18 Вт/м) ",6570,{"$f":"ROUND(D169*(1-$E$3)/Лист2!$A$6,0)","v":6570}]
[null,"888.82.00.00","Комплект светодиодных светильников OC90 (нейтральный, 2х18 Вт/м) ",6085,{"$f":"ROUND(D170*(1-$E$3)/Лист2!$A$6,0)","v":6085}]
[null,"889.82.00.00","Комплект светодиодных светильников IC90 (нейтральный, 2х18 Вт/м) ",3725,{"$f":"ROUND(D171*(1-$E$3)/Лист2!$A$6,0)","v":3725}]
[null,"815.81.00.00","Комплект светодиодных светильников 1250 (теплый, 2х18 Вт/м) ",4346,{"$f":"ROUND(D172*(1-$E$3)/Лист2!$A$6,0)","v":4346}]
[null,"815.81.00.00-01","Комплект светодиодных светильников 1875 (теплый, 2х18 Вт/м) ",5109,{"$f":"ROUND(D173*(1-$E$3)/Лист2!$A$6,0)","v":5109}]
[null,"815.81.00.00-02","Комплект светодиодных светильников 2500 (теплый, 2х18 Вт/м) ",5324,{"$f":"ROUND(D174*(1-$E$3)/Лист2!$A$6,0)","v":5324}]
[null,"815.81.00.00-03","Комплект светодиодных светильников 3750 (теплый, 2х18 Вт/м) ",6898,{"$f":"ROUND(D175*(1-$E$3)/Лист2!$A$6,0)","v":6898}]
[null,"888.82.00.00","Комплект светодиодных светильников OC90 (теплый, 2х18 Вт/м) ",6389,{"$f":"ROUND(D176*(1-$E$3)/Лист2!$A$6,0)","v":6389}]
[null,"889.81.00.00","Комплект светодиодных светильников IC90 (теплый, 2х18 Вт/м) ",3911,{"$f":"ROUND(D177*(1-$E$3)/Лист2!$A$6,0)","v":3911}]
[null,"815.82.00.00","Комплект светодиодных светильников 1250 (розовый, 2х18 Вт/м) ",4222,{"$f":"ROUND(D178*(1-$E$3)/Лист2!$A$6,0)","v":4222}]
[null,"815.82.00.00-01","Комплект светодиодных светильников 1875 (розовый, 2х18 Вт/м) ",4963,{"$f":"ROUND(D179*(1-$E$3)/Лист2!$A$6,0)","v":4963}]
[null,"815.82.00.00-02","Комплект светодиодных светильников 2500 (розовый, 2х18 Вт/м) ",5172,{"$f":"ROUND(D180*(1-$E$3)/Лист2!$A$6,0)","v":5172}]
[null,"815.82.00.00-03","Комплект светодиодных светильников 3750 (розовый, 2х18 Вт/м) ",6701,{"$f":"ROUND(D181*(1-$E$3)/Лист2!$A$6,0)","v":6701}]
[null,"888.82.00.00","Комплект светодиодных светильников OC90 (розовый, 2х18 Вт/м) ",6206,{"$f":"ROUND(D182*(1-$E$3)/Лист2!$A$6,0)","v":6206}]
[null,"889.81.00.00","Комплект светодиодных светильников IC90 (розовый, 2х18 Вт/м) ",3799,{"$f":"ROUND(D183*(1-$E$3)/Лист2!$A$6,0)","v":3799}]
["Дополнительные опции для Toscana Q"]
[null,"815.50.00.00","Комплект боковины металлич. левой для широкой фронтальной панели Toscana",8360,{"$f":"ROUND(D185*(1-$E$3)/Лист2!$A$6,0)","v":8360}]
[null,"815.50.00.00mir","Комплект боковины металлич.правой для широкой фронтальной панели Toscana",8360,{"$f":"ROUND(D186*(1-$E$3)/Лист2!$A$6,0)","v":8360}]
[null,"815.52.00.00","Комплект боковины ЛДСП левой для широк фронт панели Toscana",11704,{"$f":"ROUND(D187*(1-$E$3)/Лист2!$A$6,0)","v":11704}]
[null,"815.52.00.00mir","Комплект боковины ЛДСП правой для широк фронт панели Toscana",11704,{"$f":"ROUND(D188*(1-$E$3)/Лист2!$A$6,0)","v":11704}]
[null,"815.48.00.00","Комплект боковины металлич. лев для узкой фронт панели Toscana",7942,{"$f":"ROUND(D189*(1-$E$3)/Лист2!$A$6,0)","v":7942}]
[null,"815.48.00.00mir","Комплект боковины металлич. прав для узкой фронт панели Toscana",7942,{"$f":"ROUND(D190*(1-$E$3)/Лист2!$A$6,0)","v":7942}]
[null,"815.53.00.00","Комплект боковины ЛДСП левой для узкой фронт панели Toscana",11119,{"$f":"ROUND(D191*(1-$E$3)/Лист2!$A$6,0)","v":11119}]
[null,"815.53.00.00mir","Комплект боковины ЛДСП правой для узкой фронт панели Toscana",11119,{"$f":"ROUND(D192*(1-$E$3)/Лист2!$A$6,0)","v":11119}]
[null,"816.50.00.00","Комплект боковины металлич. левой для широкой фронтальной панели Toscana SELF",7960,{"$f":"ROUND(D193*(1-$E$3)/Лист2!$A$6,0)","v":7960}]
[null,"816.50.00.00mir","Комплект боковины металлич. правой для широкой фронтальной панели Toscana SELF",7960,{"$f":"ROUND(D194*(1-$E$3)/Лист2!$A$6,0)","v":7960}]
[null,"816.52.00.00","Комп боковины ЛДСП левой для широк фронт панели Toscana SELF",11144,{"$f":"ROUND(D195*(1-$E$3)/Лист2!$A$6,0)","v":11144}]
[null,"816.52.00.00mir","Комп боковины ЛДСП правой для широк фронт панели Toscana SELF",11144,{"$f":"ROUND(D196*(1-$E$3)/Лист2!$A$6,0)","v":11144}]
[null,"816.48.00.00","Комплект боковины металлич. левой для узкой фронтальной панели Toscana SELF",7562,{"$f":"ROUND(D197*(1-$E$3)/Лист2!$A$6,0)","v":7562}]
[null,"816.48.00.00mir","Комплект боковины металлич. правой для узкой фронтальной панели Toscana SELF",7562,{"$f":"ROUND(D198*(1-$E$3)/Лист2!$A$6,0)","v":7562}]
[null,"816.53.00.00","Комп боковины ЛДСП левой для узк фронт панели Toscana Self",10587,{"$f":"ROUND(D199*(1-$E$3)/Лист2!$A$6,0)","v":10587}]
[null,"816.53.00.00mir","Комп боковины ЛДСП правой для узк фронт панели Toscana Self",10587,{"$f":"ROUND(D200*(1-$E$3)/Лист2!$A$6,0)","v":10587}]
[null,"815.37.00.00","Комплект нижних боковых панелей (левая, правая)",2286,{"$f":"ROUND(D201*(1-$E$3)/Лист2!$A$6,0)","v":2286}]
[null,"815.56.00.00","Компллект соединительный для стыковки в линию витрин Toscana",1323,{"$f":"ROUND(D202*(1-$E$3)/Лист2!$A$6,0)","v":1323}]
[null,"816.56.00.00","Компллект соединительный для стыковки в линию витрин Toscana SELF",848,{"$f":"ROUND(D203*(1-$E$3)/Лист2!$A$6,0)","v":848}]
[null,"815.44.00.00","Герметичный разделитель (оргстек.) и комплект соед. для Toscana с узк. фронт. панел.",10373,{"$f":"ROUND(D204*(1-$E$3)/Лист2!$A$6,0)","v":10373}]
[null,"815.43.00.00","Герметичный разделитель (оргстек.) и комплект соед. для Toscana с шир. фронт. панел.",10479,{"$f":"ROUND(D205*(1-$E$3)/Лист2!$A$6,0)","v":10479}]
[null,"815.45.00.00","Теплоизол. герметичный разделитель и комплект соед. для Toscana с узк. фронт. панел.",14405,{"$f":"ROUND(D206*(1-$E$3)/Лист2!$A$6,0)","v":14405}]
[null,"815.46.00.00","Теплоизол. герметичный разделитель и комплект соед. для Toscana с шир. фронт. панел",16005,{"$f":"ROUND(D207*(1-$E$3)/Лист2!$A$6,0)","v":16005}]
[null,"815.41.00.00","Делитель внутреннего объема передвижной низкий (орг.стекло)",2122,{"$f":"ROUND(D208*(1-$E$3)/Лист2!$A$6,0)","v":2122}]
[null,"815.42.00.00","Делитель внутреннего объема передвижной высокий (орг.стекло)",3893,{"$f":"ROUND(D209*(1-$E$3)/Лист2!$A$6,0)","v":3893}]
[null,"537.54.00.00","Комплект для электрооттайки  L=1250",1627,{"$f":"ROUND(D210*(1-$E$3)/Лист2!$A$6,0)","v":1627}]
[null,"537.54.00.00-01","Комплект для электрооттайки  L=1875",2577,{"$f":"ROUND(D211*(1-$E$3)/Лист2!$A$6,0)","v":2577}]
[null,"537.54.00.00-02","Комплект для электрооттайки  L=2500",3470,{"$f":"ROUND(D212*(1-$E$3)/Лист2!$A$6,0)","v":3470}]
[null,"537.54.00.00-03","Комплект для электрооттайки  L=3750",9310,{"$f":"ROUND(D213*(1-$E$3)/Лист2!$A$6,0)","v":9310}]
[null,"1106.120.00.00S","Монтажный набор (до 4 кВт) 1106.120.00.00S L=1250/1875/2500",9756,{"$f":"ROUND(D214*(1-$E$3)/Лист2!$A$6,0)","v":9756}]
[null,"815.60.00.00","Доска навесная для весов 500х400 мм.",6442,{"$f":"ROUND(D215*(1-$E$3)/Лист2!$A$6,0)","v":6442}]
[null,"713.61.00.00","Комплект корзины навесной для ножей",8456,{"$f":"ROUND(D216*(1-$E$3)/Лист2!$A$6,0)","v":8456}]
[null,"815.62.00.00","Доска навесная для нарезки 600х400 мм.",6145,{"$f":"ROUND(D217*(1-$E$3)/Лист2!$A$6,0)","v":6145}]
[null,"713.63.00.00","Комплект корзины навесной для упаковочного материала",8789,{"$f":"ROUND(D218*(1-$E$3)/Лист2!$A$6,0)","v":8789}]
[null,"537.66.00.00","Подиум трехступенчатый (нержавейка)  L=1250",6060,{"$f":"ROUND(D219*(1-$E$3)/Лист2!$A$6,0)","v":6060}]
[null,"537.66.00.00-01","Подиум трехступенчатый (нержавейка)  L=1880",11599,{"$f":"ROUND(D220*(1-$E$3)/Лист2!$A$6,0)","v":11599}]
[null,"537.66.00.00-02","Подиум трехступенчатый (нержавейка)  L=2500",12121,{"$f":"ROUND(D221*(1-$E$3)/Лист2!$A$6,0)","v":12121}]
[null,"537.66.00.00-03","Подиум трехступенчатый (нержавейка)  L=3750",18181,{"$f":"ROUND(D222*(1-$E$3)/Лист2!$A$6,0)","v":18181}]
[null,"713.40.00.00","Комплект шторок раздвижных исп. 1250",3776,{"$f":"ROUND(D223*(1-$E$3)/Лист2!$A$6,0)","v":3776}]
[null,"713.40.00.00-01","Комплект шторок раздвижных исп. 1875",5533,{"$f":"ROUND(D224*(1-$E$3)/Лист2!$A$6,0)","v":5533}]
[null,"713.40.00.00-02","Комплект шторок раздвижных исп. 2500",7551,{"$f":"ROUND(D225*(1-$E$3)/Лист2!$A$6,0)","v":7551}]
[null,"713.40.00.00-03","Комплект шторок раздвижных исп. 3750",11067,{"$f":"ROUND(D226*(1-$E$3)/Лист2!$A$6,0)","v":11067}]
[null,"888.40.00.01 ","Комплект шторок раздвижных исп. Toscana Q OC90",4854,{"$f":"ROUND(D227*(1-$E$3)/Лист2!$A$6,0)","v":4854}]
[null,"889.40.00.01 ","Комплект шторок раздвижных исп. Toscana Q IC90",8467,{"$f":"ROUND(D228*(1-$E$3)/Лист2!$A$6,0)","v":8467}]
["2. Toscana Q BM"]
["Обязательные опции для Toscana Q BM"]
[null,"815.39.00.00","Комплект декоративной фронтальной панели широкой исп.1250",3688,{"$f":"ROUND(D231*(1-$E$3)/Лист2!$A$6,0)","v":3688}]
[null,"815.47.00.00","Комплект декор фронт панели широкой c отбойником нерж исп. 1250",6222,{"$f":"ROUND(D232*(1-$E$3)/Лист2!$A$6,0)","v":6222}]
[null,"815.35.00.00","Комплект декоративной фронтальной панели узкой исп.1250",3414,{"$f":"ROUND(D233*(1-$E$3)/Лист2!$A$6,0)","v":3414}]
[null,"815.36.00.00","Комплект декор фронт панели узкой c отбойником нерж исп. 1250",5122,{"$f":"ROUND(D234*(1-$E$3)/Лист2!$A$6,0)","v":5122}]
[null,"815.34.00.00","Комплект декоративной фронтальной панели широкой исп.1250 (текстура дерева, ЛДСП)",6638,{"$f":"ROUND(D235*(1-$E$3)/Лист2!$A$6,0)","v":6638}]
[null,"815.33.00.00","Комплект декоративной фронтальной панели узкой исп.1250 (текстура дерева, ЛДСП)",6146,{"$f":"ROUND(D236*(1-$E$3)/Лист2!$A$6,0)","v":6146}]
[null,"815.38.00.01","Нижняя фронтальная панель исп. 1250",3113,{"$f":"ROUND(D237*(1-$E$3)/Лист2!$A$6,0)","v":3113}]
[null,"815.80.00.00","Комплект светодиодных светильников 1250 (нейтральный, 18 Вт/м) ",4139,{"$f":"ROUND(D238*(1-$E$3)/Лист2!$A$6,0)","v":4139}]
[null,"815.81.00.00","Комплект светодиодных светильников 1250 (теплый, 18 Вт/м) ",4346,{"$f":"ROUND(D239*(1-$E$3)/Лист2!$A$6,0)","v":4346}]
[null,"815.82.00.00","Комплект светодиодных светильников 1250 (розовый, 18 Вт/м) ",4221,{"$f":"ROUND(D240*(1-$E$3)/Лист2!$A$6,0)","v":4221}]
["Дополнительные опции для Toscana Q BM"]
[null,"815.50.00.00","Комплект боковины левой для широкой фронтальной панели Toscana",8360,{"$f":"ROUND(D242*(1-$E$3)/Лист2!$A$6,0)","v":8360}]
[null,"815.50.00.00mir","Комплект боковины правой для широкой фронтальной панели Toscana",8360,{"$f":"ROUND(D243*(1-$E$3)/Лист2!$A$6,0)","v":8360}]
[null,"815.52.00.00","Комплект боковины ЛДСП левой для широк фронт панели Toscana",11704,{"$f":"ROUND(D244*(1-$E$3)/Лист2!$A$6,0)","v":11704}]
[null,"815.52.00.00mir","Комплект боковины ЛДСП правой для широк фронт панели Toscana",11704,{"$f":"ROUND(D245*(1-$E$3)/Лист2!$A$6,0)","v":11704}]
[null,"815.48.00.00","Комплект боковины лев для узкой фронт панели Toscana",7942,{"$f":"ROUND(D246*(1-$E$3)/Лист2!$A$6,0)","v":7942}]
[null,"815.48.00.00mir","Комплект боковины прав для узкой фронт панели Toscana",7942,{"$f":"ROUND(D247*(1-$E$3)/Лист2!$A$6,0)","v":7942}]
[null,"815.53.00.00","Комплект боковины ЛДСП левой для узкой фронт панели Toscana",11119,{"$f":"ROUND(D248*(1-$E$3)/Лист2!$A$6,0)","v":11119}]
[null,"815.53.00.00mir","Комплект боковины ЛДСП правой для узкой фронт панели Toscana",11119,{"$f":"ROUND(D249*(1-$E$3)/Лист2!$A$6,0)","v":11119}]
[null,"815.37.00.00","Комплект нижних боковых панелей (левая, правая)",2286,{"$f":"ROUND(D250*(1-$E$3)/Лист2!$A$6,0)","v":2286}]
[null,"815.56.00.00","Компллект соединительный для стыковки в линию витрин Toscana",1323,{"$f":"ROUND(D251*(1-$E$3)/Лист2!$A$6,0)","v":1323}]
[null,"815.45.00.00","Компл теплоизол гермет разделит для Toscana с узк. фронт. панел.",14406,{"$f":"ROUND(D252*(1-$E$3)/Лист2!$A$6,0)","v":14406}]
[null,"815.46.00.00","Компл теплоизол гермет разделит для Toscana с шир. фронт. панел",16005,{"$f":"ROUND(D253*(1-$E$3)/Лист2!$A$6,0)","v":16005}]
[null,"815.60.00.00","Доска навесная для весов 500х400 мм.",6443,{"$f":"ROUND(D254*(1-$E$3)/Лист2!$A$6,0)","v":6443}]
[null,"713.61.00.00","Комплект корзины навесной для ножей",8788,{"$f":"ROUND(D255*(1-$E$3)/Лист2!$A$6,0)","v":8788}]
[null,"815.62.00.00","Доска навесная для нарезки 600х400 мм.",6145,{"$f":"ROUND(D256*(1-$E$3)/Лист2!$A$6,0)","v":6145}]
[null,"713.63.00.00","Комплект корзины навесной для упаковочного материала",6145,{"$f":"ROUND(D257*(1-$E$3)/Лист2!$A$6,0)","v":6145}]
[]
[]
[null,null,null,"НАВЕРХ"]

{"sheet":"Горки Cryspi","index":7,"n_rows":75,"n_cols":21,"rows_kept":75,"cut":false,"hidden":false,"merged":[[12,0,12,2],[54,6,56,6],[23,2,23,10],[24,2,26,2],[24,3,26,3],[17,5,19,5],[14,2,16,2],[17,2,19,2],[20,2,22,2],[41,2,43,2],[44,2,46,2],[47,2,49,2],[51,2,53,2],[27,2,29,2],[27,3,29,3],[27,5,29,5],[39,5,39,10],[51,3,53,3],[51,5,53,5],[24,8,26,8],[27,8,29,8],[30,8,32,8],[33,8,35,8],[41,8,43,8],[73,1,75,1],[64,9,65,10],[44,5,46,5],[64,0,65,0],[67,5,68,5],[67,6,68,6],[74,7,75,7],[69,3,70,3],[69,5,70,5],[69,6,70,6],[71,3,72,3],[71,5,72,5],[71,6,72,6],[67,3,68,3],[64,1,65,8],[57,3,59,3],[57,5,59,5],[57,6,59,6],[60,3,62,3],[60,5,62,5],[60,6,62,6],[11,16,11,19],[41,3,43,3],[20,5,22,5],[33,6,35,6],[14,6,16,6],[47,5,49,5],[51,6,53,6],[20,3,22,3],[20,6,22,6],[41,5,43,5],[47,6,49,6],[24,6,26,6],[41,6,43,6],[44,3,46,3],[33,3,35,3],[44,6,46,6],[47,3,49,3],[11,20,11,23],[5,0,7,10],[10,12,10,23],[37,12,37,23],[38,12,38,15],[38,16,38,19],[38,20,38,23],[8,2,9,2],[13,2,13,10],[12,3,12,4],[12,5,12,10],[10,1,11,8],[8,8,9,8],[37,1,38,8],[8,7,9,7],[8,9,9,9],[10,0,11,0],[30,2,32,2],[33,2,35,2],[36,2,36,10],[8,6,9,6],[17,3,19,3],[17,8,19,8],[20,8,22,8],[0,7,4,10],[11,12,11,15],[37,0,38,0],[37,9,38,10],[13,0,36,1],[10,9,11,10],[14,3,16,3],[14,5,16,5],[8,10,9,10],[24,5,26,5],[33,5,35,5],[0,11,0,12],[1,1,1,3],[2,1,2,3],[3,1,3,3],[8,0,9,0],[8,1,9,1],[8,3,9,4],[8,5,9,5],[27,6,29,6],[30,3,32,3],[30,5,32,5],[30,6,32,6],[14,8,16,8],[64,12,64,15],[40,2,40,10],[50,2,50,10],[67,0,72,1],[40,0,63,1],[17,6,19,6],[54,2,56,2],[57,2,59,2],[60,2,62,2],[39,0,39,2],[39,3,39,4],[63,3,63,10],[66,0,66,10],[54,3,56,3],[54,5,56,5],[67,8,68,8],[69,8,70,8],[71,8,72,8],[44,8,46,8],[47,8,49,8],[51,8,53,8],[54,8,56,8],[57,8,59,8],[60,8,62,8]]}
[null,null,null,null,null,null,null,"ЗАВОД «ОПК»\nТел.: +7 (495) 987-4388\ne-mail: info@cryspi.ru\nсайт: cryspi.ru",null,null,null,"На главную"]
[]
[null,"Ваша скидка:",null,null,{"$f":"Содержание!D2","v":0}]
[null,"НДС:",null,null,{"$f":"IF(Лист2!A1=TRUE,\"С НДС\",\"БЕЗ НДС\")","v":"С НДС"}]
[]
["Охлаждаемые стеллажи Cryspi со встроенным агрегатом"]
[]
[]
["№","Изображение","Артикул","Наименование",null,"Температурный режим,°C","Площадь экспозиции, кв.м.","Габариты, \n(LxWxH) мм","Габариты в упаковке(в обрешетке), \n(LxWxH) мм","Базовая \nцена, руб.\n(с НДС)",{"$f":"[5]Лист2!$A$5","v":"Ваша цена, руб."}]
[]
[1,"Solo L7",null,null,null,null,null,null,null,"Опции SOLO L7",null,null,"СЕЧЕНИЯ"]
[null,null,null,null,null,null,null,null,null,null,null,null,"Solo L7",null,null,null,"Solo L7 Фруктовая",null,null,null,"Solo L7 DG"]
["Базовая комплектация стеллажа:      \n- внутренний объем - оцинкованный металл\n- внутренняя поверхность ванны из оцинкованного пластификата (двойная защита от коррозии);\n- электронный контроллер для управления работой оборудования;\n- без освещения\n- цифрофой термометр;\n- компрессор R-290;\n-стандартная упаковка на поддоне, опцонально в деревянной обрешетке\n- блок остекления со стеклопакетом для стеллажей DG\n- ночная шторкa для открытого стеллажа\n Характеристика EL.S.0.0.P.PS.0.0.0.0.внеш7016гл_внутр7016гл",null,null,"Комплектация \"Фрукты-овощи\"\n+ к базовой комплектации:\n- Общее светодиодное освещение, стандартный - 4000К, опционально 2700К, 6500К;\n- 3 ряда полок с ценникодержателем;\n- выпариватель;\n- боковины с зеркалом;\n- комплект наклонного зеркала\n- наклонная решетка для базовой полки\n\n Характеристика EL.S.2.3.P.PS.L.V.Z.Z.внеш7016гл_внутр7016гл\n\n",null,"Комплектация \"Гастрономия\"\n+ к базовой комплектации:\n- Общее светодиодное освещение, стандартный - 4000К, опционально 2700К, 6500К, \n- 5 рядов полок глубиной 500 с ценникодержателем;\n- выпариватель;\n- боковины со стеклопакетом;\n\n Характеристика EL.S.2.5.P.PS.0.V.S.S.внеш7016гл_внутр7016гл"]
[null,null,"Solo L7 Открытое исполнение  (ночные шторки)"]
[null,null,"SO L7 125 R290","Стеллаж холодильный ВПВ С (SOLO L7 1250) R290","фруктовая","+1…+7 С",2.8,"1330х700х2090","1500х820х2230/ 1550х870х2230",174908,{"$f":"ROUND(J15*(1-$E$3)/Лист2!$A$6,0)","v":174908}]
[null,null,null,null,"гастрономическая",null,null,"1330х700х2090",null,173791,{"$f":"ROUND(J16*(1-$E$3)/Лист2!$A$6,0)","v":173791}]
[null,null,null,null,"базовая (пустая)",null,null,"1250х700х2090",null,134899,{"$f":"ROUND(J17*(1-$E$3)/Лист2!$A$6,0)","v":134899}]
[null,null,"SO L7 150 R290","Стеллаж холодильный ВПВ С (SOLO L7 1500) R290","фруктовая","+1…+7 С",3.36,"1580х700х2090","1750х820х2230/ 1800х870х2230",204585,{"$f":"ROUND(J18*(1-$E$3)/Лист2!$A$6,0)","v":204585}]
[null,null,null,null,"гастрономическая",null,null,"1580х700х2090",null,201976,{"$f":"ROUND(J19*(1-$E$3)/Лист2!$A$6,0)","v":201976}]
[null,null,null,null,"базовая (пустая)",null,null,"1500х700х2090",null,158914,{"$f":"ROUND(J20*(1-$E$3)/Лист2!$A$6,0)","v":158914}]
[null,null,"SO L7 188 R290","Стеллаж холодильный ВПВ С (SOLO L7 1875) R290","фруктовая","+1…+7 С",4.2,"1955х700х2090","2130х820х2230/ 2180х870х2230",218349,{"$f":"ROUND(J21*(1-$E$3)/Лист2!$A$6,0)","v":218349}]
[null,null,null,null,"гастрономическая",null,null,"1955х700х2090",null,216177,{"$f":"ROUND(J22*(1-$E$3)/Лист2!$A$6,0)","v":216177}]
[null,null,null,null,"базовая (пустая)",null,null,"1875х700х2090",null,165813,{"$f":"ROUND(J23*(1-$E$3)/Лист2!$A$6,0)","v":165813}]
[null,null,"Solo L7 DG. Фронтальный блок остекления - стеклопакет (DG - Double Glass)"]
[null,null,"SO L7DG 125 R290","Стеллаж холодильный ВПВ С (SOLO L7 DG 1250) R290","фруктовая","-1…+5 С",2.8,"1330х700х2090","1500х820х2230/ 1550х870х2230",193769,{"$f":"ROUND(J25*(1-$E$3)/Лист2!$A$6,0)","v":193769}]
[null,null,null,null,"гастрономическая",null,null,"1330х700х2090",null,192654,{"$f":"ROUND(J26*(1-$E$3)/Лист2!$A$6,0)","v":192654}]
[null,null,null,null,"базовая (пустая)",null,null,"1250х700х2090",null,153760,{"$f":"ROUND(J27*(1-$E$3)/Лист2!$A$6,0)","v":153760}]
[null,null,"SO L7DG 150 R290","Стеллаж холодильный ВПВ С (SOLO L7 DG 1500) R290","фруктовая","-1…+5 С",3.36,"1580х700х2090","1750х820х2230/ 1800х870х2230",213312,{"$f":"ROUND(J28*(1-$E$3)/Лист2!$A$6,0)","v":213312}]
[null,null,null,null,"гастрономическая",null,null,"1580х700х2090",null,210703,{"$f":"ROUND(J29*(1-$E$3)/Лист2!$A$6,0)","v":210703}]
[null,null,null,null,"базовая (пустая)",null,null,"1500х700х2090",null,167641,{"$f":"ROUND(J30*(1-$E$3)/Лист2!$A$6,0)","v":167641}]
[null,null,"SO L7DG 188 R290","Стеллаж холодильный ВПВ С (SOLO L7 DG 1875) R290","фруктовая","-1…+5 С",4.2,"1955х700х2090","2130х820х2230/ 2180х870х2230",234923,{"$f":"ROUND(J31*(1-$E$3)/Лист2!$A$6,0)","v":234923}]
[null,null,null,null,"гастрономическая",null,null,"1955х700х2090",null,232751,{"$f":"ROUND(J32*(1-$E$3)/Лист2!$A$6,0)","v":232751}]
[null,null,null,null,"базовая (пустая)",null,null,"1875х700х2090",null,182387,{"$f":"ROUND(J33*(1-$E$3)/Лист2!$A$6,0)","v":182387}]
[null,null,"SO L7DG 250 R290","Стеллаж холодильный ВПВ С (SOLO L7 DG 2500) R290","фруктовая","-1…+5 С",5.6,"2580х700х2090","2750х820х2230/ 2800х870х2230",null,{"$f":"ROUND(J34*(1-$E$3)/Лист2!$A$6,0)","v":0}]
[null,null,null,null,"гастрономическая",null,null,"2580х700х2090",null,332479,{"$f":"ROUND(J35*(1-$E$3)/Лист2!$A$6,0)","v":332479}]
[null,null,null,null,"базовая (пустая)",null,null,"2500х700х2090",null,278333,{"$f":"ROUND(J36*(1-$E$3)/Лист2!$A$6,0)","v":278333}]
[null,null,"(Модуль 1250 мм. - 1 дверной блок (2 двери); 1875 мм. - 1 дверной блок (3 двери); 2500 мм. - 2 дверных блока по 2 двери)"]
[2,"Solo L9",null,null,null,null,null,null,null,"Опции SOLO L9",null,null,"СЕЧЕНИЯ"]
[null,null,null,null,null,null,null,null,null,null,null,null,"Solo L9",null,null,null,"Solo L9 Фруктовая",null,null,null,"Solo L9 DG"]
["Базовая комплектация стеллажа:      \n- внутренний объем - оцинкованный металл\n- внутренняя поверхность ванны из оцинкованного пластификата (двойная защита от коррозии);\n- электронный контроллер для управления работой оборудования;\n- без освещения\n- цифрофой термометр;\n- компрессор R-290;\n-стандартная упаковка на поддоне, опцонально в деревянной обрешетке\n- блок остекления со стеклопакетом для стеллажей DG\n- ночная шторкa для открытого стеллажа\n Характеристика EL.S.0.0.P.PS.0.0.0.0.внеш7016гл_внутр7016гл",null,null,"Комплектация \"Фрукты-овощи\"\n+ к базовой комплектации:\n- Общее светодиодное освещение, стандартный - 4000К, опционально 2700К, 6500К;\n- 3 ряда полок с ценникодержателем;\n- выпариватель;\n- боковины с зеркалом;\n- комплект наклонного зеркала\n- наклонная решетка для базовой полки\n\n Характеристика EL.S.2.3.P.PS.L.V.Z.Z.внеш7016гл_внутр7016гл\n\n",null,"Комплектация \"Гастрономия\"\n+ к базовой комплектации:\n- Общее светодиодное освещение, стандартный - 4000К, опционально 2700К, 6500К, \n- 5 рядов полок глубиной 500 с ценникодержателем;\n- выпариватель;\n- боковины со стеклопакетом;\n\n Характеристика EL.S.2.5.P.PS.0.V.S.S.внеш7016гл_внутр7016гл"]
[null,null,"Solo L9 Открытое исполнение (ночные шторки)"]
[null,null,"SO L9 125 R290","Стеллаж холодильный ВПВ С (SOLO L9 1250) R290","фруктовая","+1…+7 С",3.76,"1330х910х2090","1500х1030х2230/ 1550х1080х2230",187575.00000000003,{"$f":"ROUND(J42*(1-$E$3)/Лист2!$A$6,0)","v":187575}]
[null,null,null,null,"гастрономическая",null,null,"1330х910х2090",null,186429.00000000003,{"$f":"ROUND(J43*(1-$E$3)/Лист2!$A$6,0)","v":186429}]
[null,null,null,null,"базовая (пустая)",null,null,"1250х910х2090",null,142855.00000000003,{"$f":"ROUND(J44*(1-$E$3)/Лист2!$A$6,0)","v":142855}]
[null,null,"SO L9 150 R290","Стеллаж холодильный ВПВ С (SOLO L9 1500) R290","фруктовая","+1…+7 С",4.51,"1580х910х2090","1750х1030х2230/ 1800х1080х2230",212313,{"$f":"ROUND(J45*(1-$E$3)/Лист2!$A$6,0)","v":212313}]
[null,null,null,null,"гастрономическая",null,null,"1580х910х2090",null,209161,{"$f":"ROUND(J46*(1-$E$3)/Лист2!$A$6,0)","v":209161}]
[null,null,null,null,"базовая (пустая)",null,null,"1500х910х2090",null,160919,{"$f":"ROUND(J47*(1-$E$3)/Лист2!$A$6,0)","v":160919}]
[null,null,"SO L9 188 R290","Стеллаж холодильный ВПВ С (SOLO L9 1875) R290","фруктовая","+1…+7 С",5.63,"1955х910х2090","2130х1030х2230/ 2180х1080х2230",234906,{"$f":"ROUND(J48*(1-$E$3)/Лист2!$A$6,0)","v":234906}]
[null,null,null,null,"гастрономическая",null,null,"1955х910х2090",null,231778,{"$f":"ROUND(J49*(1-$E$3)/Лист2!$A$6,0)","v":231778}]
[null,null,null,null,"базовая (пустая)",null,null,"1875х910х2090",null,176514,{"$f":"ROUND(J50*(1-$E$3)/Лист2!$A$6,0)","v":176514}]
[null,null,"Solo L9 DG. Фронтальный блок остекления - стеклопакет (DG - Double Glass)"]
[null,null,"SO L9DG 125 R290","Стеллаж холодильный ВПВ С (SOLO L9 DG 1250) R290","фруктовая","-1…+5 С",3.76,"1330х910х2090","1500х1030х2230/ 1550х1080х2230",209447,{"$f":"ROUND(J52*(1-$E$3)/Лист2!$A$6,0)","v":209447}]
[null,null,null,null,"гастрономическая",null,null,"1330х910х2090",null,208301,{"$f":"ROUND(J53*(1-$E$3)/Лист2!$A$6,0)","v":208301}]
[null,null,null,null,"базовая (пустая)",null,null,"1250х910х2090",null,164727,{"$f":"ROUND(J54*(1-$E$3)/Лист2!$A$6,0)","v":164727}]
[null,null,"SO L9DG 150 R290","Стеллаж холодильный ВПВ С (SOLO L9 DG 1500) R290","фруктовая","-1…+5 С",4.51,"1580х910х2090","1750х1030х2230/ 1800х1080х2230",229716,{"$f":"ROUND(J55*(1-$E$3)/Лист2!$A$6,0)","v":229716}]
[null,null,null,null,"гастрономическая",null,null,"1580х910х2090",null,226564,{"$f":"ROUND(J56*(1-$E$3)/Лист2!$A$6,0)","v":226564}]
[null,null,null,null,"базовая (пустая)",null,null,"1500х910х2090",null,178322,{"$f":"ROUND(J57*(1-$E$3)/Лист2!$A$6,0)","v":178322}]
[null,null,"SO L9DG 188 R290","Стеллаж холодильный ВПВ С (SOLO L9 DG 1875) R290","фруктовая","-1…+5 С",5.63,"1955х910х2090","2130х1030х2230/ 2180х1080х2230",254732,{"$f":"ROUND(J58*(1-$E$3)/Лист2!$A$6,0)","v":254732}]
[null,null,null,null,"гастрономическая",null,null,"1955х910х2090",null,251604,{"$f":"ROUND(J59*(1-$E$3)/Лист2!$A$6,0)","v":251604}]
[null,null,null,null,"базовая (пустая)",null,null,"1875х910х2090",null,196340,{"$f":"ROUND(J60*(1-$E$3)/Лист2!$A$6,0)","v":196340}]
[null,null,"SO L9DG 250 R290","Стеллаж холодильный ВПВ С (SOLO L9 DG 2500) R290","фруктовая","-1…+5 С",7.51,"2580х910х2090","2750х1030х2230/ 2800х1080х2230",null,{"$f":"ROUND(J61*(1-$E$3)/Лист2!$A$6,0)","v":0}]
[null,null,null,null,"гастрономическая",null,null,"2580х910х2090",null,368562,{"$f":"ROUND(J62*(1-$E$3)/Лист2!$A$6,0)","v":368562}]
[null,null,null,null,"базовая (пустая)",null,null,"2500х910х2090",null,307176,{"$f":"ROUND(J63*(1-$E$3)/Лист2!$A$6,0)","v":307176}]
[null,null,null,"(Модуль 1250 мм. - 1 дверной блок (2 двери); 1875 мм. - 1 дверной блок (3 двери); 2500 мм. - 2 дверных блока по 2 двери)"]
[4,"Solo SML",null,null,null,null,null,null,null,"Опции Solo SML",null,null,"Solo SML"]
[]
["Стандартная комплектация стеллажа:\n- Внутренняя поверхность ванны из оцинкованного пластификата (двойная защита от коррозии)\n- электронный контроллер для управления работой оборудования;\n- общее горизонтальное светодиодное освещение, опционально 3000К, 4000К, 6500К, мясной;\n- цифрофой термометр;\n- компрессор R-290;\n- автоматическая система выпаривания конденсата;\n- ночные штороки;\n-стандартная упаковка на поддоне, опцонально в деревянной обрешетке\nХарактеристика:C.2.0-0.0, внеш 7016гл_внутр 7016гл"]
[null,null,"SOLOSML 1000 ВПВС1 R290","Стеллаж холодильный ВПВ С (SOLO SML 1000 Д) R290 ББ","с боковинами","+1...+10 С",1.94,"1050х854х1600","1170х970х1690",162350,{"$f":"ROUND(J68*(1-$E$3)/Лист2!$A$6,0)","v":162350}]
[null,null,"SOLOSML 1000 ВПВС1 R290ББ",null,"без боковин",null,null,"1000х854х1600",null,135092,{"$f":"ROUND(J69*(1-$E$3)/Лист2!$A$6,0)","v":135092}]
[null,null,"SOLOSML 1250 ВПВС1 R290","Стеллаж холодильный ВПВ С (SOLO SML 1250 Д) R290 ББ","с боковинами","+1...+10 С",2.4300000000000002,"1300х854х1600","1420х970х1690",168196,{"$f":"ROUND(J70*(1-$E$3)/Лист2!$A$6,0)","v":168196}]
[null,null,"SOLOSML 1250 ВПВС1 R290ББ",null,"без боковин",null,null,"1250х854х1600",null,140938,{"$f":"ROUND(J71*(1-$E$3)/Лист2!$A$6,0)","v":140938}]
[null,null,"SOLOSML 1875 ВПВС1 R290","Стеллаж холодильный ВПВ С (SOLO SML 1875 Д) R290","с боковинами","+1...+10 С",3.64,"1925х854х1600","2050х970х1690",211938,{"$f":"ROUND(J72*(1-$E$3)/Лист2!$A$6,0)","v":211938}]
[null,null,"SOLOSML 1875 ВПВС1 R290ББ",null,"без боковин",null,null,"1875х854х1600",null,184680,{"$f":"ROUND(J73*(1-$E$3)/Лист2!$A$6,0)","v":184680}]
[]
[null,null,null,null,null,null,null,"НАВЕРХ"]

{"sheet":"Опции для горок Cryspi","index":8,"n_rows":178,"n_cols":8,"rows_kept":178,"cut":false,"hidden":false,"merged":[[126,0,126,6],[127,0,127,6],[8,7,9,10],[47,0,47,6],[1,1,1,2],[2,1,2,2],[3,1,3,2],[6,0,6,6],[16,0,16,6],[8,0,8,6],[9,0,9,6],[10,0,10,6],[11,2,14,4],[15,0,15,6],[17,3,20,4],[21,2,24,4],[7,0,7,6],[91,0,91,6],[52,0,52,6],[53,3,56,4],[57,0,57,6],[60,0,60,6],[63,0,63,6],[25,0,25,6],[26,3,41,4],[42,0,42,6],[43,3,46,4],[48,3,51,4],[105,0,105,6],[117,0,117,6],[65,0,65,6],[75,0,75,6],[82,0,82,6],[127,7,128,10],[128,0,128,6],[129,0,129,6],[150,0,150,6],[153,0,153,6],[130,2,132,4],[133,0,133,6],[177,5,179,5],[134,3,136,4],[137,0,137,6],[140,0,140,6],[142,0,142,6],[146,0,146,6],[170,0,170,6],[171,5,171,6],[172,5,172,6],[173,5,173,6],[174,5,174,6],[163,0,163,6]]}
[null,null,null,null,"На главную"]
[]
[null,"Ваша скидка:",null,{"$f":"Содержание!D2","v":0}]
[null,"НДС:",null,{"$f":"IF(Лист2!A1=TRUE,\"С НДС\",\"БЕЗ НДС\")","v":"С НДС"}]
[]
[]
["Опции для витрин Cryspi"]
["Solo L7, Solo L9"]
["Обязательные опции для базовой комплектации Solo. Дополнительные опции для гастрономической комплектации Solo. ",null,null,null,null,null,null,"вернуться к прайсу стеллажей"]
["Общее освещение"]
["                                                                                               Нейтральный свет (4000-4500К) подходит всем товарным категориям (не искажает натуральный цвет продуктов).                                                                                                                                           Тёплый свет (2700-3000К) подходит категории \"Фрукты, овощи, сыры\" (категория выглядит ярче, насыщеннее).                                                                                     Мясной свет подходит категории \"Мясо, мясная гастрономия\" (категория выглядит ярче, насыщеннее)"]
[1,"Комплект общей подсветки стеллажа Т8 1004.15.02.00-01 L=1250 для Solo L","Спектр освещения определяется характеристикой (третий символ, \"1\" - 3000К, \"2\" -  4000К)",null,null,2143,{"$f":"ROUND(F12*(1-$D$3)/Лист2!$A$6,0)","v":2143}]
[2,"Комплект общей подсветки стеллажа Т8 1004.15.02.00-02 L=1500 для Solo L",null,null,null,2844,{"$f":"ROUND(F13*(1-$D$3)/Лист2!$A$6,0)","v":2844}]
[3,"Комплект общей подсветки стеллажа Т8 1004.15.02.00-03 L=1875 для Solo L",null,null,null,3189,{"$f":"ROUND(F14*(1-$D$3)/Лист2!$A$6,0)","v":3189}]
[4,"Комплект общей подсветки стеллажа Т8 1004.15.02.00-04 L=2500 для Solo L",null,null,null,3348,{"$f":"ROUND(F15*(1-$D$3)/Лист2!$A$6,0)","v":3348}]
["Дополнительные опции для Solo"]
["Вертикальная подсветка для DG"]
[{"$f":"A15+1","v":5},"Комплект вертикального светильника 1004.104.00.00-01 для Solo DG 1250","1004.104.00.00-01","Спектр освещения определяется отдельной опцией в заказе, спектр определяется характеристикой                                                                                   (\"1\"- 3000К, \"2\" -  4000К)",null,4286,{"$f":"ROUND(F18*(1-$D$3)/Лист2!$A$6,0)","v":4286}]
[{"$f":"A18+1","v":6},"Комплект вертикального светильника 1004.104.00.00-02 для Solo DG 1500","1004.104.00.00-02",null,null,6001,{"$f":"ROUND(F19*(1-$D$3)/Лист2!$A$6,0)","v":6001}]
[{"$f":"A19+1","v":7},"Комплект вертикального светильника 1004.104.00.00-03 для Solo DG 1875","1004.104.00.00-03",null,null,6858,{"$f":"ROUND(F20*(1-$D$3)/Лист2!$A$6,0)","v":6858}]
[{"$f":"A20+1","v":8},"Комплект вертикального светильника 1004.104.00.00-04 для Solo DG 2500","1004.104.00.00-04",null,null,8572,{"$f":"ROUND(F21*(1-$D$3)/Лист2!$A$6,0)","v":8572}]
[{"$f":"A21+1","v":9},"Система выпаривания конденсата для стеллажа Solo длиной 1250 мм","Применение выпаривателя определяется характеристикой                                                                (восьмой символ, \"0\" -без выпаривателя, \"V\" - выпариватель применен)",null,null,3542,{"$f":"ROUND(F22*(1-$D$3)/Лист2!$A$6,0)","v":3542}]
[{"$f":"A22+1","v":10},"Система выпаривания конденсата для стеллажа Solo длиной 1500 мм",null,null,null,4959,{"$f":"ROUND(F23*(1-$D$3)/Лист2!$A$6,0)","v":4959}]
[{"$f":"A23+1","v":11},"Система выпаривания конденсата для стеллажа Solo длиной 1875 мм",null,null,null,6021,{"$f":"ROUND(F24*(1-$D$3)/Лист2!$A$6,0)","v":6021}]
[12,"Система выпаривания конденсата для стеллажа Solo длиной 2500 мм",null,null,null,7934,{"$f":"ROUND(F25*(1-$D$3)/Лист2!$A$6,0)","v":7934}]
["Подсветка полок (универсальная для полок разной глубины - 300, 400, 500 мм)                                                                                                                                                                                                                                           Нейтральный свет (4000-4500К) подходит всем товарным категориям (не искажает натуральный цвет продуктов).                                                                                                                                                                                           Тёплый свет (2700-3000К) подходит категории \"Фрукты, овощи, сыры\" (категория выглядит ярче, насыщеннее).                                                                                                                                                                                                 Мясной свет подходит категории \"Мясо, мясная гастрономия\" (категория выглядит ярче, насыщеннее)"]
[{"$f":"A25+1","v":13},"Комплект подсветки полок (3 ряда) Т8 1004.99.00.00-01 L=1250 для Solo L","1004.99.00.00-01","Спектр освещения определяется характеристикой                                        (третий символ, \"1\" - 3000К, \"2\" -  4000К)",null,5495,{"$f":"ROUND(F27*(1-$D$3)/Лист2!$A$6,0)","v":5495}]
[{"$f":"A27+1","v":14},"Комплект подсветки полок (3 ряда) Т8 1004.99.00.00-02 L=1500 для Solo L","1004.99.00.00-02",null,null,9202,{"$f":"ROUND(F28*(1-$D$3)/Лист2!$A$6,0)","v":9202}]
[15,"Комплект подсветки полок (3 ряда) Т8 1004.99.00.00-03 L=1875 для Solo L","1004.99.00.00-03",null,null,9954,{"$f":"ROUND(F29*(1-$D$3)/Лист2!$A$6,0)","v":9954}]
[16,"Комплект подсветки полок (3 ряда) Т8 1004.99.00.00-04 L=2500 для Solo L","1004.99.00.00-04",null,null,14409,{"$f":"ROUND(F30*(1-$D$3)/Лист2!$A$6,0)","v":14409}]
[17,"Комплект подсветки полок (4 ряда) Т8 1004.100.00.00-01 L=1250 для Solo L","1004.100.00.00-01",null,null,6316,{"$f":"ROUND(F31*(1-$D$3)/Лист2!$A$6,0)","v":6316}]
[18,"Комплект подсветки полок (4 ряда) Т8 1004.100.00.00-02 L=1500 для Solo L","1004.100.00.00-02",null,null,10576,{"$f":"ROUND(F32*(1-$D$3)/Лист2!$A$6,0)","v":10576}]
[19,"Комплект подсветки полок (4 ряда) Т8 1004.100.00.00-03 L=1875 для Solo L","1004.100.00.00-03",null,null,11441,{"$f":"ROUND(F33*(1-$D$3)/Лист2!$A$6,0)","v":11441}]
[20,"Комплект подсветки полок (4 ряда) Т8 1004.100.00.00-03 L=2500 для Solo L","1004.100.00.00-04",null,null,16562,{"$f":"ROUND(F34*(1-$D$3)/Лист2!$A$6,0)","v":16562}]
[21,"Комплект подсветки полок (5 рядов) Т8 1004.101.00.00-01 L=1250 для Solo L","1004.101.00.00-01",null,null,7453,{"$f":"ROUND(F35*(1-$D$3)/Лист2!$A$6,0)","v":7453}]
[22,"Комплект подсветки полок (5 рядов) Т8 1004.101.00.00-02 L=1500 для Solo L","1004.101.00.00-02",null,null,12480,{"$f":"ROUND(F36*(1-$D$3)/Лист2!$A$6,0)","v":12480}]
[23,"Комплект подсветки полок (5 рядов) Т8 1004.101.00.00-03 L=1875 для Solo L","1004.101.00.00-03",null,null,13501,{"$f":"ROUND(F37*(1-$D$3)/Лист2!$A$6,0)","v":13501}]
[24,"Комплект подсветки полок (5 рядов) Т8 1004.101.00.00-03 L=2500 для Solo L","1004.101.00.00-04",null,null,19543,{"$f":"ROUND(F38*(1-$D$3)/Лист2!$A$6,0)","v":19543}]
[25,"Комплект подсветки полок (6 рядов) Т8 1004.102.00.00-01 L=1250 для Solo L","1004.102.00.00-01",null,null,8497,{"$f":"ROUND(F39*(1-$D$3)/Лист2!$A$6,0)","v":8497}]
[26,"Комплект подсветки полок (6 рядов) Т8 1004.102.00.00-02 L=1500 для Solo L","1004.102.00.00-02",null,null,14227,{"$f":"ROUND(F40*(1-$D$3)/Лист2!$A$6,0)","v":14227}]
[27,"Комплект подсветки полок (6 рядов) Т8 1004.102.00.00-03 L=1875 для Solo L","1004.102.00.00-03",null,null,15391,{"$f":"ROUND(F41*(1-$D$3)/Лист2!$A$6,0)","v":15391}]
[28,"Комплект подсветки полок (6 рядов) Т8 1004.102.00.00-03 L=2500 для Solo L","1004.102.00.00-04",null,null,22279,{"$f":"ROUND(F42*(1-$D$3)/Лист2!$A$6,0)","v":22279}]
["Дополнительные опции для Solo"]
[{"$f":"A42+1","v":29},"Комплект боковины глухой левой для Solo L9","1014.40.00.00","Наличие и тип боковины определяется характеристикой (левая боковина 9 символ, правая боковина 10 символ).                                                                    Боковина не применяется когда стеллаж в линии - \"0\".                                            Боковина глухая  - \"G\"",null,11369,{"$f":"ROUND(F44*(1-$D$3)/Лист2!$A$6,0)","v":11369}]
[{"$f":"A44+1","v":30},"Комплект боковины глухой правой для Solo L9","1014.40.00.00mir",null,null,11369,{"$f":"ROUND(F45*(1-$D$3)/Лист2!$A$6,0)","v":11369}]
[31,"Комплект боковины глухой левой для Solo L7","1004.40.00.00",null,null,10725,{"$f":"ROUND(F46*(1-$D$3)/Лист2!$A$6,0)","v":10725}]
[32,"Комплект боковины глухой правой для Solo L7","1004.40.00.00mir",null,null,10725,{"$f":"ROUND(F47*(1-$D$3)/Лист2!$A$6,0)","v":10725}]
[]
[{"$f":"A47+1","v":33},"Компл боковины глух лев с зерк для Solo L9","1014.37.00.00","Наличие и тип боковины определяется характеристикой (левая боковина 9 символ, правая боковина 10 символ).                                                                    Боковина не применяется когда стеллаж в линии - \"0\".                                            Боковина глухая с зеркалом - \"Z\".",null,12556,{"$f":"ROUND(F49*(1-$D$3)/Лист2!$A$6,0)","v":12556}]
[{"$f":"A49+1","v":34},"Компл боковины глух прав с зерк для Solo L9","1014.37.00.00mir",null,null,12556,{"$f":"ROUND(F50*(1-$D$3)/Лист2!$A$6,0)","v":12556}]
[35,"Компл боковины глух лев с зерк для Solo L7","1004.37.00.00",null,null,11548,{"$f":"ROUND(F51*(1-$D$3)/Лист2!$A$6,0)","v":11548}]
[36,"Компл боковины глух прав с зерк для Solo  L7","1004.37.00.00mir",null,null,11548,{"$f":"ROUND(F52*(1-$D$3)/Лист2!$A$6,0)","v":11548}]
[]
[{"$f":"A52+1","v":37},"Компл боковины со стеклопак лев для Solo L9","1014.41.00.00","Наличие и тип боковины определяется характеристикой (левая боковина 9 символ, правая боковина 10 символ).                                                                    Боковина не применяется когда стеллаж в линии - \"0\".                                            Боковина панорамная  - \"S\".",null,12837,{"$f":"ROUND(F54*(1-$D$3)/Лист2!$A$6,0)","v":12837}]
[{"$f":"A54+1","v":38},"Компл боковины со стеклопак прав для Solo L9","1014.41.00.00mir",null,null,12837,{"$f":"ROUND(F55*(1-$D$3)/Лист2!$A$6,0)","v":12837}]
[39,"Компл боковины со стеклопак лев для Solo L7","1004.41.00.00",null,null,11777,{"$f":"ROUND(F56*(1-$D$3)/Лист2!$A$6,0)","v":11777}]
[40,"Компл боковины со стеклопак прав для Solo L7","1004.41.00.00mir",null,null,11777,{"$f":"ROUND(F57*(1-$D$3)/Лист2!$A$6,0)","v":11777}]
[]
[{"$f":"A57+1","v":41},"Компл герметичн разделителя (оргст) для Solo L9","1014.44.00.00",null,null,15076,{"$f":"ROUND(F59*(1-$D$3)/Лист2!$A$6,0)","v":15076}]
[{"$f":"A59+1","v":42},"Компл герметичн разделителя (оргст) для Solo L7","1004.44.00.00",null,null,12900,{"$f":"ROUND(F60*(1-$D$3)/Лист2!$A$6,0)","v":12900}]
[]
[{"$f":"A60+1","v":43},"Компл зеркал герметичн разделителя для Solo L9","1014.45.00.00",null,null,20793,{"$f":"ROUND(F62*(1-$D$3)/Лист2!$A$6,0)","v":20793}]
[{"$f":"A62+1","v":44},"Компл зеркал герметичн разделителя для Solo L7","1004.45.00.00",null,null,20335,{"$f":"ROUND(F63*(1-$D$3)/Лист2!$A$6,0)","v":20335}]
[]
[{"$f":"A63+1","v":45},"Комплект соединительный в линию для Solo L","1004.60.00.00",null,null,2186,{"$f":"ROUND(F65*(1-$D$3)/Лист2!$A$6,0)","v":2186}]
[]
[69,"Полка навесная с кронштейнами (ОЦ) 1250х500 929.67.00.00-01 для Solo для исп 1250, 2500","929.67.00.00-01",null,null,2335,{"$f":"ROUND(F67*(1-$D$3)/Лист2!$A$6,0)","v":2335}]
[{"$f":"A67+1","v":70},"Полка навесная с кронштейнами (ОЦ) 1500х500 1014.67.00.00-02 для Solo для исп 1500","1014.67.00.00-02",null,null,2803,{"$f":"ROUND(F68*(1-$D$3)/Лист2!$A$6,0)","v":2803}]
[{"$f":"A68+1","v":71},"Полка навесная с кронштейнами (ОЦ) 937х500 1015.67.00.00-03 для Solo для исп. 1875","1015.67.00.00-03",null,null,1963,{"$f":"ROUND(F69*(1-$D$3)/Лист2!$A$6,0)","v":1963}]
[72,"Полка навесная с кронштейнами (ОЦ) 1250х400 811.68.00.00 для Rimini для исп.1250,2500","811.68.00.00",null,null,1823,{"$f":"ROUND(F70*(1-$D$3)/Лист2!$A$6,0)","v":1823}]
[73,"Полка навесная с кронштейнами (ОЦ) 1500х400 1004.68.00.00-02 для Solo L 1500","1004.68.00.00-02",null,null,2191,{"$f":"ROUND(F71*(1-$D$3)/Лист2!$A$6,0)","v":2191}]
[74,"Полка навесная с кронштейнами (ОЦ) 937х400 811.68.00.00-01 для Solo для исп. 1875","811.68.00.00-01",null,null,1685,{"$f":"ROUND(F72*(1-$D$3)/Лист2!$A$6,0)","v":1685}]
[75,"Ценникодержатель съемный,L=1250, T-TH 0100125, прозрачный","T-TH 0100125",null,null,108,{"$f":"ROUND(F73*(1-$D$3)/Лист2!$A$6,0)","v":108}]
[76,"Ценникодержатель съемный, L=1500, T-TH 0100150, прозрачный","н№15085.3",null,null,150,{"$f":"ROUND(F74*(1-$D$3)/Лист2!$A$6,0)","v":150}]
[77,"Ценникодержатель съемный, L=925,  прозрачный","н№15085.2",null,null,75,{"$f":"ROUND(F75*(1-$D$3)/Лист2!$A$6,0)","v":75}]
[]
[{"$f":"A75+1","v":78},"Решетка фруктовая (базовая), 932х635 мм. для Rimini H9/L9, Solo L9","781.75.00.00",null,null,3302,{"$f":"ROUND(F77*(1-$D$3)/Лист2!$A$6,0)","v":3302}]
[{"$f":"A77+1","v":79},"Решетка базовая (фруктовая) 750х635 мм. для Solo L9","1014.75.00.00-02",null,null,2972,{"$f":"ROUND(F78*(1-$D$3)/Лист2!$A$6,0)","v":2972}]
[{"$f":"A78+1","v":80},"Решетка фруктовая (базовая), 1245x635 мм. для Rimini H9/L9","781.75.00.00-01",null,null,3653,{"$f":"ROUND(F79*(1-$D$3)/Лист2!$A$6,0)","v":3653}]
[81,"Решетка базовая (фруктовая) 932х455 мм. для Rimini H7/L7","798.75.00.00",null,null,2480,{"$f":"ROUND(F80*(1-$D$3)/Лист2!$A$6,0)","v":2480}]
[82,"Решетка базовая (фруктовая) 750х635 мм. для Solo L7","1004.75.00.00-02",null,null,2232,{"$f":"ROUND(F81*(1-$D$3)/Лист2!$A$6,0)","v":2232}]
[83,"Решетка базовая (фруктовая) 1245х455 мм. для Rimini H7/L7, Solo L7","798.75.00.00-01",null,null,2807,{"$f":"ROUND(F82*(1-$D$3)/Лист2!$A$6,0)","v":2807}]
[]
[{"$f":"A82+1","v":84},"Комплект зеркала наклон(с кронш) (1250) 1014.53.00.00-01 L=1250 для Solo L9","1014.53.00.00-01",null,null,2941,{"$f":"ROUND(F84*(1-$D$3)/Лист2!$A$6,0)","v":2941}]
[{"$f":"A84+1","v":85},"Комплект зеркала наклон(с кронш) (1500) 1014.53.00.00-02 L=1500 для Solo L9","1014.53.00.00-02",null,null,3676,{"$f":"ROUND(F85*(1-$D$3)/Лист2!$A$6,0)","v":3676}]
[{"$f":"A85+1","v":86},"Комплект зеркала наклон(с кронш) (937) 1014.53.00.00-03 L=1875 для Solo L9","1014.53.00.00-03",null,null,2520,{"$f":"ROUND(F86*(1-$D$3)/Лист2!$A$6,0)","v":2520}]
[87,"Комплект заглушек для зеркала наклонного 1014.52.00.00 для Solo L9","1014.52.00.00",null,null,764,{"$f":"ROUND(F87*(1-$D$3)/Лист2!$A$6,0)","v":764}]
[88,"Комплект зеркала наклон(с кронш) (1250) 1004.53.00.00-01 L=1250 для Solo L7","1004.53.00.00-01",null,null,2628,{"$f":"ROUND(F88*(1-$D$3)/Лист2!$A$6,0)","v":2628}]
[89,"Комплект зеркала наклон(с кронш) (1500) 1004.53.00.00-02 L=1500 для Solo L7","1004.53.00.00-02",null,null,3285,{"$f":"ROUND(F89*(1-$D$3)/Лист2!$A$6,0)","v":3285}]
[90,"Комплект зеркала наклон(с кронш) (937) 1004.53.00.00-03 L=1875 для Solo L7","1004.53.00.00-03",null,null,2256,{"$f":"ROUND(F90*(1-$D$3)/Лист2!$A$6,0)","v":2256}]
[91,"Комплект заглушек для зеркала наклонного 757.52.00.00 для Solo L7","1004.52.00.00",null,null,561,{"$f":"ROUND(F91*(1-$D$3)/Лист2!$A$6,0)","v":561}]
[]
[{"$f":"A91+1","v":92},"Разделитель объема для полок(500) 1004.115.00.00 для Solo L","1004.115.00.00",null,null,2924,{"$f":"ROUND(F93*(1-$D$3)/Лист2!$A$6,0)","v":2924}]
[{"$f":"A93+1","v":93},"Разделитель объема для полок(400) 1004.116.00.00 для Solo L","1004.116.00.00",null,null,2029,{"$f":"ROUND(F94*(1-$D$3)/Лист2!$A$6,0)","v":2029}]
[94,"Делитель передвижной H=150 (500) оргст 646.51.00.01-01 L=1250/2500 для стеллажей Italfrigo, Solo","646.51.00.01-01",null,null,679,{"$f":"ROUND(F95*(1-$D$3)/Лист2!$A$6,0)","v":679}]
[95,"Делитель передвижной H=150 (400) оргст 646.51.00.01 L=1250/2500 для стеллажей Italfrigo, Solo","646.51.00.01",null,null,593,{"$f":"ROUND(F96*(1-$D$3)/Лист2!$A$6,0)","v":593}]
[96,"Фронтальный ограничитель 40мм (1250) оргст 646.54.00.03 L=1250/2500 для для Solo","646.54.00.03",null,null,681,{"$f":"ROUND(F97*(1-$D$3)/Лист2!$A$6,0)","v":681}]
[97,"Фронтальный ограничитель Н=40мм, L=1500 (оргст) 1004.54.00.03-02 L=1500 для стеллажей Solo","646.54.00.03-02",null,null,851,{"$f":"ROUND(F98*(1-$D$3)/Лист2!$A$6,0)","v":851}]
[98,"Фронтальный ограничитель 40мм (937) оргст 646.54.00.03-01 L=1875 для Solo","646.54.00.03-01",null,null,319,{"$f":"ROUND(F99*(1-$D$3)/Лист2!$A$6,0)","v":319}]
[99,"Фронтальный ограничитель Н=60мм, L=1250 (оргст) 646.54.00.04 L=1250/2500 для Rimini/Lazio, Solo","646.54.00.04",null,null,998,{"$f":"ROUND(F100*(1-$D$3)/Лист2!$A$6,0)","v":998}]
[100,"Фронтальный ограничитель Н=60мм, L=1500 (оргст) 1004.54.00.04-02 L=1500 для Solo","646.54.00.04-02",null,null,1247,{"$f":"ROUND(F101*(1-$D$3)/Лист2!$A$6,0)","v":1247}]
[101,"Фронтальный ограничитель Н=60мм, L=937 (оргст) 646.54.00.04-01 L=1875 для Rimini/Lazio, Solo","646.54.00.04-01",null,null,808,{"$f":"ROUND(F102*(1-$D$3)/Лист2!$A$6,0)","v":808}]
[102,"Ограничитель проволочный(ОЦ, полимерное покрытие) 1235х57мм 781.76.00.01","781.76.00.01",null,null,301,{"$f":"ROUND(F103*(1-$D$3)/Лист2!$A$6,0)","v":301}]
[103,"Ограничитель проволочный(ОЦ, полимерное покрытие) 926х57мм 781.76.00.01-01, Solo","781.76.00.01-01",null,null,241,{"$f":"ROUND(F104*(1-$D$3)/Лист2!$A$6,0)","v":241}]
[104,"Ограничитель проволочный(ОЦ, полимерное покрытие) 1500х57мм 1004.76.00.01-02","781.76.00.01-02",null,null,376,{"$f":"ROUND(F105*(1-$D$3)/Лист2!$A$6,0)","v":376}]
[]
[{"$f":"A105+1","v":105},"Комплект отбойника фронтального (пластик) L=1250","646.56.00.00",null,null,912,{"$f":"ROUND(F107*(1-$D$3)/Лист2!$A$6,0)","v":912}]
[{"$f":"A107+1","v":106},"Комплект отбойника фронтального (пластик) L=1875","646.56.00.00-01",null,null,1320,{"$f":"ROUND(F108*(1-$D$3)/Лист2!$A$6,0)","v":1320}]
[{"$f":"A108+1","v":107},"Комплект отбойника фронтального (пластик) L=2500","646.56.00.00-02",null,null,1726,{"$f":"ROUND(F109*(1-$D$3)/Лист2!$A$6,0)","v":1726}]
[108,"Комплект отбойника фронтального (пластик) L=3750","646.56.00.00-03",null,null,2541,{"$f":"ROUND(F110*(1-$D$3)/Лист2!$A$6,0)","v":2541}]
[109,"Комплект отбойника фронтального (пластик) L=1500","646.56.00.00-04",null,null,1230,{"$f":"ROUND(F111*(1-$D$3)/Лист2!$A$6,0)","v":1230}]
[110,"Торцевой элемент НБИЛГ 7.116.007 н№950.28","н№950.28",null,null,291,{"$f":"ROUND(F112*(1-$D$3)/Лист2!$A$6,0)","v":291}]
[111,"Комплект отбойника фронтального 15х30 (труба нерж.) L=1250","781.55.00.00",null,null,1823,{"$f":"ROUND(F113*(1-$D$3)/Лист2!$A$6,0)","v":1823}]
[112,"Комплект отбойника фронтального 15х30 (труба нерж.) L=1875","781.55.00.00-01",null,null,2641,{"$f":"ROUND(F114*(1-$D$3)/Лист2!$A$6,0)","v":2641}]
[113,"Комплект отбойника фронтального 15х30 (труба нерж) L=2500","781.55.00.00-02",null,null,3453,{"$f":"ROUND(F115*(1-$D$3)/Лист2!$A$6,0)","v":3453}]
[114,"Комплект отбойника фронтального 15х30 (труба нерж) L=3750","781.55.00.00-03",null,null,5082,{"$f":"ROUND(F116*(1-$D$3)/Лист2!$A$6,0)","v":5082}]
[115,"Комплект отбойника фронтального 15х30 (труба нерж) L=1500","781.55.00.00-04",null,null,2455,{"$f":"ROUND(F117*(1-$D$3)/Лист2!$A$6,0)","v":2455}]
[]
[119,"Комплект подвесов для колбасы(две штанг + 4 блока крюков) 1004.59.00.00-01 L=1250, 2500 25 шаг","1004.59.00.00-01",null,null,6583,{"$f":"ROUND(F119*(1-$D$3)/Лист2!$A$6,0)","v":6583}]
[{"$f":"A119+1","v":120},"Комплект подвесов для колбасы(две штанг + 8 блока крюков) 1004.59.00.00-02 L=1500, 25 шаг","1004.59.00.00-02",null,null,8558,{"$f":"ROUND(F120*(1-$D$3)/Лист2!$A$6,0)","v":8558}]
[{"$f":"A120+1","v":121},"Комплект подвесов для колбасы(две штанг + 4 блока крюков) 1004.59.00.00-03 L=937, 25 шаг","1004.59.00.00-03",null,null,5690,{"$f":"ROUND(F121*(1-$D$3)/Лист2!$A$6,0)","v":5690}]
[122,"Штанга для навески крюков 1004.57.00.00-01 L=1250, 15х30 мм. 25 шаг","1004.57.00.00-01",null,null,2459,{"$f":"ROUND(F122*(1-$D$3)/Лист2!$A$6,0)","v":2459}]
[123,"Штанга для навески крюков 1004.57.00.00-02 L=1500, 15х30 мм. 25 шаг","1004.57.00.00-02",null,null,3197,{"$f":"ROUND(F123*(1-$D$3)/Лист2!$A$6,0)","v":3197}]
[124,"Штанга для навески крюков 1004.57.00.00-03 L=937, 15х30 мм. 25 шаг","1004.57.00.00-03",null,null,1996,{"$f":"ROUND(F124*(1-$D$3)/Лист2!$A$6,0)","v":1996}]
[125,"Крючок на штангу одинарный хромированный с ценникодержателем, 400 мм / диаметр 8,0 мм","н№15074.32",null,null,651,{"$f":"ROUND(F125*(1-$D$3)/Лист2!$A$6,0)","v":651}]
[126,"Крючок на штангу одинарный хромированный с ценникодержателем, 500 мм / диаметр 10,0 мм","н№15074.33",null,null,792,{"$f":"ROUND(F126*(1-$D$3)/Лист2!$A$6,0)","v":792}]
["Solo SML"]
["Обязательные опции для базовой комплектации Solo SML. Дополнительные опции для гастрономической комплектации Solo SML.",null,null,null,null,null,null,"вернуться к прайсу стеллажей"]
["Общее освещение"]
["                                                                                               Нейтральный свет (4000-4500К) подходит всем товарным категориям (не искажает натуральный цвет продуктов).                                                                                                                                           Тёплый свет (2700-3000К) подходит категории \"Фрукты, овощи, сыры\" (категория выглядит ярче, насыщеннее).                                                                                     Мясной свет подходит категории \"Мясо, мясная гастрономия\" (категория выглядит ярче, насыщеннее)"]
[4,"Комплект общей подсветки стеллажа Т8 1004.15.02.00 L=1000 для Solo L","Спектр освещения определяется характеристикой      (третий символ, \"1\" - 3000К, \"2\" -  4000К)",null,null,2089,{"$f":"ROUND(F131*(1-$D$3)/Лист2!$A$6,0)","v":2089}]
[5,"Комплект общей подсветки стеллажа Т8 1004.15.02.00-01 L=1250 для Solo L",null,null,null,2143,{"$f":"ROUND(F132*(1-$D$3)/Лист2!$A$6,0)","v":2143}]
[6,"Комплект общей подсветки стеллажа Т8 1004.15.02.00-03 L=1875 для Solo L",null,null,null,3189,{"$f":"ROUND(F133*(1-$D$3)/Лист2!$A$6,0)","v":3189}]
["Подсветка полок (универсальная для полок разной глубины - 300, 400, 500 мм)                                                                                                                                                                                                                                               Нейтральный свет (4000-4500К) подходит всем товарным категориям (не искажает натуральный цвет продуктов).                                                                                                                                                                                           Тёплый свет (2700-3000К) подходит категории \"Фрукты, овощи, сыры\" (категория выглядит ярче, насыщеннее).                                                                                                                                                                                                 Мясной свет подходит категории \"Мясо, мясная гастрономия\" (категория выглядит ярче, насыщеннее)"]
[7,"Комплект подсветки полок (3 ряда) Т8 1015.92.00.00 L=1000 для Solo ","1015.92.00.00","Спектр освещения определяется характеристикой (третий символ, \"1\" - 3000К, \"2\" -  4000К)",null,3928,{"$f":"ROUND(F135*(1-$D$3)/Лист2!$A$6,0)","v":3928}]
[{"$f":"A135+1","v":8},"Комплект подсветки полок (3 ряда) Т8 1004.99.00.00-01 L=1250 для Solo L","1004.99.00.00-01",null,null,4910,{"$f":"ROUND(F136*(1-$D$3)/Лист2!$A$6,0)","v":4910}]
[{"$f":"A136+1","v":9},"Комплект подсветки полок (3 ряда) Т8 1004.99.00.00-03 L=1875 для Solo L","1004.99.00.00-03",null,null,9864,{"$f":"ROUND(F137*(1-$D$3)/Лист2!$A$6,0)","v":9864}]
["Дополнительные опции для Rimini"]
[11,"Комплект боковины со стеклопакет лев 929.41.00.00 для ВПВ SOLO SML","929.41.00.00",null,null,13629,{"$f":"ROUND(F139*(1-$D$3)/Лист2!$A$6,0)","v":13629}]
[{"$f":"A139+1","v":12},"Комплект боковины со стеклопакет прав 929.41.00.00mir для ВПВ SOLO SML","929.41.00.00mir",null,null,13629,{"$f":"ROUND(F140*(1-$D$3)/Лист2!$A$6,0)","v":13629}]
[]
[13,"Комплект соединительный в линию 929.60.00.00 для стеллажей SOLO SML","929.60.00.00",null,null,1479,{"$f":"ROUND(F142*(1-$D$3)/Лист2!$A$6,0)","v":1479}]
[]
[14,"Комплект полок навесных (с кроншт) L=1000 (300, 400, 500) для SOLO SML","1015.66.00.00",null,null,4750,{"$f":"ROUND(F144*(1-$D$3)/[7]Лист2!$A$6,0)","v":4750}]
[15,"Комплект полок навесных (с кроншт) L=1250 (300, 400, 500) для SOLO SML","1015.66.00.00-01",null,null,6098,{"$f":"ROUND(F145*(1-$D$3)/Лист2!$A$6,0)","v":6098}]
[16,"Комплект полок навесных (с кроншт) L=1875 (300, 400, 500) для SOLO SML","1015.66.00.00-03",null,null,11587,{"$f":"ROUND(F146*(1-$D$3)/Лист2!$A$6,0)","v":11587}]
[]
[17,"Ценникодержатель съемный 1000 Т-ТН 0100100(СТ 046.00.00.105-01) н№15085","СТ 046.00.00.105-01",null,null,108,{"$f":"ROUND(F148*(1-$D$3)/Лист2!$A$6,0)","v":108}]
[18,"Ценникодержатель съемный, L=1250, T-TH 0100125, прозрачный","T-TH 0100125",null,null,108,{"$f":"ROUND(F149*(1-$D$3)/Лист2!$A$6,0)","v":108}]
[19,"Ценникодержатель съемный, L=925,  прозрачный","н№15085.2",null,null,75,{"$f":"ROUND(F150*(1-$D$3)/Лист2!$A$6,0)","v":75}]
[]
[{"$f":"A150+1","v":20},"Решетка фруктовая (базовая), 1245x635 мм. для Rimini H9/L9","781.75.00.00-01",null,null,3653,{"$f":"ROUND(F152*(1-$D$3)/Лист2!$A$6,0)","v":3653}]
[{"$f":"A152+1","v":21},"Решетка фруктовая (базовая), 932х635 мм. для Rimini H9/L9, Solo L9","781.75.00.00",null,null,3302,{"$f":"ROUND(F153*(1-$D$3)/Лист2!$A$6,0)","v":3302}]
[]
[22,"Делитель передвижной H=150 (500) оргст 646.51.00.01-01 L=1250/2500 для стеллажей Italfrigo, Solo","646.51.00.01-01",null,null,679,{"$f":"ROUND(F155*(1-$D$3)/Лист2!$A$6,0)","v":679}]
[{"$f":"A155+1","v":23},"Делитель передвижной H=150 (400) оргст 646.51.00.01 L=1250/2500 для стеллажей Italfrigo, Solo","646.51.00.01",null,null,593,{"$f":"ROUND(F156*(1-$D$3)/Лист2!$A$6,0)","v":593}]
[24,"Фронтальный ограничитель 40мм (1250) оргст 646.54.00.03 L=1250/2500 для для Solo","646.54.00.03",null,null,681,{"$f":"ROUND(F157*(1-$D$3)/Лист2!$A$6,0)","v":681}]
[25,"Фронтальный ограничитель 40мм (937) оргст 646.54.00.03-01 L=1875 для Solo","646.54.00.03-01",null,null,568,{"$f":"ROUND(F158*(1-$D$3)/Лист2!$A$6,0)","v":568}]
[26,"Фронтальный ограничитель Н=40мм, L=1000 (оргст) 622.54.00.03","622.54.00.03",null,null,544,{"$f":"ROUND(F159*(1-$D$3)/Лист2!$A$6,0)","v":544}]
[27,"Фронтальный ограничитель Н=60мм, L=1250 (оргст) 646.54.00.04 L=1250/2500 для Rimini/Lazio, Solo","646.54.00.04",null,null,998,{"$f":"ROUND(F160*(1-$D$3)/Лист2!$A$6,0)","v":998}]
[28,"Фронтальный ограничитель Н=60мм, L=937 (оргст) 646.54.00.04-01 L=1875 для Rimini/Lazio, Solo","646.54.00.04-01",null,null,808,{"$f":"ROUND(F161*(1-$D$3)/Лист2!$A$6,0)","v":808}]
[29,"Ограничитель проволочный(ОЦ, полимерное покрытие) 1235х57мм 781.76.00.01","781.76.00.01",null,null,415,{"$f":"ROUND(F162*(1-$D$3)/Лист2!$A$6,0)","v":415}]
[30,"Ограничитель проволочный(ОЦ, полимерное покрытие) 926х57мм 781.76.00.01-01, Solo","781.76.00.01-01",null,null,241,{"$f":"ROUND(F163*(1-$D$3)/Лист2!$A$6,0)","v":241}]
[]
[31,"Комплект отбойника фронтального (пластик) L=1000","1015.56.00.00",null,null,798,{"$f":"ROUND(F165*(1-$D$3)/Лист2!$A$6,0)","v":798}]
[32,"Комплект отбойника фронтального (пластик) L=1250","1015.56.00.00-01",null,null,912,{"$f":"ROUND(F166*(1-$D$3)/Лист2!$A$6,0)","v":912}]
[{"$f":"A166+1","v":33},"Комплект отбойника фронтального (пластик) L=1875","1015.56.00.00-03",null,null,1320,{"$f":"ROUND(F167*(1-$D$3)/Лист2!$A$6,0)","v":1320}]
[{"$f":"A167+1","v":34},"Торцевой элемент НБИЛГ 7.116.007 н№950.28","н№950.28",null,null,291,{"$f":"ROUND(F168*(1-$D$3)/Лист2!$A$6,0)","v":291}]
[35,"Комплект отбойника фронтального 15х30 (труба нерж.) L=1250","781.55.00.00",null,null,1823,{"$f":"ROUND(F169*(1-$D$3)/Лист2!$A$6,0)","v":1823}]
[36,"Комплект отбойника фронтального 15х30 (труба нерж.) L=1875","781.55.00.00-01",null,null,2641,{"$f":"ROUND(F170*(1-$D$3)/Лист2!$A$6,0)","v":2641}]
[]
[{"$f":"A170+1","v":37},"Усиленная упаковка Solo 1250",null,null,null,4549]
[{"$f":"A172+1","v":38},"Усиленная упаковка Solo 1500",null,null,null,4896]
[{"$f":"A173+1","v":39},"Усиленная упаковка Solo 1875",null,null,null,5397]
[{"$f":"A174+1","v":40},"Усиленная упаковка Solo 2500",null,null,null,7053]
[]
["*Коэффициент скидки на усиленную упаковку не применяется"]
["*Цена на розовую подсветку по запросу",null,null,null,null,"Наверх"]

{"sheet":"Горки Italfrigo","index":9,"n_rows":118,"n_cols":15,"rows_kept":118,"cut":false,"hidden":false,"merged":[[8,0,9,0],[8,1,9,1],[8,2,9,2],[8,3,9,4],[8,5,9,5],[8,6,9,6],[8,8,9,8],[0,7,4,10],[0,11,0,12],[1,1,1,3],[2,1,2,3],[3,1,3,3],[5,0,7,10],[8,7,9,7],[8,9,9,9],[8,10,9,10],[10,12,10,23],[11,12,11,15],[11,16,11,19],[11,20,11,23],[12,0,12,2],[12,3,12,4],[12,5,12,10],[13,0,13,10],[10,0,11,0],[10,9,11,10],[10,1,11,8],[14,0,21,1],[23,0,30,1],[32,0,39,1],[41,0,48,1],[63,12,63,15],[50,12,50,15],[32,12,32,15],[32,16,32,19],[32,20,32,23],[14,2,15,2],[14,3,15,3],[14,5,15,5],[14,6,15,6],[14,7,15,7],[14,8,15,8],[16,2,17,2],[16,3,17,3],[16,5,17,5],[16,6,17,6],[16,7,17,7],[16,8,17,8],[18,2,19,2],[18,3,19,3],[20,2,21,2],[74,6,75,6],[74,7,75,7],[74,8,75,8],[59,2,60,2],[59,3,60,3],[61,2,62,2],[61,3,62,3],[31,0,31,10],[22,0,22,10],[23,2,24,2],[23,3,24,3],[25,2,26,2],[25,3,26,3],[27,2,28,2],[27,3,28,3],[29,2,30,2],[29,3,30,3],[23,5,24,5],[29,5,30,5],[23,6,24,6],[23,7,24,7],[23,8,24,8],[25,5,26,5],[25,6,26,6],[79,8,80,8],[81,5,82,5],[81,6,82,6],[77,2,78,2],[77,3,78,3],[77,5,78,5],[77,6,78,6],[77,7,78,7],[77,8,78,8],[79,2,80,2],[79,3,80,3],[81,2,82,2],[81,3,82,3],[83,2,84,2],[83,3,84,3],[79,5,80,5],[79,6,80,6],[79,7,80,7],[101,7,102,7],[101,8,102,8],[90,2,91,2],[90,3,91,3],[92,2,93,2],[92,3,93,3],[90,5,91,5],[90,6,91,6],[90,7,91,7],[90,8,91,8],[81,7,82,7],[81,8,82,8],[83,5,84,5],[83,6,84,6],[83,7,84,7],[83,8,84,8],[86,2,87,2],[86,3,87,3],[88,2,89,2],[107,3,108,3],[109,2,110,2],[109,3,110,3],[111,2,112,2],[111,3,112,3],[101,2,102,2],[101,3,102,3],[101,5,102,5],[101,6,102,6],[50,0,57,1],[59,0,66,1],[68,0,75,1],[77,0,84,1],[86,0,93,1],[95,0,102,1],[49,0,49,10],[40,0,40,10],[94,0,94,10],[85,0,85,10],[76,0,76,10],[67,0,67,10],[58,0,58,10],[47,2,48,2],[47,3,48,3],[47,5,48,5],[47,6,48,6],[47,7,48,7],[47,8,48,8],[50,2,51,2],[50,3,51,3],[52,2,53,2],[52,3,53,3],[54,2,55,2],[117,0,117,10],[107,0,116,1],[103,0,104,0],[103,1,104,7],[103,9,104,10],[105,0,105,2],[105,3,105,4],[105,5,105,10],[106,0,106,10],[107,2,108,2],[113,2,114,2],[113,3,114,3],[115,2,116,2],[115,3,116,3],[107,5,108,5],[107,6,108,6],[107,7,108,7],[107,8,108,8],[109,5,110,5],[109,6,110,6],[109,7,110,7],[109,8,110,8],[111,5,112,5],[111,6,112,6],[20,3,21,3],[18,5,19,5],[18,6,19,6],[18,7,19,7],[18,8,19,8],[20,5,21,5],[20,6,21,6],[20,7,21,7],[20,8,21,8],[25,7,26,7],[25,8,26,8],[27,5,28,5],[27,6,28,6],[27,7,28,7],[27,8,28,8],[29,6,30,6],[29,7,30,7],[29,8,30,8],[32,2,33,2],[32,3,33,3],[34,2,35,2],[34,3,35,3],[36,2,37,2],[36,3,37,3],[38,2,39,2],[38,3,39,3],[32,5,33,5],[38,5,39,5],[32,6,33,6],[32,7,33,7],[32,8,33,8],[34,5,35,5],[34,6,35,6],[34,7,35,7],[34,8,35,8],[36,5,37,5],[36,6,37,6],[36,7,37,7],[36,8,37,8],[38,6,39,6],[38,7,39,7],[38,8,39,8],[41,2,42,2],[41,3,42,3],[43,2,44,2],[43,3,44,3],[45,2,46,2],[45,3,46,3],[41,5,42,5],[41,6,42,6],[41,7,42,7],[41,8,42,8],[43,5,44,5],[43,6,44,6],[43,7,44,7],[43,8,44,8],[45,5,46,5],[45,6,46,6],[45,7,46,7],[45,8,46,8],[54,3,55,3],[56,2,57,2],[56,3,57,3],[50,5,51,5],[56,5,57,5],[50,6,51,6],[50,7,51,7],[50,8,51,8],[52,5,53,5],[52,6,53,6],[52,7,53,7],[52,8,53,8],[54,5,55,5],[54,6,55,6],[54,7,55,7],[54,8,55,8],[56,6,57,6],[56,7,57,7],[56,8,57,8],[63,2,64,2],[63,3,64,3],[65,2,66,2],[65,3,66,3],[59,5,60,5],[59,6,60,6],[59,7,60,7],[59,8,60,8],[61,5,62,5],[61,6,62,6],[61,7,62,7],[61,8,62,8],[63,5,64,5],[63,6,64,6],[63,7,64,7],[63,8,64,8],[65,5,66,5],[65,6,66,6],[65,7,66,7],[65,8,66,8],[68,2,69,2],[68,3,69,3],[70,2,71,2],[70,3,71,3],[72,2,73,2],[72,3,73,3],[74,2,75,2],[74,3,75,3],[68,5,69,5],[74,5,75,5],[68,6,69,6],[68,7,69,7],[68,8,69,8],[70,5,71,5],[70,6,71,6],[70,7,71,7],[70,8,71,8],[72,5,73,5],[72,6,73,6],[72,7,73,7],[72,8,73,8],[88,3,89,3],[86,5,87,5],[86,6,87,6],[86,7,87,7],[86,8,87,8],[88,5,89,5],[88,6,89,6],[88,7,89,7],[88,8,89,8],[92,5,93,5],[92,6,93,6],[92,7,93,7],[92,8,93,8],[95,2,96,2],[95,3,96,3],[97,2,98,2],[97,3,98,3],[99,2,100,2],[99,3,100,3],[95,5,96,5],[95,6,96,6],[95,7,96,7],[95,8,96,8],[97,5,98,5],[97,6,98,6],[97,7,98,7],[97,8,98,8],[99,5,100,5],[99,6,100,6],[99,7,100,7],[99,8,100,8],[111,7,112,7],[111,8,112,8],[113,5,114,5],[113,6,114,6],[113,7,114,7],[113,8,114,8],[115,5,116,5],[115,6,116,6],[115,7,116,7],[115,8,116,8]]}
[null,null,null,null,null,null,null,"ЗАВОД «ОПК»\nТел.: +7 (495) 987-4388\ne-mail: info@cryspi.ru\nсайт: cryspi.ru",null,null,null,"На главную"]
[]
[null,"Ваша скидка:",null,null,{"$f":"Содержание!D2","v":0}]
[null,"НДС:",null,null,{"$f":"IF(Лист2!A1=TRUE,\"С НДС\",\"БЕЗ НДС\")","v":"С НДС"}]
[]
["Охлаждаемые стеллажи Italfrigo под выносное холодообеспечение"]
[]
[]
["№","Изображение","Артикул","Наименование",null,"Температурный режим,°C","Площадь экспозиции, кв.м.","Габариты, \n(LxWxH) мм","Габариты в упаковке, \n(LxWxH) мм","Базовая \nцена, руб.\n(с НДС)",{"$f":"[5]Лист2!$A$5","v":"Ваша цена, руб."}]
[]
[1,"Охлаждаемые стеллажи RIMINI",null,null,null,null,null,null,null,"Опции Rimini"]
[]
["Базовая комплектация стеллажа:\n- без противоударного бампера\n- внутренний объем - оцинкованный металл\n- внутренняя поверхность ванны из оцинкованного пластификата (двойная защита от коррозии);\n- электронный контроллер для управления работой оборудования;\n- без освещения\n- без полок\n- цифрофой термометр;\n- механический ТРВ Sanhua\n-стандартная упаковка на поддоне, опцонально в деревянной обрешетке\n- блок остекления со стеклопакетом для стеллажей DG\n- ночная шторкa для открытого стеллажа\n- стандартные вентиляторы\n- комплект подключения к системе дренажа\n- Стеллажи производятся в разобранном виде \"BOX\"\n- без боковин\n- упаковка в деревянной обрешетке\n\nХарактеристика:EL.S.Y.0.0.PS.0.внеш 7016гл_внутр 7016гл",null,null,"Комплектация \"Фрукты-овощи\"\n+ к базовой комплектации:\n- Общее светодиодное освещение, стандартный - 4000К, опционально 2700К, 6500К;\n- 3 ряда полок с ценникодержателем  (Rimini L7/H7 - полки глубиной 400 мм., Rimini L9/H9 - полки глубиной 500 мм., Rimini H10 - полки глубиной 600 мм.);\n- комплект наклонного зеркала\n- наклонная решетка для базовой полки\n\nКомплект наклонного зекрала и наклонной решетки для базовой полки в отдельном ящике\n\n\nХарактеристика:EL.S.Y.2.3.PS.Т.внеш 7016гл_внутр 7016гл",null,"Комплектация \"Гастрономия\"\n+ к базовой комплектации:\n- Общее светодиодное освещение, стандартный - 4000К, опционально 2700К, 6500К, \n- 5 рядов полок с ценникодержателем (Rimini L7/H7 - полки глубиной 400 мм., Rimini L9/H9 - полки глубиной 500 мм., Rimini H10 - полки глубиной 600 мм.);\n\n\nХарактеристика:EL.S.Y.2.5.PS.0.внеш 7016гл_внутр 7016гл"]
["Rimini L7 BOX Открытое исполнение  (ночные шторки)"]
[null,null,"IRML7B 125","Стеллаж охлаждаемый ВПВ С (Italfrigo Rimini L7 BOX 1250 Д)","гастрономическая","0…+7 С",3.12,"1250х700х1964","2130х1110х850",119461,{"$f":"ROUND(J15*(1-$E$3)/Лист2!$A$6,0)","v":119461}]
[null,null,null,null,"базовая (пустая)",null,null,null,null,108038.28640000003,{"$f":"ROUND(J16*(1-$E$3)/Лист2!$A$6,0)","v":108038}]
[null,null,"IRML7В 188","Стеллаж охлаждаемый ВПВ С (Italfrigo Rimini L7 BOX 1875 Д)","гастрономическая","0…+7 С",4.68,"1875х700х1964","2265х1110х850",162978,{"$f":"ROUND(J17*(1-$E$3)/Лист2!$A$6,0)","v":162978}]
[null,null,null,null,"базовая (пустая)",null,null,null,null,143032.84160000004,{"$f":"ROUND(J18*(1-$E$3)/Лист2!$A$6,0)","v":143033},null,null,null,"`"]
[null,null,"IRML7В 250","Стеллаж охлаждаемый ВПВ С (Italfrigo Rimini L7 BOX 2500 Д)","гастрономическая","0…+7 С",6.25,"2500х700х1964","2700х1110х850",193518,{"$f":"ROUND(J19*(1-$E$3)/Лист2!$A$6,0)","v":193518}]
[null,null,null,null,"базовая (пустая)",null,null,null,null,171578.62920000002,{"$f":"ROUND(J20*(1-$E$3)/Лист2!$A$6,0)","v":171579}]
[null,null,"IRML7В 375","Стеллаж охлаждаемый ВПВ С (Italfrigo Rimini L7 BOX 3750 Д)","гастрономическая","0…+7 С",9.4,"3750х700х1964","4000х1110х850",258054,{"$f":"ROUND(J21*(1-$E$3)/Лист2!$A$6,0)","v":258054}]
[null,null,null,null,"базовая (пустая)",null,null,null,null,225982.49858337126,{"$f":"ROUND(J22*(1-$E$3)/Лист2!$A$6,0)","v":225982}]
["Rimini L7 DG BOX Фронтальный блок остекления - стеклопакет (DG - Double Glass)"]
[null,null,"IRML7DB 125","Стеллаж охлаждаемый ВПВ С (Italfrigo Rimini L7 DG BOX 1250 Д)","гастрономическая","-1…+6 С",3.12,"1250х700х1964","2130х1180х850",128851,{"$f":"ROUND(J24*(1-$E$3)/Лист2!$A$6,0)","v":128851}]
[null,null,null,null,"базовая (пустая)",null,null,null,null,117427.74426673292,{"$f":"ROUND(J25*(1-$E$3)/Лист2!$A$6,0)","v":117428}]
[null,null,"IRML7DB 188","Стеллаж охлаждаемый ВПВ С (Italfrigo Rimini L7 DG BOX 1875 Д)","гастрономическая","-1…+6 С",4.68,"1875х700х1964","2265х1180х850",183497,{"$f":"ROUND(J26*(1-$E$3)/Лист2!$A$6,0)","v":183497}]
[null,null,null,null,"базовая (пустая)",null,null,null,null,163551.67242867028,{"$f":"ROUND(J27*(1-$E$3)/Лист2!$A$6,0)","v":163552}]
[null,null,"IRML7DB 250","Стеллаж охлаждаемый ВПВ С (Italfrigo Rimini L7 DG BOX 2500 Д)","гастрономическая","-1…+6 С",6.25,"2500х700х1964","2700х1180х850",217697,{"$f":"ROUND(J28*(1-$E$3)/Лист2!$A$6,0)","v":217697}]
[null,null,null,null,"базовая (пустая)",null,null,null,null,195756.86324564373,{"$f":"ROUND(J29*(1-$E$3)/Лист2!$A$6,0)","v":195757}]
[null,null,"IRML7DB 375","Стеллаж охлаждаемый ВПВ С (Italfrigo Rimini L7 DG BOX 3750 Д)","гастрономическая","-1…+6 С",9.4,"3750х700х1964","4000х1180х850",309983,{"$f":"ROUND(J30*(1-$E$3)/Лист2!$A$6,0)","v":309983}]
[null,null,null,null,"базовая (пустая)",null,null,null,null,277912.03639309114,{"$f":"ROUND(J31*(1-$E$3)/Лист2!$A$6,0)","v":277912}]
["Rimini Н7 BOX Открытое исполнение  (ночные шторки)"]
[null,null,"IRMН7B 125","Стеллаж охлаждаемый ВПВ С (Italfrigo Rimin Н7 BOX 1250 Д)","гастрономическая","0…+7 С",3.12,"1250х700х2164","2130х1110х850",121666,{"$f":"ROUND(J33*(1-$E$3)/Лист2!$A$6,0)","v":121666}]
[null,null,null,null,"базовая (пустая)",null,null,null,null,110243.53560000002,{"$f":"ROUND(J34*(1-$E$3)/Лист2!$A$6,0)","v":110244}]
[null,null,"IRMН7В 188","Стеллаж охлаждаемый ВПВ С (Italfrigo Rimini Н7 BOX 1875 Д)","гастрономическая","0…+7 С",4.68,"1875х700х2164","2265х1110х850",165897,{"$f":"ROUND(J35*(1-$E$3)/Лист2!$A$6,0)","v":165897}]
[null,null,null,null,"базовая (пустая)",null,null,null,null,145951.65200000003,{"$f":"ROUND(J36*(1-$E$3)/Лист2!$A$6,0)","v":145952}]
[null,null,"IRMН7В 250","Стеллаж охлаждаемый ВПВ С (Italfrigo Rimini Н7 BOX 2500 Д)","гастрономическая","0…+7 С",6.25,"2500х700х2164","2700х1110х850",197019,{"$f":"ROUND(J37*(1-$E$3)/Лист2!$A$6,0)","v":197019}]
[null,null,null,null,"базовая (пустая)",null,null,null,null,175079.64320000002,{"$f":"ROUND(J38*(1-$E$3)/Лист2!$A$6,0)","v":175080}]
[null,null,"IRMН7В 375","Стеллаж охлаждаемый ВПВ С (Italfrigo Rimini Н7 BOX 3750 Д)","гастрономическая","0…+7 С",9.4,"3750х700х2164","4000х1110х850",262666,{"$f":"ROUND(J39*(1-$E$3)/Лист2!$A$6,0)","v":262666}]
[null,null,null,null,"базовая (пустая)",null,null,null,null,230594.38630956202,{"$f":"ROUND(J40*(1-$E$3)/Лист2!$A$6,0)","v":230594}]
["Rimini Н7 DG BOX Фронтальный блок остекления - стеклопакет (DG - Double Glass)"]
[null,null,"IRMH7DB 125","Стеллаж охлаждаемый ВПВ С (Italfrigo Rimini Н7 DG BOX 1250 Д)","гастрономическая","-1…+6 С",3.12,"1250х700х2164","2130х1180х850",130286,{"$f":"ROUND(J42*(1-$E$3)/Лист2!$A$6,0)","v":130286}]
[null,null,null,null,"базовая (пустая)",null,null,null,null,118863.26610958802,{"$f":"ROUND(J43*(1-$E$3)/Лист2!$A$6,0)","v":118863}]
[null,null,"IRMH7DB 188","Стеллаж охлаждаемый ВПВ С (Italfrigo Rimini Н7 DG BOX 1875 Д)","гастрономическая","-1…+6 С",4.68,"1875х700х2164","2265х1180х850",185950,{"$f":"ROUND(J44*(1-$E$3)/Лист2!$A$6,0)","v":185950}]
[null,null,null,null,"базовая (пустая)",null,null,null,null,166004.94751510015,{"$f":"ROUND(J45*(1-$E$3)/Лист2!$A$6,0)","v":166005}]
[null,null,"IRMH7DB 250","Стеллаж охлаждаемый ВПВ С (Italfrigo Rimini Н7 DG BOX 2500 Д)","гастрономическая","-1…+6 С",6.25,"2500х700х2164","2700х1180х850",220633,{"$f":"ROUND(J46*(1-$E$3)/Лист2!$A$6,0)","v":220633}]
[null,null,null,null,"базовая (пустая)",null,null,null,null,198693.06600000002,{"$f":"ROUND(J47*(1-$E$3)/Лист2!$A$6,0)","v":198693}]
[null,null,"IRMH7DB 375","Стеллаж охлаждаемый ВПВ С (Italfrigo Rimini Н7 DG BOX 3750 Д)","гастрономическая","-1…+6 С",9.4,"3750х700х2164","4000х1180х850",314152.25543466577,{"$f":"ROUND(J48*(1-$E$3)/Лист2!$A$6,0)","v":314152}]
[null,null,null,null,"базовая (пустая)",null,null,null,null,282080.71693898726,{"$f":"ROUND(J49*(1-$E$3)/Лист2!$A$6,0)","v":282081}]
["Rimini L9 BOX Открытое исполнение  (ночные шторки)"]
[null,null,"IRML9B 125","Стеллаж охлаждаемый ВПВ С (Italfrigo Rimini L9 BOX 1250 Д)","гастрономическая","0…+7 С",4.01,"1250х910х1964","2130х1110х850",122554,{"$f":"ROUND(J51*(1-$E$3)/Лист2!$A$6,0)","v":122554}]
[null,null,null,null,"базовая (пустая)",null,null,null,null,108571.50920000001,{"$f":"ROUND(J52*(1-$E$3)/Лист2!$A$6,0)","v":108572}]
[null,null,"IRML9B 188","Стеллаж охлаждаемый ВПВ С (Italfrigo Rimini L9 BOX 1875 Д)","гастрономическая","0…+7 С",6.01,"1875х910х1964","2265х1110х850",166499,{"$f":"ROUND(J53*(1-$E$3)/Лист2!$A$6,0)","v":166499}]
[null,null,null,null,"базовая (пустая)",null,null,null,null,143770.89320000002,{"$f":"ROUND(J54*(1-$E$3)/Лист2!$A$6,0)","v":143771}]
[null,null,"IRML9B 250","Стеллаж охлаждаемый ВПВ С (Italfrigo Rimini L9 BOX 2500 Д)","гастрономическая","0…+7 С",8.02,"2500х910х1964","2700х1110х850",199632,{"$f":"ROUND(J55*(1-$E$3)/Лист2!$A$6,0)","v":199632}]
[null,null,null,null,"базовая (пустая)",null,null,null,null,172571.60360000003,{"$f":"ROUND(J56*(1-$E$3)/Лист2!$A$6,0)","v":172572}]
[null,null,"IRML9B 375","Стеллаж охлаждаемый ВПВ С (Italfrigo Rimini L9 BOX 3750 Д)","гастрономическая","0…+7 С",12.03,"3750х910х1964","4000х1110х850",260942,{"$f":"ROUND(J57*(1-$E$3)/Лист2!$A$6,0)","v":260942}]
[null,null,null,null,"базовая (пустая)",null,null,null,null,221188.90206630016,{"$f":"ROUND(J58*(1-$E$3)/Лист2!$A$6,0)","v":221189}]
["Rimini L9 DG BOX Фронтальный блок остекления - стеклопакет (DG - Double Glass)"]
[null,null,"IRML9DB 125","Стеллаж охлаждаемый ВПВ С (Italfrigo Rimini L9 DG BOX 1250 Д)","гастрономическая","-1…+6 С",4.01,"1250х910х1964","2130х1180х850",145009,{"$f":"ROUND(J60*(1-$E$3)/Лист2!$A$6,0)","v":145009}]
[null,null,null,null,"базовая (пустая)",null,null,null,null,131025.88842262921,{"$f":"ROUND(J61*(1-$E$3)/Лист2!$A$6,0)","v":131026}]
[null,null,"IRML9DB 188","Стеллаж охлаждаемый ВПВ С (Italfrigo Rimini L9 DG BOX 1875 Д)","гастрономическая","-1…+6 С",6.01,"1875х910х1964","2265х1180х850",199148,{"$f":"ROUND(J62*(1-$E$3)/Лист2!$A$6,0)","v":199148}]
[null,null,null,null,"базовая (пустая)",null,null,null,null,176420.68441157159,{"$f":"ROUND(J63*(1-$E$3)/Лист2!$A$6,0)","v":176421}]
[null,null,"IRML9DB 250","Стеллаж охлаждаемый ВПВ С (Italfrigo Rimini L9 DG BOX 2500 Д)","гастрономическая","-1…+6 С",8.02,"2500х910х1964","2700х1180х850",246297,{"$f":"ROUND(J64*(1-$E$3)/Лист2!$A$6,0)","v":246297}]
[null,null,null,null,"базовая (пустая)",null,null,null,null,219236.23062841501,{"$f":"ROUND(J65*(1-$E$3)/Лист2!$A$6,0)","v":219236}]
[null,null,"IRML9DB 375","Стеллаж охлаждаемый ВПВ С (Italfrigo Rimini L9 DG BOX 3750 Д)","гастрономическая","-1…+6 С",12.03,"3750х910х1964","4000х1180х850",345738,{"$f":"ROUND(J66*(1-$E$3)/Лист2!$A$6,0)","v":345738}]
[null,null,null,null,"базовая (пустая)",null,null,null,null,305984.99796334479,{"$f":"ROUND(J67*(1-$E$3)/Лист2!$A$6,0)","v":305985}]
["Rimini Н9 BOX Открытое исполнение  (ночные шторки)"]
[null,null,"IRMH9B 125","Стеллаж охлаждаемый ВПВ С (Italfrigo Rimini H9 BOX 1250 Д)","гастрономическая","0…+7 С",4.01,"1250х910х2164","2130х1110х850",127470,{"$f":"ROUND(J69*(1-$E$3)/Лист2!$A$6,0)","v":127470}]
[null,null,null,null,"базовая (пустая)",null,null,null,null,113487.40040000003,{"$f":"ROUND(J70*(1-$E$3)/Лист2!$A$6,0)","v":113487}]
[null,null,"IRMH9B 188","Стеллаж охлаждаемый ВПВ С (Italfrigo Rimini H9 BOX 1875 Д)","гастрономическая","0…+7 С",6.01,"1875х910х2164","2265х1110х850",172369,{"$f":"ROUND(J71*(1-$E$3)/Лист2!$A$6,0)","v":172369}]
[null,null,null,null,"базовая (пустая)",null,null,null,null,149640.79680000004,{"$f":"ROUND(J72*(1-$E$3)/Лист2!$A$6,0)","v":149641}]
[null,null,"IRMH9B 250","Стеллаж охлаждаемый ВПВ С (Italfrigo Rimini H9 BOX 2500 Д)","гастрономическая","0…+7 С",8.02,"2500х910х2164","2700х1110х850",207076,{"$f":"ROUND(J73*(1-$E$3)/Лист2!$A$6,0)","v":207076}]
[null,null,null,null,"базовая (пустая)",null,null,null,null,180015.57200000004,{"$f":"ROUND(J74*(1-$E$3)/Лист2!$A$6,0)","v":180016}]
[null,null,"IRMH9B 375","Стеллаж охлаждаемый ВПВ С (Italfrigo Rimini H9 BOX 3750 Д)","гастрономическая","0…+7 С",12.03,"3750х910х2164","4000х1110х850",272334,{"$f":"ROUND(J75*(1-$E$3)/Лист2!$A$6,0)","v":272334}]
[null,null,null,null,"базовая (пустая)",null,null,null,null,232581.52747853653,{"$f":"ROUND(J76*(1-$E$3)/Лист2!$A$6,0)","v":232582}]
["Rimini Н9 DG BOX Фронтальный блок остекления - стеклопакет (DG - Double Glass)"]
[null,null,"IRMH9DB 125","Стеллаж охлаждаемый ВПВ С (Italfrigo Rimini H9 DG BOX 1250 Д)","гастрономическая","-1…+6 С",4.01,"1250х910х2164","2130х1180х850",147760,{"$f":"ROUND(J78*(1-$E$3)/Лист2!$A$6,0)","v":147760}]
[null,null,null,null,"базовая (пустая)",null,null,null,null,133777.08817953483,{"$f":"ROUND(J79*(1-$E$3)/Лист2!$A$6,0)","v":133777}]
[null,null,"IRMH9DB 188","Стеллаж охлаждаемый ВПВ С (Italfrigo Rimini H9 DG BOX 1875 Д)","гастрономическая","-1…+6 С",6.01,"1875х910х2164","2265х1180х850",194455,{"$f":"ROUND(J80*(1-$E$3)/Лист2!$A$6,0)","v":194455}]
[null,null,null,null,"базовая (пустая)",null,null,null,null,171726.44982635145,{"$f":"ROUND(J81*(1-$E$3)/Лист2!$A$6,0)","v":171726}]
[null,null,"IRMH9DB 250","Стеллаж охлаждаемый ВПВ С (Italfrigo Rimini H9 DG BOX 2500 Д)","гастрономическая","-1…+6 С",8.02,"2500х910х2164","2700х1180х850",246984,{"$f":"ROUND(J82*(1-$E$3)/Лист2!$A$6,0)","v":246984}]
[null,null,null,null,"базовая (пустая)",null,null,null,null,219924.03056764143,{"$f":"ROUND(J83*(1-$E$3)/Лист2!$A$6,0)","v":219924}]
[null,null,"IRMH9DB 375","Стеллаж охлаждаемый ВПВ С (Italfrigo Rimini H9 DG BOX 3750 Д)","гастрономическая","-1…+6 С",12.03,"3750х910х2164","4000х1180х850",351584,{"$f":"ROUND(J84*(1-$E$3)/Лист2!$A$6,0)","v":351584}]
[null,null,null,null,"базовая (пустая)",null,null,null,null,311831.2974467692,{"$f":"ROUND(J85*(1-$E$3)/Лист2!$A$6,0)","v":311831}]
["Rimini Н10 BOX Открытое исполнение  (ночные шторки)"]
[null,null,"IRMH10B 125","Стеллаж охлаждаемый ВПВ С (Italfrigo Rimini H10 BOX 1250 Д)","гастрономическая","0…+7 С",4.75,"1250х1000х2164","2130х1180х850",136832,{"$f":"ROUND(J87*(1-$E$3)/Лист2!$A$6,0)","v":136832}]
[null,null,null,null,"базовая (пустая)",null,null,null,null,121432.30880000003,{"$f":"ROUND(J88*(1-$E$3)/Лист2!$A$6,0)","v":121432}]
[null,null,"IRMH10B 188","Стеллаж охлаждаемый ВПВ С (Italfrigo Rimini H10 BOX 1875 Д)","гастрономическая","0…+7 С",7.12,"1875х1000х2164","2265х1180х850",184645,{"$f":"ROUND(J89*(1-$E$3)/Лист2!$A$6,0)","v":184645}]
[null,null,null,null,"базовая (пустая)",null,null,null,null,160116.00880000004,{"$f":"ROUND(J90*(1-$E$3)/Лист2!$A$6,0)","v":160116}]
[null,null,"IRMH10B 250","Стеллаж охлаждаемый ВПВ С (Italfrigo Rimini H10 BOX 2500 Д)","гастрономическая","0…+7 С",9.5,"2500х1000х2164","2700х1180х850",222511,{"$f":"ROUND(J91*(1-$E$3)/Лист2!$A$6,0)","v":222511}]
[null,null,null,null,"базовая (пустая)",null,null,null,null,192616.99600000007,{"$f":"ROUND(J92*(1-$E$3)/Лист2!$A$6,0)","v":192617}]
[null,null,"IRMH10B 375","Стеллаж охлаждаемый ВПВ С (Italfrigo Rimini H10 BOX 3750 Д)","гастрономическая","0…+7 С",14.25,"3750х1000х2164","4000х1180х850",283562,{"$f":"ROUND(J93*(1-$E$3)/Лист2!$A$6,0)","v":283562}]
[null,null,null,null,"базовая (пустая)",null,null,null,null,239558.97330289253,{"$f":"ROUND(J94*(1-$E$3)/Лист2!$A$6,0)","v":239559}]
["Rimini Н10 DG BOX Фронтальный блок остекления - стеклопакет (DG - Double Glass)"]
[null,null,"IRMH10DB 125","Стеллаж охлаждаемый ВПВ С (Italfrigo Rimini H10 DG BOX 1250 Д)","гастрономическая","-1…+6 С",4.75,"1250х1000х2164","2130х1180х850",150587,{"$f":"ROUND(J96*(1-$E$3)/Лист2!$A$6,0)","v":150587}]
[null,null,null,null,"базовая (пустая)",null,null,null,null,135187.33800000002,{"$f":"ROUND(J97*(1-$E$3)/Лист2!$A$6,0)","v":135187}]
[null,null,"IRMH10DB 188","Стеллаж охлаждаемый ВПВ С (Italfrigo Rimini H10 DG BOX 1875 Д)","гастрономическая","-1…+6 С",7.12,"1875х1000х2164","2265х1180х850",203873,{"$f":"ROUND(J98*(1-$E$3)/Лист2!$A$6,0)","v":203873}]
[null,null,null,null,"базовая (пустая)",null,null,null,null,179343.83415328382,{"$f":"ROUND(J99*(1-$E$3)/Лист2!$A$6,0)","v":179344}]
[null,null,"IRMH10DB 250","Стеллаж охлаждаемый ВПВ С (Italfrigo Rimini H10 DG BOX 2500 Д)","гастрономическая","-1…+6 С",9.5,"2500х1000х2164","2700х1180х850",256782,{"$f":"ROUND(J100*(1-$E$3)/Лист2!$A$6,0)","v":256782}]
[null,null,null,null,"базовая (пустая)",null,null,null,null,226888.00495230875,{"$f":"ROUND(J101*(1-$E$3)/Лист2!$A$6,0)","v":226888}]
[null,null,"IRMH10DB 375","Стеллаж охлаждаемый ВПВ С (Italfrigo Rimini H10 DG BOX 3750 Д)","гастрономическая","-1…+6 С",14.25,"3750х1000х2164","4000х1180х850",374200,{"$f":"ROUND(J102*(1-$E$3)/Лист2!$A$6,0)","v":374200}]
[null,null,null,null,"базовая (пустая)",null,null,null,null,331536.7657056055,{"$f":"ROUND(J103*(1-$E$3)/Лист2!$A$6,0)","v":331537}]
[2,"Охлаждаемые стеллажи полувертикальные LAZIO",null,null,null,null,null,null,null,"Опции Rimini"]
[]
["Базовая комплектация стеллажа:\n- без противоударного бампера\n- внутренний объем - оцинкованный металл\n- внутренняя поверхность ванны из оцинкованного пластификата (двойная защита от коррозии);\n- электронный контроллер для управления работой оборудования;\n- без освещения\n- без полок\n- цифрофой термометр;\n- механический ТРВ Sanhua\n-стандартная упаковка на поддоне, опцонально в деревянной обрешетке\n- блок остекления со стеклопакетом для стеллажей DG\n- ночная шторкa для открытого стеллажа\n- стандартные вентиляторы\n- комплект подключения к системе дренажа\n- без боковин\n- упаковка на поддоне\n\nХарактеристика:EL.S.Y.0.0.PS.0.внеш 7016гл_внутр 7016гл",null,null,"Комплектация \"Фрукты-овощи\"\n+ к базовой комплектации:\n- Общее светодиодное освещение, стандартный - 4000К, опционально 2700К, 6500К;\n- 2 ряда полок с ценникодержателем - полки глубиной 400 мм.и глубиной 500 мм.\n- наклонная решетка для базовой полки\n\nКомплект наклонного зекрала и наклонной решетки для базовой полки в отдельном ящике\n\nХарактеристика:EL.S.Y.2.2.PS.T.внеш 7016гл_внутр 7016гл",null,"Комплектация \"Гастрономия\"\n+ к базовой комплектации:\n- Общее светодиодное освещение, стандартный - 4000К, опционально 2700К, 6500К, \n- 3 ряда полок с ценникодержателем полки глубиной 300мм,400 мм. 500 мм.;\n\nХарактеристика:EL.S.Y.2.3.PS.0.внеш 7016гл_внутр 7016гл\n"]
["LAZIO S9, Открытое исполнение  (ночные шторки)"]
[null,null,"ILZS9 125","Стеллаж охлаждаемый полувертикальный ВПВ С (Italfrigo Lazio S9 1250 Д)","гастрономическая","0…+7 С",2.34,"1250х910х1562","1450х1020х1665/ 1500х1070х1715",108974,{"$f":"ROUND(J108*(1-$E$3)/Лист2!$A$6,0)","v":108974}]
[null,null,null,null,"базовая (пустая)",null,null,null,null,94782.333967821629,{"$f":"ROUND(J109*(1-$E$3)/Лист2!$A$6,0)","v":94782}]
[null,null,"ILZS9  188","Стеллаж охлаждаемый полувертикальный ВПВ С (Italfrigo Lazio S9 1875 Д)","гастрономическая","0…+7 С",3.5,"1875х910х1562","2080х1020х1665/ 2130х1070х1715",132468,{"$f":"ROUND(J110*(1-$E$3)/Лист2!$A$6,0)","v":132468}]
[null,null,null,null,"базовая (пустая)",null,null,null,null,117286.88745151885,{"$f":"ROUND(J111*(1-$E$3)/Лист2!$A$6,0)","v":117287}]
[null,null,"ILZS9  250","Стеллаж охлаждаемый полувертикальный ВПВ С (Italfrigo Lazio S9 2500 Д)","гастрономическая","0…+7 С",4.68,"2500х910х1562","2700х1020х1665/ 2750х1070х1715",158605,{"$f":"ROUND(J112*(1-$E$3)/Лист2!$A$6,0)","v":158605}]
[null,null,null,null,"базовая (пустая)",null,null,null,null,142012.2600294225,{"$f":"ROUND(J113*(1-$E$3)/Лист2!$A$6,0)","v":142012}]
[null,null,"ILZS9  375","Стеллаж  охлаждаемый полувертикальный ВПВ С (Italfrigo Lazio S9 3750 Д)","гастрономическая","0…+7 С",7.02,"3750х910х1562","3950х1020х1665/ 4000х1070х1715",217788,{"$f":"ROUND(J114*(1-$E$3)/Лист2!$A$6,0)","v":217788}]
[null,null,null,null,"базовая (пустая)",null,null,null,null,194329.08531215295,{"$f":"ROUND(J115*(1-$E$3)/Лист2!$A$6,0)","v":194329}]
[null,null,"ILZS9Т  188","Стеллаж  охлаждаемый полувертикальный торцевой ВПВ С (Italfrigo Lazio S9 1875 Д)","гастрономическая","0…+7 С",3.5,"1950х910х1562","2080х1020х1665/ 2130х1070х1715",158784,{"$f":"ROUND(J116*(1-$E$3)/Лист2!$A$6,0)","v":158784}]
[null,null,null,null,"базовая (пустая)",null,null,null,null,143602.35561988922,{"$f":"ROUND(J117*(1-$E$3)/Лист2!$A$6,0)","v":143602}]
["LAZIO S10, Открытое исполнение  (ночные шторки)"]

{"sheet":"Gamma в линию","index":10,"n_rows":34,"n_cols":51,"rows_kept":34,"cut":false,"hidden":true,"merged":[[1,0,1,49],[2,0,2,49],[6,2,9,2],[6,4,9,13],[6,15,9,24],[6,26,9,35],[6,37,9,37],[17,2,17,44],[17,45,17,49],[12,2,12,44],[12,45,12,49],[13,2,13,25],[13,26,13,44],[13,45,13,49],[14,2,14,25],[14,26,14,44],[14,45,14,49],[15,2,15,25],[15,26,15,44],[15,45,15,49],[16,2,16,44],[16,45,16,49],[22,41,25,41],[28,2,28,44],[28,45,28,49],[29,2,29,25],[29,26,29,44],[29,45,29,49],[22,2,25,2],[22,4,25,13],[22,15,25,15],[22,17,25,26],[22,28,25,28],[22,30,25,39],[32,2,32,44],[32,45,32,49],[33,2,33,44],[33,45,33,49],[30,2,30,25],[30,26,30,44],[30,45,30,49],[31,2,31,25],[31,26,31,44],[31,45,31,49]]}
["Примечания:",null,null,null,null,null,null,null,null,null,null,null,null,null,null,null,null,null,null,null,null,null,null,null,null,null,null,null,null,null,null,null,null,null,null,null,null,null,null,null,null,null,null,null,null,null,null,null,null,null,"В содержание"]
["1. Витрины с различными температурными режимами желательно разделять боковинами"]
["2. В комплект герметичного разделителя входит комплект соединительный"]
[]
["1. Линия витрин GAMMA-2"]
[]
[null,null,"боковина",null,"GAMMA-2 ББ",null,null,null,null,null,null,null,null,null,null,"GAMMA-2 ББ",null,null,null,null,null,null,null,null,null,null,"GAMMA-2 ББ",null,null,null,null,null,null,null,null,null,null,"боковина"]
[]
[]
[]
[]
[null,null,"Вариант спецификации"]
[null,null,"Наименование",null,null,null,null,null,null,null,null,null,null,null,null,null,null,null,null,null,null,null,null,null,null,null,null,null,null,null,null,null,null,null,null,null,null,null,null,null,null,null,null,null,null,"Кол-во"]
[null,null,"Gamma-2 1200",null,null,null,null,null,null,null,null,null,null,null,null,null,null,null,null,null,null,null,null,null,null,null,"без боковин",null,null,null,null,null,null,null,null,null,null,null,null,null,null,null,null,null,null,1]
[null,null,"Gamma-2 1500",null,null,null,null,null,null,null,null,null,null,null,null,null,null,null,null,null,null,null,null,null,null,null,"без боковин",null,null,null,null,null,null,null,null,null,null,null,null,null,null,null,null,null,null,1]
[null,null,"Gamma-2 1800",null,null,null,null,null,null,null,null,null,null,null,null,null,null,null,null,null,null,null,null,null,null,null,"без боковин",null,null,null,null,null,null,null,null,null,null,null,null,null,null,null,null,null,null,1]
[null,null,"Комплект соединительный 337.50.00.00 для ВПС/ВПСН/ВПН Gamma-2",null,null,null,null,null,null,null,null,null,null,null,null,null,null,null,null,null,null,null,null,null,null,null,null,null,null,null,null,null,null,null,null,null,null,null,null,null,null,null,null,null,null,2]
[null,null,"Комплект боковин 337.40.00.00 для ВПС/ВПСН Gamma 2",null,null,null,null,null,null,null,null,null,null,null,null,null,null,null,null,null,null,null,null,null,null,null,null,null,null,null,null,null,null,null,null,null,null,null,null,null,null,null,null,null,null,1]
[]
[]
["2. Линия витрин GAMMA-2 через герметичный разделитель"]
[]
[null,null,"боковина",null,"GAMMA-2 ББ",null,null,null,null,null,null,null,null,null,null,"герм.разд.",null,"GAMMA-2 ББ",null,null,null,null,null,null,null,null,null,null,"герм.разд.",null,"GAMMA-2 ББ",null,null,null,null,null,null,null,null,null,null,"боковина"]
[]
[]
[]
[]
[null,null,"Вариант спецификации"]
[null,null,"Наименование",null,null,null,null,null,null,null,null,null,null,null,null,null,null,null,null,null,null,null,null,null,null,null,null,null,null,null,null,null,null,null,null,null,null,null,null,null,null,null,null,null,null,"Кол-во"]
[null,null,"Gamma-2 1200",null,null,null,null,null,null,null,null,null,null,null,null,null,null,null,null,null,null,null,null,null,null,null,"без боковин",null,null,null,null,null,null,null,null,null,null,null,null,null,null,null,null,null,null,1]
[null,null,"Gamma-2 1500",null,null,null,null,null,null,null,null,null,null,null,null,null,null,null,null,null,null,null,null,null,null,null,"без боковин",null,null,null,null,null,null,null,null,null,null,null,null,null,null,null,null,null,null,1]
[null,null,"Gamma-2 1800",null,null,null,null,null,null,null,null,null,null,null,null,null,null,null,null,null,null,null,null,null,null,null,"без боковин",null,null,null,null,null,null,null,null,null,null,null,null,null,null,null,null,null,null,1]
[null,null,"Комплект герметичного разделителя 337.83.00.00 для ВПС/ВПСН/ВПН Gamma-2",null,null,null,null,null,null,null,null,null,null,null,null,null,null,null,null,null,null,null,null,null,null,null,null,null,null,null,null,null,null,null,null,null,null,null,null,null,null,null,null,null,null,2]
[null,null,"Комплект боковин 337.40.00.00 для ВПС/ВПСН Gamma 2",null,null,null,null,null,null,null,null,null,null,null,null,null,null,null,null,null,null,null,null,null,null,null,null,null,null,null,null,null,null,null,null,null,null,null,null,null,null,null,null,null,null,1]

{"sheet":"Опции для горок Italfrigo","index":11,"n_rows":161,"n_cols":7,"rows_kept":161,"cut":false,"hidden":false,"merged":[[16,0,16,6],[1,1,1,2],[2,1,2,2],[3,1,3,2],[6,0,6,6],[7,0,7,6],[8,0,8,6],[8,7,9,9],[9,0,9,6],[10,0,10,6],[11,2,14,4],[15,0,15,6],[106,0,106,6],[22,0,22,6],[23,3,42,4],[43,0,43,6],[56,0,56,6],[64,0,64,6],[77,0,77,6],[84,0,84,6],[90,0,90,6],[92,0,92,6],[95,0,95,6],[113,0,113,6],[123,0,123,6],[141,0,141,6],[151,0,151,6],[160,5,162,5]]}
[null,null,null,null,"На главную"]
[]
[null,"Ваша скидка:",null,{"$f":"Содержание!D2","v":0}]
[null,"НДС:",null,{"$f":"IF(Лист2!A1=TRUE,\"С НДС\",\"БЕЗ НДС\")","v":"С НДС"}]
[]
[]
["Опции для витрин Cryspi"]
["Rimini/ Lazio"]
["Обязательные опции для базовой комплектации Solo. Дополнительные опции для гастрономической комплектации Solo. "]
["Общее освещение"]
["                                                                                               Нейтральный свет (4000-4500К) подходит всем товарным категориям (не искажает натуральный цвет продуктов).                                                                                                                                           Тёплый свет (2700-3000К) подходит категории \"Фрукты, овощи, сыры\" (категория выглядит ярче, насыщеннее).                                                                                     Мясной свет подходит категории \"Мясо, мясная гастрономия\" (категория выглядит ярче, насыщеннее)"]
[1,"Комплект горизонтального освещения 1106.89.00.00 L=1250 для Rimini/Lazio","Спектр освещения определяется характеристикой (третий символ, \"1\" - 3000К, \"2\" -  4000)",null,null,1768,{"$f":"ROUND(F12*(1-$D$3)/Лист2!$A$6,0)","v":1768}]
[2,"Комплект горизонтального освещения 1106.89.00.00-01 L=1875 для Rimini/Lazio",null,null,null,2346,{"$f":"ROUND(F13*(1-$D$3)/Лист2!$A$6,0)","v":2346}]
[3,"Комплект горизонтального освещения 1106.89.00.00-02 L=2500 для Rimini/Lazio",null,null,null,2630,{"$f":"ROUND(F14*(1-$D$3)/Лист2!$A$6,0)","v":2630}]
[4,"Комплект горизонтального освещения 1106.89.00.00-03 L=3750 для Rimini/Lazio",null,null,null,3108,{"$f":"ROUND(F15*(1-$D$3)/Лист2!$A$6,0)","v":3108}]
["Дополнительные опции д"]
["Вертикальная подсветка для DG"]
[{"$f":"A15+1","v":5},"Комплект электрооттайки испарителя 1058.65.00.00 L=1250 для Rimini","1058.65.00.00",null,null,2679,{"$f":"ROUND(F18*(1-$D$3)/Лист2!$A$6,0)","v":2679}]
[{"$f":"A18+1","v":6},"Комплект электрооттайки испарителя 1058.65.00.00-01 L=1875 для Rimini","1058.65.00.00-01",null,null,3911,{"$f":"ROUND(F19*(1-$D$3)/Лист2!$A$6,0)","v":3911}]
[{"$f":"A19+1","v":7},"Комплект электрооттайки испарителя  1058.65.00.00-02 L=2500 для Rimini","1058.65.00.00-02",null,null,3985,{"$f":"ROUND(F20*(1-$D$3)/Лист2!$A$6,0)","v":3985}]
[8,"Комплект электрооттайки испарителя 1058.65.00.00-03 L=3750 для Rimini","1058.65.00.00-03",null,null,4945,{"$f":"ROUND(F21*(1-$D$3)/Лист2!$A$6,0)","v":4945}]
[13,"Монтажный набор 1106.120.00.00S ","1106.120.00.00S",null,null,9756,{"$f":"ROUND(F22*(1-$D$3)/Лист2!$A$6,0)","v":9756}]
["Подсветка полок (универсальная для полок разной глубины - 300, 400, 500 мм)                                                                                                                                                                                                                                           Нейтральный свет (4000-4500К) подходит всем товарным категориям (не искажает натуральный цвет продуктов).                                                                                                                                                                                           Тёплый свет (2700-3000К) подходит категории \"Фрукты, овощи, сыры\" (категория выглядит ярче, насыщеннее).                                                                                                                                                                                                 Мясной свет подходит категории \"Мясо, мясная гастрономия\" (категория выглядит ярче, насыщеннее)"]
[{"$f":"A22+1","v":14},"Комплект подсветки двух рядов полок T8 1058.91.00.00 для Rimini L=1250","1058.91.00.00","Спектр освещения определяется характеристикой                                        (третий символ, \"1\" - 3000К, \"2\" -  4000К)",null,5041,{"$f":"ROUND(F24*(1-$D$3)/Лист2!$A$6,0)","v":5041}]
[{"$f":"A24+1","v":15},"Комплект подсветки двух рядов полок T8 1058.91.00.00-01 для Rimini L=1875","1058.91.00.00-01",null,null,8885,{"$f":"ROUND(F25*(1-$D$3)/Лист2!$A$6,0)","v":8885}]
[16,"Комплект подсветки двух рядов полок T8 1058.91.00.00-02 для Rimini L=2500","1058.91.00.00-02",null,null,10127,{"$f":"ROUND(F26*(1-$D$3)/Лист2!$A$6,0)","v":10127}]
[17,"Комплект подсветки двух рядов полок T8 1058.91.00.00-03 для Rimini L=3750","1058.91.00.00-03",null,null,12563,{"$f":"ROUND(F27*(1-$D$3)/Лист2!$A$6,0)","v":12563}]
[18,"Комплект подсветки трёх рядов полок T8 1058.92.00.00 для Rimini L=1250","1058.92.00.00",null,null,6301,{"$f":"ROUND(F28*(1-$D$3)/Лист2!$A$6,0)","v":6301}]
[19,"Комплект подсветки трёх рядов полок T8 1058.92.00.00-01 для Rimini L=1875","1058.92.00.00-01",null,null,11107,{"$f":"ROUND(F29*(1-$D$3)/Лист2!$A$6,0)","v":11107}]
[20,"Комплект подсветки трёх рядов полок T8 1058.92.00.00-02 для Rimini L=2500","1058.92.00.00-02",null,null,12659,{"$f":"ROUND(F30*(1-$D$3)/Лист2!$A$6,0)","v":12659}]
[21,"Комплект подсветки трёх рядов полок T8 1058.92.00.00-03 для Rimini L=3750","1058.92.00.00-03",null,null,15704,{"$f":"ROUND(F31*(1-$D$3)/Лист2!$A$6,0)","v":15704}]
[22,"Комплект подсветки четырёх рядов полок T8 1058.93.00.00 для Rimini L=1250","1058.93.00.00",null,null,8106,{"$f":"ROUND(F32*(1-$D$3)/Лист2!$A$6,0)","v":8106}]
[23,"Комплект подсветки четырёх рядов полок T8 1058.93.00.00-01 для Rimini L=1875","1058.93.00.00-01",null,null,13573,{"$f":"ROUND(F33*(1-$D$3)/Лист2!$A$6,0)","v":13573}]
[24,"Комплект подсветки четырёх рядов полок T8 1058.93.00.00-02 для Rimini L=2500","1058.93.00.00-02",null,null,14683,{"$f":"ROUND(F34*(1-$D$3)/Лист2!$A$6,0)","v":14683}]
[25,"Комплект подсветки четырёх рядов полок T8 1058.93.00.00-03 для Rimini L=3750","1058.93.00.00-03",null,null,21254,{"$f":"ROUND(F35*(1-$D$3)/Лист2!$A$6,0)","v":21254}]
[26,"Комплект подсветки пяти рядов полок T8 1058.94.00.00 для Rimini L=1250","1058.94.00.00",null,null,9445,{"$f":"ROUND(F36*(1-$D$3)/Лист2!$A$6,0)","v":9445}]
[27,"Комплект подсветки пяти рядов полок T8 1058.94.00.00-01 для Rimini L=1875","1058.94.00.00-01",null,null,15917,{"$f":"ROUND(F37*(1-$D$3)/Лист2!$A$6,0)","v":15917}]
[28,"Комплект подсветки пяти рядов полок T8 1058.94.00.00-02 для Rimini L=2500","1058.94.00.00-02",null,null,17276,{"$f":"ROUND(F38*(1-$D$3)/Лист2!$A$6,0)","v":17276}]
[29,"Комплект подсветки пяти рядов полок T8 1058.94.00.00-03 для Rimini L=3750","1058.94.00.00-03",null,null,25384,{"$f":"ROUND(F39*(1-$D$3)/Лист2!$A$6,0)","v":25384}]
[30,"Комплект подсветки шести рядов полок T8 1058.95.00.00 для Rimini L=1250","1058.95.00.00",null,null,10495,{"$f":"ROUND(F40*(1-$D$3)/Лист2!$A$6,0)","v":10495}]
[31,"Комплект подсветки шести рядов полок T8 1058.95.00.00-01 для Rimini L=1875","1058.95.00.00-01",null,null,17768,{"$f":"ROUND(F41*(1-$D$3)/Лист2!$A$6,0)","v":17768}]
[32,"Комплект подсветки шести рядов полок T8 1058.95.00.00-02 для Rimini L=2500","1058.95.00.00-02",null,null,20857,{"$f":"ROUND(F42*(1-$D$3)/Лист2!$A$6,0)","v":20857}]
[33,"Комплект подсветки шести рядов полок T8 1058.95.00.00-03 для Rimini L=3750","1058.95.00.00-03",null,null,31433,{"$f":"ROUND(F43*(1-$D$3)/Лист2!$A$6,0)","v":31433}]
["Дополнительные опции "]
[{"$f":"A43+1","v":34},"Комплект боковины глухой левой 1118.40.00.00 для Rimini H10","1118.40.00.00",null,null,14091,{"$f":"ROUND(F45*(1-$D$3)/Лист2!$A$6,0)","v":14091}]
[{"$f":"A45+1","v":35},"Комплект боковины глухой правой 1118.40.00.00mir для Rimini H10","1118.40.00.00mir",null,null,14091,{"$f":"ROUND(F46*(1-$D$3)/Лист2!$A$6,0)","v":14091}]
[{"$f":"A45+1","v":35},"Комплект боковины глухой левой 1058.40.00.00 для Rimini H9","1058.40.00.00",null,null,12252,{"$f":"ROUND(F47*(1-$D$3)/Лист2!$A$6,0)","v":12252}]
[36,"Комплект боковины глухой правой 1058.40.00.00mir для Rimini H9","1058.40.00.00mir",null,null,12252,{"$f":"ROUND(F48*(1-$D$3)/Лист2!$A$6,0)","v":12252}]
[{"$f":"A47+1","v":36},"Комплект боковины глухой левой 1109.40.00.00 для Rimini L9","1109.40.00.00",null,null,10571,{"$f":"ROUND(F49*(1-$D$3)/Лист2!$A$6,0)","v":10571}]
[37,"Комплект боковины глухой правой 1109.40.00.00mir для Rimini L9","1109.40.00.00mir",null,null,10571,{"$f":"ROUND(F50*(1-$D$3)/Лист2!$A$6,0)","v":10571}]
[{"$f":"A49+1","v":37},"Комплект боковины глухой левой 1112.40.00.00 для Rimini H7","1112.40.00.00",null,null,12221,{"$f":"ROUND(F51*(1-$D$3)/Лист2!$A$6,0)","v":12221}]
[38,"Комплект боковины глухой правой 1112.40.00.00mir для Rimini H7","1112.40.00.00mir",null,null,12221,{"$f":"ROUND(F52*(1-$D$3)/Лист2!$A$6,0)","v":12221}]
[{"$f":"A51+1","v":38},"Комплект боковины глухой левой 1115.40.00.00 для Rimini L7","1115.40.00.00",null,null,10725,{"$f":"ROUND(F53*(1-$D$3)/Лист2!$A$6,0)","v":10725}]
[39,"Комплект боковины глухой правой 1115.40.00.00mir для Rimini L7","1115.40.00.00mir",null,null,10725,{"$f":"ROUND(F54*(1-$D$3)/Лист2!$A$6,0)","v":10725}]
[{"$f":"A53+1","v":39},"Комплект боковины глухой левой 1215.40.00.00 для Lazio S9","1215.40.00.00",null,null,8588,{"$f":"ROUND(F55*(1-$D$3)/Лист2!$A$6,0)","v":8588}]
[40,"Комплект боковины глухой правой 1215.40.00.00mir для Lazio S9","1215.40.00.00mir",null,null,8588,{"$f":"ROUND(F56*(1-$D$3)/Лист2!$A$6,0)","v":8588}]
[]
[41,"Комплект боковины с зеркалом 1118.38.00.00 для Rimini H10","1118.38.00.00",null,null,14862,{"$f":"ROUND(F58*(1-$D$3)/Лист2!$A$6,0)","v":14862}]
[{"$f":"A58+1","v":42},"Комплект боковины с зеркалом 1058.38.00.00 для Rimini H9","1058.38.00.00",null,null,13611,{"$f":"ROUND(F59*(1-$D$3)/Лист2!$A$6,0)","v":13611}]
[{"$f":"A59+1","v":43},"Комплект боковины с зеркалом 1109.38.00.00 для Rimini L9","1109.38.00.00",null,null,12557,{"$f":"ROUND(F60*(1-$D$3)/Лист2!$A$6,0)","v":12557}]
[{"$f":"A60+1","v":44},"Комплект боковины с зеркалом 1112.38.00.00 для Rimini Н7","1112.38.00.00",null,null,12221,{"$f":"ROUND(F61*(1-$D$3)/Лист2!$A$6,0)","v":12221}]
[45,"Комплект боковины с зеркалом 1115.38.00.00 для Rimini L7","1115.38.00.00",null,null,11548,{"$f":"ROUND(F62*(1-$D$3)/Лист2!$A$6,0)","v":11548}]
[46,"Комплект боковины глухой левой с зеркалом 1215.37.00.00 для Lazio S9","1215.37.00.00",null,null,10528,{"$f":"ROUND(F63*(1-$D$3)/Лист2!$A$6,0)","v":10528}]
[47,"Комплект боковины глухой правой с зеркалом 1215.37.00.00mir для Lazio S9","1215.37.00.00mir",null,null,10528,{"$f":"ROUND(F64*(1-$D$3)/Лист2!$A$6,0)","v":10528}]
[]
[48,"Комплект боковины со стеклопакетом левой 1118.41.00.00 для Rimini H10","1118.41.00.00",null,null,16089,{"$f":"ROUND(F66*(1-$D$3)/Лист2!$A$6,0)","v":16089}]
[{"$f":"A66+1","v":49},"Комплект боковины со стеклопакетом правой 1118.41.00.00mir для Rimini H10","1118.41.00.00mir",null,null,16089,{"$f":"ROUND(F67*(1-$D$3)/Лист2!$A$6,0)","v":16089}]
[{"$f":"A66+1","v":49},"Комплект боковины со стеклопакетом левой 1058.41.00.00 для Rimini H9","1058.41.00.00",null,null,14411,{"$f":"ROUND(F68*(1-$D$3)/Лист2!$A$6,0)","v":14411}]
[{"$f":"A68+1","v":50},"Комплект боковины со стеклопакетом правой 1058.41.00.00mir для Rimini H9","1058.41.00.00mir",null,null,14411,{"$f":"ROUND(F69*(1-$D$3)/Лист2!$A$6,0)","v":14411}]
[{"$f":"A68+1","v":50},"Комплект боковины со стеклопакетом левой 1109.41.00.00 для Rimini L9","1109.41.00.00",null,null,13525,{"$f":"ROUND(F70*(1-$D$3)/Лист2!$A$6,0)","v":13525}]
[{"$f":"A70+1","v":51},"Комплект боковины со стеклопакетом правой 1109.41.00.00mir для Rimini L9","1109.41.00.00mir",null,null,13525,{"$f":"ROUND(F71*(1-$D$3)/Лист2!$A$6,0)","v":13525}]
[{"$f":"A70+1","v":51},"Комплект боковины со стеклопакетом левой 1112.41.00.00 для Rimini H7","1112.41.00.00",null,null,13103,{"$f":"ROUND(F72*(1-$D$3)/Лист2!$A$6,0)","v":13103}]
[{"$f":"A72+1","v":52},"Комплект боковины со стеклопакетом правой 1112.41.00.00mir для Rimini H7","1112.41.00.00mir",null,null,13103,{"$f":"ROUND(F73*(1-$D$3)/Лист2!$A$6,0)","v":13103}]
[{"$f":"A72+1","v":52},"Комплект боковины со стеклопакетом левой 1115.41.00.00 для Rimini L7","1115.41.00.00",null,null,11777,{"$f":"ROUND(F74*(1-$D$3)/Лист2!$A$6,0)","v":11777}]
[{"$f":"A74+1","v":53},"Комплект боковины со стеклопакетом правой 1115.41.00.00mir для Rimini L7","1115.41.00.00mir",null,null,11777,{"$f":"ROUND(F75*(1-$D$3)/Лист2!$A$6,0)","v":11777}]
[{"$f":"A74+1","v":53},"Комплект боковины со стеклопакетом левой 1215.41.00.00 для Lazio S9","1215.41.00.00",null,null,22110,{"$f":"ROUND(F76*(1-$D$3)/Лист2!$A$6,0)","v":22110}]
[{"$f":"A76+1","v":54},"Комплект боковины со стеклопакетом правой 1215.41.00.00mir для Lazio S9","1215.41.00.00mir",null,null,22110,{"$f":"ROUND(F77*(1-$D$3)/Лист2!$A$6,0)","v":22110}]
[]
[55,"Комплект герметичного разделителя (оргст) 1118.44.00.00 для Rimini H10","1118.44.00.00",null,null,20336,{"$f":"ROUND(F79*(1-$D$3)/Лист2!$A$6,0)","v":20336}]
[{"$f":"A79+1","v":56},"Комплект герметичного разделителя (оргст) 1058.44.00.00 для Rimini H9","1058.44.00.00",null,null,18200,{"$f":"ROUND(F80*(1-$D$3)/Лист2!$A$6,0)","v":18200}]
[{"$f":"A80+1","v":57},"Комплект герметичного разделителя (оргст) 1109.44.00.00 для Rimini L9","1109.44.00.00",null,null,16584,{"$f":"ROUND(F81*(1-$D$3)/Лист2!$A$6,0)","v":16584}]
[{"$f":"A81+1","v":58},"Комплект герметичного разделителя (оргст) 1112.44.00.00 для Rimini H7","1112.44.00.00",null,null,15740,{"$f":"ROUND(F82*(1-$D$3)/Лист2!$A$6,0)","v":15740}]
[59,"Комплект герметичного разделителя (оргст) 1115.44.00.00 для Rimini L7","1115.44.00.00",null,null,14190,{"$f":"ROUND(F83*(1-$D$3)/Лист2!$A$6,0)","v":14190}]
[60,"Комплект  герметичного разделителя (оргстекло) для 1215.44.00.00 Lazio S9","1215.44.00.00",null,null,15035,{"$f":"ROUND(F84*(1-$D$3)/Лист2!$A$6,0)","v":15035}]
[]
[{"$f":"A84+1","v":61},"Комплект зеркального герметичного разделителя 1118.45.00.00 для Rimini H10","1118.45.00.00",null,null,24569,{"$f":"ROUND(F86*(1-$D$3)/Лист2!$A$6,0)","v":24569}]
[{"$f":"A86+1","v":62},"Комплект зеркального герметичного разделителя 1058.45.00.00 для Rimini H9","1058.45.00.00",null,null,23734,{"$f":"ROUND(F87*(1-$D$3)/Лист2!$A$6,0)","v":23734}]
[{"$f":"A87+1","v":63},"Комплект зеркального герметичного разделителя 1109.45.00.00 для Rimini L9","1109.45.00.00",null,null,20792,{"$f":"ROUND(F88*(1-$D$3)/Лист2!$A$6,0)","v":20792}]
[{"$f":"A88+1","v":64},"Комплект зеркального герметичного разделителя 1112.45.00.00 для Rimini H7","1112.45.00.00",null,null,20792,{"$f":"ROUND(F89*(1-$D$3)/Лист2!$A$6,0)","v":20792}]
[{"$f":"A89+1","v":65},"Комплект зеркального герметичного разделителя 1112.45.00.00 для Rimini L7","1115.45.00.00",null,null,20335,{"$f":"ROUND(F90*(1-$D$3)/Лист2!$A$6,0)","v":20335}]
[]
[{"$f":"A90+1","v":66},"Комплект панорамного герметичного разделителя (стеклопакет) для Rimini H10","811.46.00.00",null,null,17030]
[]
[{"$f":"A92+1","v":67},"Комплект соединительный в линию для Rimini","1058.60.00.00",null,null,2186,{"$f":"ROUND(F94*(1-$D$3)/Лист2!$A$6,0)","v":2186}]
[{"$f":"A94+1","v":68},"Комплект соединительный в линию для 1215.60.00.00 для Lazio","1215.60.00.00",null,null,1079,{"$f":"ROUND(F95*(1-$D$3)/Лист2!$A$6,0)","v":1079}]
[]
[{"$f":"A95+1","v":69},"Полка навесная с кронштейнами (ОЦ) 1250х600 1106.65.00.00 для Rimini для исп1250,2500,3750","1106.65.00.00",null,null,2618,{"$f":"ROUND(F97*(1-$D$3)/Лист2!$A$6,0)","v":2618}]
[{"$f":"A97+1","v":70},"Полка навесная с кронштейнами (ОЦ) 937х600 1106.65.00.00-01 для Rimini для исп. 1875"," 1106.65.00.00-01",null,null,2143,{"$f":"ROUND(F98*(1-$D$3)/Лист2!$A$6,0)","v":2143}]
[{"$f":"A98+1","v":71},"Полка навесная с кронштейнами (ОЦ) 1250х500 1106.66.00.00 для Rimini для исп1250,2500,3750","1106.66.00.00",null,null,2335,{"$f":"ROUND(F99*(1-$D$3)/Лист2!$A$6,0)","v":2335}]
[72,"Полка навесная с кронштейнами (ОЦ) 937х500 1106.66.00.00-01 для Rimini для исп. 1875"," 1106.66.00.00-01",null,null,1963,{"$f":"ROUND(F100*(1-$D$3)/Лист2!$A$6,0)","v":1963}]
[73,"Полка навесная с кронштейнами (ОЦ) 1250х400 1106.62.00.00 для Rimini для исп1250,2500,3750","1106.62.00.00",null,null,1823,{"$f":"ROUND(F101*(1-$D$3)/Лист2!$A$6,0)","v":1823}]
[74,"Полка навесная с кронштейнами (ОЦ) 937х400 1106.62.00.00-01 для Rimini для исп. 1875"," 1106.62.00.00-01",null,null,1685,{"$f":"ROUND(F102*(1-$D$3)/Лист2!$A$6,0)","v":1685}]
[75,"Полка навесная с кронштейнами (ОЦ) 1250х300 1106.63.00.00 для Rimini/Lazio для исп1250,2500,3750","1106.63.00.00",null,null,1709,{"$f":"ROUND(F103*(1-$D$3)/Лист2!$A$6,0)","v":1709}]
[76,"Полка навесная с кронштейнами (ОЦ) 937х300 1106.63.00.00-01 для Rimini/Lazio для исп. 1875","1106.63.00.00-01",null,null,1572,{"$f":"ROUND(F104*(1-$D$3)/Лист2!$A$6,0)","v":1572}]
[77,"Ценникодержатель съемный,L=1250, T-TH 0100125, прозрачный","T-TH 0100125",null,null,108,{"$f":"ROUND(F105*(1-$D$3)/Лист2!$A$6,0)","v":108}]
[78,"Ценникодержатель съемный, L=925,  прозрачный","н№15085.2",null,null,75,{"$f":"ROUND(F106*(1-$D$3)/Лист2!$A$6,0)","v":75}]
[]
[{"$f":"A106+1","v":79},"Решетка базовая (фруктовая) 932х755 мм. для Rimini H10 для исп.1875","811.75.00.00",null,null,3433,{"$f":"ROUND(F108*(1-$D$3)/Лист2!$A$6,0)","v":3433}]
[{"$f":"A108+1","v":80},"Решетка базовая (фруктовая) 1245х755 мм. для Rimini H10 для исп.1250/2500/3750","811.75.00.00-01",null,null,4145,{"$f":"ROUND(F109*(1-$D$3)/Лист2!$A$6,0)","v":4145}]
[{"$f":"A109+1","v":81},"Решетка фруктовая (базовая), 932х635 мм. для Rimini H9/L9","781.75.00.00",null,null,3302,{"$f":"ROUND(F110*(1-$D$3)/Лист2!$A$6,0)","v":3302}]
[82,"Решетка фруктовая (базовая), 1245x635 мм. для Rimini H9/L9 1250/2500/3750","781.75.00.00-01",null,null,3653,{"$f":"ROUND(F111*(1-$D$3)/Лист2!$A$6,0)","v":3653}]
[83,"Решетка базовая (фруктовая) 932х455 мм. для Rimini H7/L7 для исп.1875","798.75.00.00",null,null,2480,{"$f":"ROUND(F112*(1-$D$3)/Лист2!$A$6,0)","v":2480}]
[84,"Решетка базовая (фруктовая) 1245х455 мм. для Rimini H7/L7 для исп.1250/2500/3750","798.75.00.00-01",null,null,2807,{"$f":"ROUND(F113*(1-$D$3)/Лист2!$A$6,0)","v":2807}]
[]
[{"$f":"A113+1","v":85},"Комплект зеркала наклонного 1118.53.00.00 L=1250 для Rimini H10","1118.53.00.00",null,null,3720,{"$f":"ROUND(F115*(1-$D$3)/Лист2!$A$6,0)","v":3720}]
[{"$f":"A115+1","v":86},"Комплект зеркала наклонного 1118.53.00.00-01 L=973 для Rimini H10","1118.53.00.00-01",null,null,3188,{"$f":"ROUND(F116*(1-$D$3)/Лист2!$A$6,0)","v":3188}]
[{"$f":"A116+1","v":87},"Комплект заглушек для зеркала наклонного 1118.52.00.00 для Rimini H10","1118.52.00.00",null,null,1109,{"$f":"ROUND(F117*(1-$D$3)/Лист2!$A$6,0)","v":1109}]
[88,"Комплект зеркала наклонного 1058.53.00.00 L=1250 для Rimini H9/L9","1058.53.00.00",null,null,3235,{"$f":"ROUND(F118*(1-$D$3)/Лист2!$A$6,0)","v":3235}]
[89,"Комплект зеркала наклонного 1058.53.00.00-01 L=973 для Rimini H9/L9","1058.53.00.00-01",null,null,2772,{"$f":"ROUND(F119*(1-$D$3)/Лист2!$A$6,0)","v":2772}]
[90,"Комплект заглушек для зеркала наклонного 1058.52.00.00 для Rimini H9/L9","1058.52.00.00",null,null,840,{"$f":"ROUND(F120*(1-$D$3)/Лист2!$A$6,0)","v":840}]
[91,"Комплект зеркала наклонного 1112.53.00.00 L=1250 для Rimini H7/L7","1112.53.00.00",null,null,2891,{"$f":"ROUND(F121*(1-$D$3)/Лист2!$A$6,0)","v":2891}]
[92,"Комплект зеркала наклонного 1112.53.00.00-01 L=973 для Rimini H7/L7","1112.53.00.00-01",null,null,2482,{"$f":"ROUND(F122*(1-$D$3)/Лист2!$A$6,0)","v":2482}]
[93,"Комплект заглушек для зеркала наклонного 1112.52.00.00 для Rimini H7/L7","1112.52.00.00",null,null,617,{"$f":"ROUND(F123*(1-$D$3)/Лист2!$A$6,0)","v":617}]
[]
[{"$f":"A123+1","v":94},"Разделитель объема для полок(600) для Rimini","717.115.00.00",null,null,3315,{"$f":"ROUND(F125*(1-$D$3)/Лист2!$A$6,0)","v":3315}]
[{"$f":"A125+1","v":95},"Разделитель объема для полок(500) для Rimini","646.116.00.00",null,null,2924,{"$f":"ROUND(F126*(1-$D$3)/Лист2!$A$6,0)","v":2924}]
[96,"Разделитель объема для полок(400) для Rimini","757.115.00.00",null,null,2029,{"$f":"ROUND(F127*(1-$D$3)/Лист2!$A$6,0)","v":2029}]
[97,"Делитель передвижной H=150 (500) оргст 646.51.00.01-01 L=1250/2500/3750 для стеллажей Italfrigo","646.51.00.01-01",null,null,747,{"$f":"ROUND(F128*(1-$D$3)/Лист2!$A$6,0)","v":747}]
[98,"Делитель передвижной H=150 (400) оргст 646.51.00.01 L=1250/2500/3750 для стеллажей Italfrigo","646.51.00.01",null,null,593,{"$f":"ROUND(F129*(1-$D$3)/Лист2!$A$6,0)","v":593}]
[99,"Фронтальный ограничитель(1250) оргст 646.54.00.01 L=1250/2500/3750 для стеллажей Italfrigo","646.54.00.01",null,null,562,{"$f":"ROUND(F130*(1-$D$3)/Лист2!$A$6,0)","v":562}]
[100,"Фронтальный ограничитель(937) оргст 646.54.00.01-01 L=1875 для стеллажей Italfrigo"," 646.54.00.01-01",null,null,542,{"$f":"ROUND(F131*(1-$D$3)/Лист2!$A$6,0)","v":542}]
[101,"Фронтальный ограничитель H=120 (1250) оргст 646.54.00.02 L=1250/2500/3750 для стеллажей Italfrigo","646.54.00.02",null,null,1661,{"$f":"ROUND(F132*(1-$D$3)/Лист2!$A$6,0)","v":1661}]
[102,"Фронтальный ограничитель H=120 (937) оргст 646.54.00.02-01 L=1875 для стеллажей Italfrigo"," 646.54.00.02-01",null,null,1300,{"$f":"ROUND(F133*(1-$D$3)/Лист2!$A$6,0)","v":1300}]
[103,"Фронтальный ограничитель Н=40мм, L=1250 (оргст) 646.54.00.03 L=1250/2500/3750 для Rimini/Lazio","646.54.00.03",null,null,681,{"$f":"ROUND(F134*(1-$D$3)/Лист2!$A$6,0)","v":681}]
[104,"Фронтальный ограничитель Н=40мм, L=937 (оргст) 646.54.00.03-01 L=1875 для Rimini/Lazio","646.54.00.03-01",null,null,319,{"$f":"ROUND(F135*(1-$D$3)/Лист2!$A$6,0)","v":319}]
[105,"Фронтальный ограничитель Н=60мм, L=1250 (оргст) 646.54.00.04 L=1250/2500/3750 для Rimini/Lazio","646.54.00.04",null,null,998,{"$f":"ROUND(F136*(1-$D$3)/Лист2!$A$6,0)","v":998}]
[106,"Фронтальный ограничитель Н=60мм, L=937 (оргст) 646.54.00.04-01 L=1875 для Rimini/Lazio","646.54.00.04-01",null,null,808,{"$f":"ROUND(F137*(1-$D$3)/Лист2!$A$6,0)","v":808}]
[107,"Ограничитель проволочный(ОЦ, полимерное покрытие) 1235х57мм 781.76.00.01","781.76.00.01",null,null,301,{"$f":"ROUND(F138*(1-$D$3)/Лист2!$A$6,0)","v":301}]
[108,"Ограничитель фронтальный проволочный 141.64.00.00 H=80 L=1250 для ВПВ Rimni/Lazio 1250/2500/3750","141.64.00.00",null,null,562,{"$f":"ROUND(F139*(1-$D$3)/Лист2!$A$6,0)","v":562}]
[109,"Ограничитель проволочный(ОЦ, полимерное покрытие) 926х57мм 781.76.00.01-01","781.76.00.01-01",null,null,241,{"$f":"ROUND(F140*(1-$D$3)/Лист2!$A$6,0)","v":241}]
[110,"Ограничитель фронтальный проволочный 189.64.00.00 Н=80 L=940 для ВПВ Rimni/Lazio 1875","189.64.00.00",null,null,443,{"$f":"ROUND(F141*(1-$D$3)/Лист2!$A$6,0)","v":443}]
[]
[{"$f":"A141+1","v":111},"Комплект отбойника фронтального (пластик) L=1250","646.56.00.00",null,null,912,{"$f":"ROUND(F143*(1-$D$3)/Лист2!$A$6,0)","v":912}]
[{"$f":"A143+1","v":112},"Комплект отбойника фронтального (пластик) L=1875","646.56.00.00-01",null,null,1320,{"$f":"ROUND(F144*(1-$D$3)/Лист2!$A$6,0)","v":1320}]
[{"$f":"A144+1","v":113},"Комплект отбойника фронтального (пластик) L=2500","646.56.00.00-02",null,null,1726,{"$f":"ROUND(F145*(1-$D$3)/Лист2!$A$6,0)","v":1726}]
[114,"Комплект отбойника фронтального (пластик) L=3750","646.56.00.00-03",null,null,2541,{"$f":"ROUND(F146*(1-$D$3)/Лист2!$A$6,0)","v":2541}]
[115,"Торцевой элемент НБИЛГ 7.116.007 н№950.28","н№950.28",null,null,291,{"$f":"ROUND(F147*(1-$D$3)/Лист2!$A$6,0)","v":291}]
[116,"Комплект отбойника фронтального 15х30 (труба нерж.) L=1250","781.55.00.00",null,null,1823,{"$f":"ROUND(F148*(1-$D$3)/Лист2!$A$6,0)","v":1823}]
[117,"Комплект отбойника фронтального 15х30 (труба нерж.) L=1875","781.55.00.00-01",null,null,2641,{"$f":"ROUND(F149*(1-$D$3)/Лист2!$A$6,0)","v":2641}]
[118,"Комплект отбойника фронтального 15х30 (труба нерж) L=2500","781.55.00.00-02",null,null,3453,{"$f":"ROUND(F150*(1-$D$3)/Лист2!$A$6,0)","v":3453}]
[119,"Комплект отбойника фронтального 15х30 (труба нерж) L=3750","781.55.00.00-03",null,null,5082,{"$f":"ROUND(F151*(1-$D$3)/Лист2!$A$6,0)","v":5082}]
[]
[{"$f":"A151+1","v":120},"Комплект подвесов для колбасы(две штанги + 4 блока крюков) 1004.59.00.00-01 L=1250, 2500 25 шаг","1004.59.00.00-01",null,null,6583,{"$f":"ROUND(F153*(1-$D$3)/Лист2!$A$6,0)","v":6583}]
[{"$f":"A153+1","v":121},"Комплект подвесов для колбасы(две штанги + 4 блока крюков) 1004.59.00.00-03 L=937 25 шаг","1004.59.00.00-03",null,null,5691,{"$f":"ROUND(F154*(1-$D$3)/Лист2!$A$6,0)","v":5691}]
[{"$f":"A154+1","v":122},"Штанга для навески крюков 1004.57.00.00-01 L=1250, 15х30 мм. 25 шаг для Rimini/Lazio/Solo","1004.57.00.00-01",null,null,2459,{"$f":"ROUND(F155*(1-$D$3)/Лист2!$A$6,0)","v":2459}]
[123,"Штанга для навески крюков 1004.57.00.00-03 L=937, 15х30 мм. 25 шаг для Rimini/Lazio/Solo","1004.57.00.00-03",null,null,1995,{"$f":"ROUND(F156*(1-$D$3)/Лист2!$A$6,0)","v":1995}]
[124,"Крючок на штангу одинарный хромированный с ценникодержателем, 300 мм / диаметр 8,0 мм","н№15074.31",null,null,464,{"$f":"ROUND(F157*(1-$D$3)/Лист2!$A$6,0)","v":464}]
[125,"Крючок на штангу одинарный хромированный с ценникодержателем, 400 мм / диаметр 8,0 мм","н№15074.32",null,null,717,{"$f":"ROUND(F158*(1-$D$3)/Лист2!$A$6,0)","v":717}]
[126,"Крючок на штангу одинарный хромированный с ценникодержателем, 500 мм / диаметр 10,0 мм","н№15074.33",null,null,871,{"$f":"ROUND(F159*(1-$D$3)/Лист2!$A$6,0)","v":871}]
[]
[null,null,null,null,null,"Наверх"]

{"sheet":"Низкотемпературные шкафы","index":12,"n_rows":40,"n_cols":21,"rows_kept":40,"cut":false,"hidden":false,"merged":[[0,6,4,8],[1,1,1,2],[2,1,2,2],[3,1,3,2],[8,0,9,0],[8,1,9,1],[8,2,9,3],[5,0,7,8],[8,6,9,6],[8,7,9,7],[8,8,9,8],[8,4,9,4],[8,5,9,5],[19,0,20,0],[21,0,26,1],[14,6,17,6],[14,5,17,5],[12,2,12,4],[12,5,12,8],[13,2,13,8],[23,2,26,3],[14,4,17,4],[18,2,18,8],[21,2,21,4],[21,5,21,8],[22,2,22,8],[23,4,26,4],[23,8,26,8],[23,7,26,7],[23,6,26,6],[23,5,26,5],[32,8,33,8],[30,8,31,8],[30,7,31,7],[32,7,33,7],[30,2,31,3],[30,5,31,5],[32,4,33,4],[32,5,33,5],[36,4,37,4],[36,5,37,5],[36,2,37,3],[34,2,35,3],[34,4,35,4],[34,5,35,5],[32,2,33,3],[36,6,37,6],[34,6,35,6],[32,6,33,6],[30,6,31,6],[36,8,37,8],[36,7,37,7],[34,8,35,8],[34,7,35,7],[23,9,26,9],[30,9,33,9],[38,1,40,1],[39,6,40,6],[10,1,11,8],[19,1,20,8],[12,0,18,1],[14,2,17,3],[14,8,17,8],[14,7,17,7],[29,0,37,1],[29,2,29,4],[29,5,29,8],[30,4,31,4],[27,0,28,0],[27,1,28,8],[10,10,10,24],[11,20,11,24],[11,14,11,19],[11,10,11,13],[10,0,11,0]]}
[null,null,null,null,null,null,"ЗАВОД «ОПК»\nТел.: +7 (495) 987-4388\ne-mail: info@cryspi.ru\nсайт: cryspi.ru",null,null,"На главную"]
[]
[null,"Ваша скидка:",null,{"$f":"Содержание!D2","v":0}]
[null,"НДС:",null,{"$f":"IF(Лист2!A1=TRUE,\"С НДС\",\"БЕЗ НДС\")","v":"С НДС"}]
[]
["Низкотемпературные шкафы Cryspi со встроенным агрегатом"]
[]
[]
["№","Изображение","Наименование",null,"Температурный режим,°C","Площадь экспозиции, кв.м.","Габариты, \n(LxWxH) мм","Базовая \nцена, руб.\n(с НДС)",{"$f":"[5]Лист2!$A$5","v":"Ваша цена, руб."}]
[]
[1,"Шкаф-надстройка Verona",null,null,null,null,null,null,null,null,"СЕЧЕНИЯ"]
[null,null,null,null,null,null,null,null,null,null,"VERONA",null,null,null,"CORSA",null,null,null,null,null,"ANZIO"]
[null,null,"Стандартная комплектация:     \n- подставка с комплектом крепежа\n- светодиодная подсветка внутреннего объема (4500К, 6500К) без изменения цены\n- автоматическая оттайка горячим газом\n- автоматическое выпаривание конденсата\n- 4 уровня решетчатых полок\nХарактеристика С.4.2.PS.0.внеш9016гл_внутр9016гл",null,null,"Тип охлаждения - динамический\n- Климатический класс - 3\n- Температура окружающей среды, С°  - max +25\n- Относительная влажность воздуха, % - max 60\n- Хладагент - R290\n- Напряжение, В - 220"]
[]
[null,null,"Шкаф низкотемпературный ШН Verona 1220",null,"-23…-18",1.0760000000000001,"1217х750х2210",171923,{"$f":"ROUND(H15*(1-$D$3)/Лист2!$A$6,0)","v":171923}]
[]
[]
[]
[null,null,"Надстройка для ларя 400 л."]
[2,"CORSA"]
[]
[null,null,"Стандартная комплектация:     \n- подставка с комплектом крепежа\n- светодиодная подсветка внутреннего объема\n- автоматическая оттайка горячим газом\n- автоматическое выпаривание конденсата\n- 2 уровня решетчатых полок\n",null,null,"- Тип охлаждения - динамический \n- Климатический класс - 3 \n- Температура окружающей среды, С°  max - +25 \n- Относительная влажность воздуха,%  max - 60 \n- Хладагент - R404a \n- Напряжение, В - 220"]
[]
[null,null,"Шкаф низкотемпературный ШН 0,73-2,8 CORSA LT 2500",null,"-23…-18",2.71,"2500х1020х2480",514935,{"$f":"ROUND(H24*(1-$D$3)/Лист2!$A$6,0)","v":514935}]
[]
[]
[]
[3,"ANZIO"]
[]
[null,null,"\nОпции:\nСистема выпаривания конденсата + 1,5% к цене шкафа\n\nСтандартная комплектация:     \n- светодиодная подсветка внутреннего объема (4000/6000К) верхняя и вертикальная \n- автоматическая оттайка горячим газом\n- сифон для подключения к канализации\n- 4 уровня решетчатых полок с ценникодержателями \n- базовые полки-решетки",null,null,"- Тип охлаждения - динамический \n- Климатический класс - 3 \n- Температура окружающей среды, С°  max - +25 \n- Относительная влажность воздуха,%  max - 60 \n- Хладагент - R 290 \n- Напряжение, В - 220 "]
[null,null,"Шкаф низкотемпературный ШН-1.20-4.0 ANZIO LT 2D 1562R290",null,"-22…-18",4,"1684х885х2210",326348,{"$f":"ROUND(H31*(1-$D$3)/Лист2!$A$6,0)","v":326348}]
[]
[null,null,"Шкаф низкотемпературный ШН 1.80-6.0 ANZIO LT 3D 2343R290",null,"-22…-18",6.02,"2465х885х2210",527065,{"$f":"ROUND(H33*(1-$D$3)/Лист2!$A$6,0)","v":527065}]
[]
[null,null,"Полка сетчатая навесная с кронштейнами 780x513 мм для Anzio/Milan с ограничителем (775.58.00.00)",null,"-","-","-",2068,{"$f":"ROUND(H35*(1-$D$3)/Лист2!$A$6,0)","v":2068}]
[]
[null,null,"Ценникодержатель съемный, L=1000 мм, прозрачный, откидной (на полки, рёшётку) (845.00.00.11)",null,"-","-","-",158,{"$f":"ROUND(H37*(1-$D$3)/Лист2!$A$6,0)","v":158}]
[]
[]
[null,null,null,null,null,null,"НАВЕРХ"]

{"sheet":"Лари ItalFrost","index":13,"n_rows":113,"n_cols":23,"rows_kept":113,"cut":false,"hidden":false,"merged":[[96,3,96,4],[95,3,95,4],[105,0,105,1],[106,0,106,1],[107,0,107,1],[108,0,108,1],[99,0,99,1],[100,0,101,1],[102,0,102,1],[103,0,103,1],[60,6,61,6],[60,7,61,7],[62,2,63,2],[91,0,93,1],[106,3,106,4],[107,3,107,4],[104,1,104,9],[108,3,108,4],[76,5,77,5],[84,6,85,6],[94,5,98,5],[94,3,94,4],[73,7,74,7],[73,3,74,3],[73,6,74,6],[105,3,105,4],[100,2,101,2],[93,3,93,4],[92,3,92,4],[91,3,91,4],[100,3,100,4],[99,3,99,4],[98,3,98,4],[97,3,97,4],[62,3,63,3],[62,5,63,5],[53,1,53,9],[62,6,63,6],[62,7,63,7],[54,0,63,1],[54,2,55,2],[54,3,55,3],[54,5,55,5],[54,6,55,6],[54,7,55,7],[56,2,57,2],[56,3,57,3],[56,5,57,5],[56,6,57,6],[56,7,57,7],[58,2,59,2],[58,3,59,3],[58,5,59,5],[58,6,59,6],[58,7,59,7],[60,2,61,2],[60,3,61,3],[60,5,61,5],[27,7,28,7],[29,3,30,3],[29,5,30,5],[29,6,30,6],[29,7,30,7],[25,7,26,7],[18,2,19,2],[18,3,19,3],[18,5,19,5],[14,3,15,3],[14,5,15,5],[14,6,15,6],[14,7,15,7],[16,2,17,2],[16,3,17,3],[16,5,17,5],[16,6,17,6],[16,7,17,7],[6,10,7,14],[112,8,113,8],[42,1,42,9],[43,0,52,1],[43,3,44,3],[43,5,44,5],[43,6,44,6],[43,7,44,7],[49,3,50,3],[49,5,50,5],[49,6,50,6],[49,7,50,7],[51,3,52,3],[51,5,52,5],[51,6,52,6],[51,7,52,7],[45,3,46,3],[6,8,7,8],[10,0,19,1],[10,2,11,2],[10,3,11,3],[6,0,7,0],[6,1,7,1],[6,3,7,4],[6,5,7,5],[6,6,7,6],[6,7,7,7],[36,3,37,3],[36,5,37,5],[36,6,37,6],[36,7,37,7],[21,0,30,1],[21,2,22,2],[12,5,13,5],[12,6,13,6],[12,7,13,7],[34,3,35,3],[34,5,35,5],[8,5,8,9],[8,0,8,4],[23,2,24,2],[23,3,24,3],[23,5,24,5],[23,6,24,6],[23,7,24,7],[20,1,20,9],[6,2,7,2],[14,2,15,2],[1,0,1,1],[2,0,2,1],[3,0,3,1],[4,0,5,9],[6,9,7,9],[47,6,48,6],[21,3,22,3],[21,5,22,5],[21,6,22,6],[21,7,22,7],[27,3,28,3],[27,5,28,5],[27,6,28,6],[45,5,46,5],[45,6,46,6],[45,7,46,7],[18,6,19,6],[18,7,19,7],[9,1,9,9],[10,5,11,5],[10,6,11,6],[10,7,11,7],[12,2,13,2],[12,3,13,3],[64,1,64,9],[65,0,74,1],[65,2,66,2],[65,5,66,5],[67,2,68,2],[67,5,68,5],[69,2,70,2],[69,5,70,5],[71,2,72,2],[71,5,72,5],[73,2,74,2],[73,5,74,5],[65,3,66,3],[65,6,66,6],[65,7,66,7],[67,3,68,3],[67,6,68,6],[67,7,68,7],[69,3,70,3],[69,6,70,6],[69,7,70,7],[71,3,72,3],[71,6,72,6],[71,7,72,7],[40,2,41,2],[43,2,44,2],[45,2,46,2],[25,6,26,6],[25,2,26,2],[88,10,88,12],[47,7,48,7],[47,3,48,3],[47,5,48,5],[34,6,35,6],[34,7,35,7],[31,1,31,9],[32,0,41,1],[32,3,33,3],[32,5,33,5],[32,6,33,6],[32,7,33,7],[80,3,81,3],[78,3,79,3],[76,3,77,3],[84,5,85,5],[82,5,83,5],[80,5,81,5],[78,5,79,5],[89,10,89,12],[90,10,90,12],[40,3,41,3],[40,5,41,5],[40,6,41,6],[40,7,41,7],[38,3,39,3],[38,5,39,5],[38,6,39,6],[38,7,39,7],[90,1,90,9],[82,7,83,7],[80,7,81,7],[78,7,79,7],[76,7,77,7],[76,0,85,1],[75,1,75,9],[84,2,85,2],[82,2,83,2],[80,2,81,2],[78,2,79,2],[76,2,77,2],[84,3,85,3],[82,3,83,3],[109,1,109,5],[110,1,110,5],[111,1,111,5],[47,2,48,2],[49,2,50,2],[51,2,52,2],[25,3,26,3],[25,5,26,5],[27,2,28,2],[29,2,30,2],[86,1,86,9],[87,0,89,1],[101,3,101,4],[102,3,102,4],[103,3,103,4],[32,2,33,2],[34,2,35,2],[36,2,37,2],[38,2,39,2],[82,6,83,6],[80,6,81,6],[78,6,79,6],[76,6,77,6],[84,7,85,7]]}
[null,null,null,null,null,null,null,null,null,null,"На главную"]
[null,null,null,null,null,null,null,null,null,null,null,null,"На главную"]
["Ваша скидка:",null,null,{"$f":"Содержание!D2","v":0}]
["НДС:",null,null,{"$f":"IF(Лист2!A1=TRUE,\"С НДС\",\"БЕЗ НДС\")","v":"С НДС"}]
["Морозильные и холодильные лари Italfrost"]
[]
["№","Изображение","Номер КД","Наименование",null,"Температур-ный режим, °C","Объем, л","Габариты, \n(LxWxH) мм","Базовая \nцена, руб.\n(с НДС)",{"$f":"Лист2!$A$5","v":"Ваша цена, руб."},"Нажмите для расчета стоимости брендирования"]
[]
["Стандартная комплектация:     \n- Цвет внешнего и внутреннего корпуса и деталей RAL9003\n- светодиодная подсветка внутреннего объема (4500К)\n- Цвет пластиковой крышки серый (исполнение со сборной крышкой)\n- Цвет пластиковой крышки красный  (исполнение со сборной крышкой)\n",null,null,null,null,"Тип охлаждения - динамический\n- Хладагент - R290\n- Напряжение, В - 220"]
[1,"Морозильные лари с гнутыми раздвижными стеклами"]
[null,null,"1128.00.00.00","CF200CQ","без корзин","-18…-25",235,"807х662х925",38153,{"$f":"ROUND(I11*(1-$D$3)/[8]Лист2!$A$6,0)","v":38153},"ПлRAL9003гл,0.Sr.0кор.0.K.0"]
[null,null,null,null,"3 корзины",null,null,null,{"$f":"I11+3*$I$100","v":40328},{"$f":"ROUND(I12*(1-$D$3)/[8]Лист2!$A$6,0)","v":40328},"ПлRAL9003гл,0.Sr.3кор.0.K.0"]
[null,null,"1128.00.00.00-01","CF300CQ","без корзин","-18…-25",319,"1017х662х925",41933,{"$f":"ROUND(I13*(1-$D$3)/[8]Лист2!$A$6,0)","v":41933},"ПлRAL9003гл,0.Sr.0кор.0.K.0"]
[null,null,null,null,"4 корзины",null,null,null,{"$f":"I13+4*$I$100","v":44833},{"$f":"ROUND(I14*(1-$D$3)/[8]Лист2!$A$6,0)","v":44833},"ПлRAL9003гл,0.Sr.4кор.0.K.0"]
[null,null,"1128.00.00.00-02","CF400CQ","без корзин","-18…-25",398,"1217х662х925",45464,{"$f":"ROUND(I15*(1-$D$3)/[8]Лист2!$A$6,0)","v":45464},"ПлRAL9003гл,0.Sr.0кор.0.K.0","Сечение ларей с прямой стеклянной крышкой",null,null,null,null,null,null,null,null,null,null,"Сечение ларей с прямой стеклянной крышкой и товарным накопителем"]
[null,null,null,null,"5 корзин",null,null,null,{"$f":"I15+5*$I$100","v":49089},{"$f":"ROUND(I16*(1-$D$3)/[8]Лист2!$A$6,0)","v":49089},"ПлRAL9003гл,0.Sr.5кор.0.K.0"]
[null,null,"1128.00.00.00-03","CF500CQ","без корзин","-18…-25",485,"1437х662х925",49683,{"$f":"ROUND(I17*(1-$D$3)/[8]Лист2!$A$6,0)","v":49683},"ПлRAL9003гл,0.Sr.0кор.0.K.0"]
[null,null,null,null,"6 корзин",null,null,null,{"$f":"I17+6*$I$100","v":54033},{"$f":"ROUND(I18*(1-$D$3)/[8]Лист2!$A$6,0)","v":54033},"ПлRAL9003гл,0.Sr.6кор.0.K.0"]
[null,null,"1128.00.00.00-04","CF600CQ","без корзин","-18…-25",572,"1657х662х925",53415,{"$f":"ROUND(I19*(1-$D$3)/[8]Лист2!$A$6,0)","v":53415},"ПлRAL9003гл,0.Sr.0кор.0.K.0"]
[null,null,null,null,"7 корзин",null,null,null,{"$f":"I19+7*$I$100","v":58490},{"$f":"ROUND(I20*(1-$D$3)/[8]Лист2!$A$6,0)","v":58490},"ПлRAL9003гл,0.Sr.7кор.0.K.0"]
[3,"Морозильные лари с прямыми раздвижными стеклами (составная корона)"]
[null,null,"1127.00.00.00","CF200FQ","без корзин","-18…-25",235,"807х662х925",37071,{"$f":"ROUND(I22*(1-$D$3)/Лист2!$A$6,0)","v":37071},"ПлRAL9003гл,0.Sr.0кор.0.K.0"]
[null,null,null,null,"3 корзины",null,null,null,{"$f":"I22+3*$I$101","v":39051},{"$f":"ROUND(I23*(1-$D$3)/Лист2!$A$6,0)","v":39051},"ПлRAL9003гл,0.Sr.3кор.0.K.0"]
[null,null,"1127.00.00.00-01","CF300FQ","без корзин","-18…-25",319,"1017х662х925",41167,{"$f":"ROUND(I24*(1-$D$3)/Лист2!$A$6,0)","v":41167},"ПлRAL9003гл,0.Sr.0кор.0.K.0"]
[null,null,null,null,"4 корзины",null,null,null,{"$f":"I24+4*$I$101","v":43807},{"$f":"ROUND(I25*(1-$D$3)/Лист2!$A$6,0)","v":43807},"ПлRAL9003гл,0.Sr.4кор.0.K.0"]
[null,null,"1127.00.00.00-02","CF400FQ","без корзин","-18…-25",398,"1217х662х925",45331,{"$f":"ROUND(I26*(1-$D$3)/Лист2!$A$6,0)","v":45331},"ПлRAL9003гл,0.Sr.0кор.0.K.0"]
[null,null,null,null,"5 корзин",null,null,null,{"$f":"I26+5*$I$101","v":48631},{"$f":"ROUND(I27*(1-$D$3)/Лист2!$A$6,0)","v":48631},"ПлRAL9003гл,0.Sr.5кор.0.K.0"]
[null,null,"1127.00.00.00-03","CF500FQ","без корзин","-18…-25",485,"1437х662х925",49893,{"$f":"ROUND(I28*(1-$D$3)/Лист2!$A$6,0)","v":49893},"ПлRAL9003гл,0.Sr.0кор.0.K.0"]
[null,null,null,null,"6 корзин",null,null,null,{"$f":"I28+6*$I$101","v":53853},{"$f":"ROUND(I29*(1-$D$3)/Лист2!$A$6,0)","v":53853},"ПлRAL9003гл,0.Sr.6кор.0.K.0"]
[null,null,"1127.00.00.00-04","CF600FQ","без корзин","-18…-25",572,"1657х662х925",53727,{"$f":"ROUND(I30*(1-$D$3)/Лист2!$A$6,0)","v":53727},"ПлRAL9003гл,0.Sr.0кор.0.K.0"]
[null,null,null,null,"7 корзин",null,null,null,{"$f":"I30+7*$I$101","v":58347},{"$f":"ROUND(I31*(1-$D$3)/Лист2!$A$6,0)","v":58347},"ПлRAL9003гл,0.Sr.7кор.0.K.0"]
[9,"Морозильные лари с глухой крышкой"]
[null,null,"1011.00.00.00","CF200S","без корзин","-18…-25",235,"808х743х904",37564,{"$f":"ROUND(I33*(1-$D$3)/Лист2!$A$6,0)","v":37564},"ПлRAL9003,0.B.0кор.P.M.0"]
[null,null,null,null,"1 корзина",null,null,null,{"$f":"I33+1*$I$101","v":38224},{"$f":"ROUND(I34*(1-$D$3)/Лист2!$A$6,0)","v":38224},"ПлRAL9003,0.B.1кор.P.M.0"]
[null,null,"1011.00.00.00-01","CF300S","без корзин","-18…-25",319,"1018х743х904",41066,{"$f":"ROUND(I35*(1-$D$3)/Лист2!$A$6,0)","v":41066},"ПлRAL9003,0.B.0кор.P.M.0"]
[null,null,null,null,"1 корзина",null,null,null,{"$f":"I35+1*$I$101","v":41726},{"$f":"ROUND(I36*(1-$D$3)/Лист2!$A$6,0)","v":41726},"ПлRAL9003,0.B.1кор.P.M.0"]
[null,null,"1011.00.00.00-02","CF400S","без корзин","-18…-25",398,"1218х743х904",48890,{"$f":"ROUND(I37*(1-$D$3)/Лист2!$A$6,0)","v":48890},"ПлRAL9003,0.B.0кор.P.M.0"]
[null,null,null,null,"1 корзина",null,null,null,{"$f":"I37+1*$I$101","v":49550},{"$f":"ROUND(I38*(1-$D$3)/Лист2!$A$6,0)","v":49550},"ПлRAL9003,0.B.1кор.P.M.0"]
[null,null,"1011.00.00.00-03","CF500S","без корзин","-18…-25",485,"1438х743х904",49693,{"$f":"ROUND(I39*(1-$D$3)/Лист2!$A$6,0)","v":49693},"ПлRAL9003,0.B.0кор.P.M.0"]
[null,null,null,null,"1 корзина",null,null,null,{"$f":"I39+1*$I$101","v":50353},{"$f":"ROUND(I40*(1-$D$3)/Лист2!$A$6,0)","v":50353},"ПлRAL9003,0.B.1кор.P.M.0"]
[null,null,"1011.00.00.00-04","CF600S","без корзин","-18…-25",572,"1658х743х904",54201,{"$f":"ROUND(I41*(1-$D$3)/Лист2!$A$6,0)","v":54201},"ПлRAL9003,0.B.0кор.P.M.0"]
[null,null,null,null,"1 корзина",null,null,null,{"$f":"I41+1*$I$101","v":54861},{"$f":"ROUND(I42*(1-$D$3)/Лист2!$A$6,0)","v":54861},"ПлRAL9003,0.B.1кор.P.M.0"]
[10,"Морозильные лари с глухой крышкой (крышка из нержавеющей стали)"]
[null,null,"1011.00.00.00","CF200S нерж","без корзин","-18…-25",235,"808х743х904",42580,{"$f":"ROUND(I44*(1-$D$3)/Лист2!$A$6,0)","v":42580},"ПлRAL9003,0.B.0кор.N.M.0"]
[null,null,null,null,"1 корзина",null,null,null,{"$f":"I44+1*$I$101","v":43240},{"$f":"ROUND(I45*(1-$D$3)/Лист2!$A$6,0)","v":43240},"ПлRAL9003,0.B.1кор.N.M.0"]
[null,null,"1011.00.00.00-01","CF300S нерж","без корзин","-18…-25",319,"1018х743х904",47277,{"$f":"ROUND(I46*(1-$D$3)/Лист2!$A$6,0)","v":47277},"ПлRAL9003,0.B.0кор.N.M.0"]
[null,null,null,null,"1 корзина",null,null,null,{"$f":"I46+1*$I$101","v":47937},{"$f":"ROUND(I47*(1-$D$3)/Лист2!$A$6,0)","v":47937},"ПлRAL9003,0.B.1кор.N.M.0"]
[null,null,"1011.00.00.00-02","CF400S нерж","без корзин","-18…-25",398,"1218х743х904",56039,{"$f":"ROUND(I48*(1-$D$3)/Лист2!$A$6,0)","v":56039},"ПлRAL9003,0.B.0кор.N.M.0"]
[null,null,null,null,"1 корзина",null,null,null,{"$f":"I48+1*$I$101","v":56699},{"$f":"ROUND(I49*(1-$D$3)/Лист2!$A$6,0)","v":56699},"ПлRAL9003,0.B.1кор.N.M.0"]
[null,null,"1011.00.00.00-03","CF500S нерж","без корзин","-18…-25",485,"1438х743х904",57049,{"$f":"ROUND(I50*(1-$D$3)/Лист2!$A$6,0)","v":57049},"ПлRAL9003,0.B.0кор.N.M.0"]
[null,null,null,null,"1 корзина",null,null,null,{"$f":"I50+1*$I$101","v":57709},{"$f":"ROUND(I51*(1-$D$3)/Лист2!$A$6,0)","v":57709},"ПлRAL9003,0.B.1кор.N.M.0"]
[null,null,"1011.00.00.00-04","CF600S нерж","без корзин","-18…-25",572,"1658х743х904",61513,{"$f":"ROUND(I52*(1-$D$3)/Лист2!$A$6,0)","v":61513},"ПлRAL9003,0.B.0кор.N.M.0"]
[null,null,null,null,"1 корзина",null,null,null,{"$f":"I52+1*$I$101","v":62173},{"$f":"ROUND(I53*(1-$D$3)/Лист2!$A$6,0)","v":62173},"ПлRAL9003,0.B.1кор.N.M.0"]
[13,"Морозильные лари с гнутыми раздвижными стеклами (составная корона, климатический класс 4+)"]
[null,null,null,"CFТ200CQ","без корзин","-18…-25",235,"807х662х925",43097,{"$f":"ROUND(I55*(1-$D$3)/[8]Лист2!$A$6,0)","v":43097}]
[null,null,null,null,"3 корзины",null,null,null,{"$f":"I55+3*$I$100","v":45272},{"$f":"ROUND(I56*(1-$D$3)/[8]Лист2!$A$6,0)","v":45272}]
[null,null,null,"CFТ300CQ","без корзин","-18…-25",319,"1017х662х925",45547,{"$f":"ROUND(I57*(1-$D$3)/[8]Лист2!$A$6,0)","v":45547}]
[null,null,null,null,"4 корзины",null,null,null,{"$f":"I57+4*$I$100","v":48447},{"$f":"ROUND(I58*(1-$D$3)/[8]Лист2!$A$6,0)","v":48447}]
[null,null,null,"CFT400CQ","без корзин","-18…-25",398,"1217х662х925",48925,{"$f":"ROUND(I59*(1-$D$3)/[8]Лист2!$A$6,0)","v":48925}]
[null,null,null,null,"5 корзин",null,null,null,{"$f":"I59+5*$I$100","v":52550},{"$f":"ROUND(I60*(1-$D$3)/[8]Лист2!$A$6,0)","v":52550}]
[null,null,null,"CFТ500CQ","без корзин","-18…-25",485,"1437х662х925",50393,{"$f":"ROUND(I61*(1-$D$3)/[8]Лист2!$A$6,0)","v":50393}]
[null,null,null,null,"6 корзин",null,null,null,{"$f":"I61+6*$I$100","v":54743},{"$f":"ROUND(I62*(1-$D$3)/[8]Лист2!$A$6,0)","v":54743}]
[null,null,null,"CFТ600CQ","без корзин","-18…-25",572,"1657х662х925",58545,{"$f":"ROUND(I63*(1-$D$3)/[8]Лист2!$A$6,0)","v":58545}]
[null,null,null,null,"7 корзин",null,null,null,{"$f":"I63+7*$I$100","v":63620},{"$f":"ROUND(I64*(1-$D$3)/[8]Лист2!$A$6,0)","v":63620}]
[17,"Морозильные лари с прямыми раздвижными стеклами составная корона (климатический класс 4+)"]
[null,null,null,"CFТ200FQ","без корзин","-18…-25",235,"807х662х925",41095,{"$f":"ROUND(I66*(1-$D$3)/Лист2!$A$6,0)","v":41095}]
[null,null,null,null,"3 корзины",null,null,null,{"$f":"I66+3*$I$101","v":43075},{"$f":"ROUND(I67*(1-$D$3)/Лист2!$A$6,0)","v":43075}]
[null,null,null,"CFТ300FQ","без корзин","-18…-25",319,"1017х662х925",45850,{"$f":"ROUND(I68*(1-$D$3)/Лист2!$A$6,0)","v":45850}]
[null,null,null,null,"4 корзины",null,null,null,{"$f":"I68+4*$I$101","v":48490},{"$f":"ROUND(I69*(1-$D$3)/Лист2!$A$6,0)","v":48490}]
[null,null,null,"CFT400FQ","без корзин","-18…-25",398,"1217х662х925",48915,{"$f":"ROUND(I70*(1-$D$3)/Лист2!$A$6,0)","v":48915}]
[null,null,null,null,"5 корзин",null,null,null,{"$f":"I70+5*$I$101","v":52215},{"$f":"ROUND(I71*(1-$D$3)/Лист2!$A$6,0)","v":52215}]
[null,null,null,"CFТ500FQ","без корзин","-18…-25",485,"1437х662х925",49919,{"$f":"ROUND(I72*(1-$D$3)/Лист2!$A$6,0)","v":49919}]
[null,null,null,null,"6 корзин",null,null,null,{"$f":"I72+6*$I$101","v":53879},{"$f":"ROUND(I73*(1-$D$3)/Лист2!$A$6,0)","v":53879}]
[null,null,null,"CFТ600FQ","без корзин","-18…-25",572,"1657х662х925",59036,{"$f":"ROUND(I74*(1-$D$3)/Лист2!$A$6,0)","v":59036}]
[null,null,null,null,"7 корзин",null,null,null,{"$f":"I74+7*$I$101","v":63656},{"$f":"ROUND(I75*(1-$D$3)/Лист2!$A$6,0)","v":63656}]
[19,"Морозильные лари с глухой крышкой (климатический класс 4+)"]
[null,null,"1065.00.00.00","CF200ST","без корзин","-18…-25",235,"808х743х904",41320.400000000001,{"$f":"ROUND(I77*(1-$D$3)/Лист2!$A$6,0)","v":41320},"ПлRAL9003,0.B.0кор.Р.M.0"]
[null,null,null,null,"1 корзина",null,null,null,{"$f":"I77+1*$I$101","v":41980.4},{"$f":"ROUND(I78*(1-$D$3)/Лист2!$A$6,0)","v":41980},"ПлRAL9003,0.B.1кор.Р.M.0"]
[null,null,"1065.00.00.00-01","CF300ST","без корзин","-18…-25",319,"1018х743х904",45172.600000000006,{"$f":"ROUND(I79*(1-$D$3)/Лист2!$A$6,0)","v":45173},"ПлRAL9003,0.B.0кор.Р.M.0"]
[null,null,null,null,"1 корзина",null,null,null,{"$f":"I79+1*$I$101","v":45832.600000000006},{"$f":"ROUND(I80*(1-$D$3)/Лист2!$A$6,0)","v":45833},"ПлRAL9003,0.B.1кор.Р.M.0"]
[null,null,"1065.00.00.00-02","CF400ST","без корзин","-18…-25",398,"1218х743х904",53779.000000000007,{"$f":"ROUND(I81*(1-$D$3)/Лист2!$A$6,0)","v":53779},"ПлRAL9003,0.B.0кор.Р.M.0"]
[null,null,null,null,"1 корзина",null,null,null,{"$f":"I81+1*$I$101","v":54439.000000000007},{"$f":"ROUND(I82*(1-$D$3)/Лист2!$A$6,0)","v":54439},"ПлRAL9003,0.B.1кор.Р.M.0"]
[null,null,"1065.00.00.00-03","CF500ST","без корзин","-18…-25",485,"1438х743х904",54662.3,{"$f":"ROUND(I83*(1-$D$3)/Лист2!$A$6,0)","v":54662},"ПлRAL9003,0.B.0кор.Р.M.0"]
[null,null,null,null,"1 корзина",null,null,null,{"$f":"I83+1*$I$101","v":55322.3},{"$f":"ROUND(I84*(1-$D$3)/Лист2!$A$6,0)","v":55322},"ПлRAL9003,0.B.1кор.Р.M.0"]
[null,null,"1065.00.00.00-04","CF600ST","без корзин","-18…-25",572,"1658х743х904",59621.100000000006,{"$f":"ROUND(I85*(1-$D$3)/Лист2!$A$6,0)","v":59621},"ПлRAL9003,0.B.0кор.Р.M.0"]
[null,null,null,null,"1 корзина",null,null,null,{"$f":"I85+1*$I$101","v":60281.100000000006},{"$f":"ROUND(I86*(1-$D$3)/Лист2!$A$6,0)","v":60281},"ПлRAL9003,0.B.1кор.Р.M.0"]
[10,"Морозильные лари для мягкого мороженого (комплектация - запасник, полка под гастроемкости, подсветка внутреннего объема)\nкорзины не устанавливаются"]
[null,null,"1187.00.00.00-01","CF300CSZ","-","-18…-25",319,"1017х662х1310",56060,{"$f":"ROUND(I88*(1-$D$3)/Лист2!$A$6,0)","v":56060},"ПлRAL9003,0.K.0кор.0.K.0.0.4"]
[null,null,"1187.00.00.00-02","CF400CSZ","-","-18…-25",398,"1217х662х1310",62797,{"$f":"ROUND(I89*(1-$D$3)/Лист2!$A$6,0)","v":62797},"ПлRAL9003,0.K.0кор.0.K.0.0.4"]
[null,null,"1187.00.00.00-03","CF500CSZ","-","-18…-25",485,"1437х662х1310",64265,{"$f":"ROUND(I90*(1-$D$3)/Лист2!$A$6,0)","v":64265},"ПлRAL9003,0.K.0кор.0.K.0.0.4"]
[11,"Опции для ларей"]
[null,null,null,"Надстройка стеклянная 1145.12.00.00-01 для CF300C",null,null,null,null,8073.0012000000006,{"$f":"ROUND(I92*(1-$D$3)/Лист2!$A$6,0)","v":8073},"H, глянец, RAL 7035"]
[null,null,null,"Надстройка стеклянная 1145.12.00.00-02 для CF400C",null,null,null,null,8779.7556000000004,{"$f":"ROUND(I93*(1-$D$3)/Лист2!$A$6,0)","v":8780},"H, глянец, RAL 7035"]
[null,null,null,"Надстройка стеклянная 1145.12.00.00-03 для CF500C",null,null,null,null,9831.7518749999999,{"$f":"ROUND(I94*(1-$D$3)/Лист2!$A$6,0)","v":9832},"H, глянец, RAL 7035"]
[null,null,null,"Комплект подсветки для ларя CF200C",null,"Спектр 4000К/6000К",null,null,2261.2127999999998,{"$f":"ROUND(I95*(1-$D$3)/Лист2!$A$6,0)","v":2261}]
[null,null,null,"Комплект подсветки для ларя CF300C",null,null,null,null,2307.36,{"$f":"ROUND(I96*(1-$D$3)/Лист2!$A$6,0)","v":2307}]
[null,null,null,"Комплект подсветки для ларя CF400C",null,null,null,null,2508,{"$f":"ROUND(I97*(1-$D$3)/Лист2!$A$6,0)","v":2508}]
[null,null,null,"Комплект подсветки для ларя CF500C",null,null,null,null,2884.2000000000003,{"$f":"ROUND(I98*(1-$D$3)/Лист2!$A$6,0)","v":2884}]
[null,null,null,"Комплект подсветки для ларя CF600C",null,null,null,null,3316.83,{"$f":"ROUND(I99*(1-$D$3)/Лист2!$A$6,0)","v":3317}]
[null,null,"087.42.00.00","Корзина для ларя с гнут. стек. без подсветки",null,"-","-","214х498х320",725,{"$f":"ROUND(I100*(1-$D$3)/Лист2!$A$6,0)","v":725}]
[null,null,"086.42.00.00","Корзина для ларя с прям. стек. без подсветки",null,"-","-","214х493х250",660,{"$f":"ROUND(I101*(1-$D$3)/Лист2!$A$6,0)","v":660}]
[null,null,null,"Корзина для ларя с глух. крыш. без подсветки",null,"-","-","214х493х250",660,{"$f":"ROUND(I102*(1-$D$3)/Лист2!$A$6,0)","v":660}]
[null,null,"1060.42.00.00","Корзина для ларя с гнут. стек. с подсветкой",null,"-","-","214х498х320",725,{"$f":"ROUND(I103*(1-$D$3)/Лист2!$A$6,0)","v":725}]
[null,null,"1071.42.00.00","Корзина для ларя с прям. стек. с подсветкой",null,"-","-","214х493х250",660,{"$f":"ROUND(I104*(1-$D$3)/Лист2!$A$6,0)","v":660}]
[12,"Опции заказываемые с ларем"]
[null,null,"н.№14709","Опоры регулируемые М10 для ларей ",null,null,null,null,245,{"$f":"ROUND(I106*(1-$D$3)/Лист2!$A$6,0)","v":245}]
[null,null,"н.№14601","Спереди и сзади ларя колеса поворотные без стопора.",null,null,null,null,365,{"$f":"ROUND(I107*(1-$D$3)/Лист2!$A$6,0)","v":365}]
[null,null,"н.№14601.4","Спереди колеса поворотные со стопором, сзади колеса поворотные без стопора",null,null,null,null,451,{"$f":"ROUND(I108*(1-$D$3)/Лист2!$A$6,0)","v":451}]
[null,null,"н.№24805.2","Термометр",null,null,null,null,1748,{"$f":"ROUND(I109*(1-$D$3)/Лист2!$A$6,0)","v":1748}]
[null,"Стандартный цвет короны ларя  - Серый (7035), Красный (наличие красных корон уточнять у менеджеров)"]
[null,"Опционально доступны иные цвета короны  - наличие уточнять у менеджеров, наценка +1,5% к цене ларя"]
[null,"Стандартный цвет корпуса - белый (ПлRAL9003). Наценка за нестандартный цвет корпуса +1,5% к цене ларя."]
[null,null,null,null,null,null,null,null,"НАВЕРХ"]

{"sheet":"Лари-бонеты Italfrost","index":14,"n_rows":127,"n_cols":12,"rows_kept":127,"cut":false,"hidden":false,"merged":[[46,2,47,2],[48,2,49,2],[50,2,51,2],[52,2,53,2],[45,2,45,9],[58,2,59,2],[60,2,61,2],[62,2,63,2],[64,2,65,2],[57,2,57,9],[52,7,53,7],[58,7,59,7],[46,3,47,3],[48,3,49,3],[50,3,51,3],[52,3,53,3],[58,3,59,3],[56,0,56,4],[56,5,56,9],[57,0,65,1],[58,6,65,6],[60,3,61,3],[62,3,63,3],[64,3,65,3],[14,2,16,2],[17,2,19,2],[20,2,22,2],[23,2,25,2],[13,2,13,9],[30,2,32,2],[33,2,35,2],[36,2,38,2],[39,2,41,2],[29,2,29,9],[37,4,37,5],[40,4,40,5],[12,11,36,25],[14,4,14,5],[16,4,16,5],[17,4,17,5],[19,4,19,5],[20,4,20,5],[22,4,22,5],[23,4,23,5],[25,4,25,5],[30,4,30,5],[32,4,32,5],[33,4,33,5],[35,4,35,5],[36,4,36,5],[15,4,15,5],[18,4,18,5],[21,4,21,5],[24,4,24,5],[31,4,31,5],[34,4,34,5],[126,7,127,7],[23,3,25,3],[20,3,22,3],[17,3,19,3],[13,0,25,1],[12,0,12,4],[12,5,12,9],[28,0,28,4],[28,5,28,9],[29,0,41,1],[45,0,53,1],[38,4,38,5],[39,4,39,5],[41,4,41,5],[46,4,46,5],[47,4,47,5],[48,4,48,5],[49,4,49,5],[50,4,50,5],[51,4,51,5],[52,4,52,5],[53,4,53,5],[58,4,58,5],[42,0,43,0],[42,1,43,9],[44,0,44,4],[44,5,44,9],[46,6,53,6],[14,3,16,3],[14,7,16,7],[17,7,19,7],[20,7,22,7],[23,7,25,7],[14,6,25,6],[26,0,27,0],[26,1,27,9],[30,3,32,3],[30,6,41,6],[30,7,32,7],[33,3,35,3],[33,7,35,7],[36,3,38,3],[36,7,38,7],[39,3,41,3],[39,7,41,7],[46,7,47,7],[48,7,49,7],[50,7,51,7],[10,11,10,25],[0,7,4,9],[8,7,9,7],[8,8,9,8],[8,9,9,9],[10,0,11,0],[10,1,11,9],[11,11,11,25],[1,1,1,3],[2,1,2,3],[3,1,3,3],[5,0,7,9],[8,0,9,0],[8,1,9,1],[8,3,9,4],[8,5,9,5],[8,6,9,6],[8,2,9,2],[54,0,55,0],[54,1,55,9],[59,4,59,5],[60,4,60,5],[61,4,61,5],[62,4,62,5],[60,7,61,7],[62,7,63,7],[64,7,65,7],[63,4,63,5],[64,4,64,5],[65,4,65,5],[69,0,76,1],[88,0,88,9],[95,0,95,9],[76,3,76,7],[80,3,80,7],[87,3,87,7],[86,3,86,7],[85,3,85,7],[84,3,84,7],[83,3,83,7],[82,3,82,7],[104,3,104,7],[66,0,67,0],[66,1,67,9],[102,0,102,9],[78,0,78,1],[79,0,80,1],[81,0,81,9],[82,0,84,1],[79,3,79,7],[78,3,78,7],[99,3,99,7],[98,3,98,7],[97,3,97,7],[96,3,96,7],[68,0,68,9],[77,0,77,9],[75,3,75,7],[74,3,74,7],[73,3,73,7],[72,3,72,7],[71,3,71,7],[70,3,70,7],[69,3,69,7],[85,0,87,1],[105,3,105,7],[109,0,109,9],[118,0,124,1],[94,3,94,7],[93,3,93,7],[89,0,94,1],[96,0,101,1],[92,3,92,7],[91,3,91,7],[90,3,90,7],[89,3,89,7],[103,0,108,1],[110,0,112,1],[113,0,116,1],[101,3,101,7],[100,3,100,7],[119,3,119,7],[118,3,118,7],[124,3,124,7],[123,3,123,7],[122,3,122,7],[121,3,121,7],[120,3,120,7],[103,3,103,7],[117,0,117,9],[114,3,114,7],[113,3,113,7],[112,3,112,7],[111,3,111,7],[110,3,110,7],[108,3,108,7],[107,3,107,7],[106,3,106,7],[116,3,116,7],[115,3,115,7]]}
[null,null,null,null,null,null,null,"ЗАВОД «ОПК»\nТел.: +7 (495) 987-4388\ne-mail: info@cryspi.ru\nсайт: cryspi.ru",null,null,"На главную"]
[]
[null,"Ваша скидка:",null,null,{"$f":"Содержание!D2","v":0}]
[null,"НДС:",null,null,{"$f":"IF(Лист2!A1=TRUE,\"С НДС\",\"БЕЗ НДС\")","v":"С НДС"}]
[]
["Двухрежимные ларь-бонеты ITALFROST"]
[]
[]
["№","Изображение","Артикул","Наименование",null,"Колличество делителей/корзин","Температурный режим,°C","Габариты, \n(LxWxH) мм","Базовая \nцена, руб.\n(с НДС)",{"$f":"[5]Лист2!$A$5","v":"Ваша цена, руб."}]
[]
[1,"ЛВН низкотемпературный  ITALFROST",null,null,null,null,null,null,null,null,null,"СЕЧЕНИЕ"]
[]
["- Стандартная комплектация ЛВН Italfrost:\n- Корпус внешний - оцинкованный металл (RAL 9003);\n- Охлаждаемый объем - цвет решеток/делителей RAL 9003;\n- Хладагент R-290, оттайка горячим газом, система выпаривания конденсата; освещение\n- Электронный контроллер;",null,null,null,null,"- Комплект верхнего бампера;\n- Система решеток по периметру охлаждаемого объема (1 разделитель, устанавливаемый возле агрегатного отсека во всю высоту охл.объема);\n- Цвет пластиковых элеметов RAL 7035 (крышка, окантовка стекла, бампер, ручки);\n-Деревянная обрешетка;"]
[]
[null,null,"1057.00.00.00","Ларь-витрина низкотемпературный ЛВН 1850 (ЛБТ2 М 1850) (торцевой)","Без делителей и корзин",null," -18..-24  ̊С","1850х858х869",{"$f":"I17-4*1960","v":127181},{"$f":"ROUND(I15*(1-$E$3)/Лист2!$A$6,0)","v":127181},"3В9016.El.0.0.tn.4.PS.0"]
[null,null,null,null,"С комплектом делителей (2 шт.)",null,null,null,{"$f":"I15+2*$I$79","v":128681},{"$f":"ROUND(I16*(1-$E$3)/Лист2!$A$6,0)","v":128681},"3В9016.El.2.0.tn.4.PS.0"]
[null,null,null,null,"С комплектом корзинами (4 шт.)",null,null,null,135021,{"$f":"ROUND(I17*(1-$E$3)/Лист2!$A$6,0)","v":135021},"3В9016.El.0.4.tn.4.PS.0"]
[null,null,"1056.00.00.00-02","Ларь-витрина низкотемпературный ЛВН 1850 (ЛБ2 М 1850)","Без делителей и корзин",null,null,"1850х858х869",{"$f":"I20-4*1960","v":121326},{"$f":"ROUND(I18*(1-$E$3)/Лист2!$A$6,0)","v":121326},"ВБ9016.El.0.0.tn.4.PS.0"]
[null,null,null,null,"С комплектом делителей (2 шт.)",null,null,null,{"$f":"I18+2*$I$79","v":122826},{"$f":"ROUND(I19*(1-$E$3)/Лист2!$A$6,0)","v":122826},"ВБ9016.El.2.0.tn.4.PS.0"]
[null,null,null,null,"С комплектом корзинами (4 шт.)",null,null,null,129166,{"$f":"ROUND(I20*(1-$E$3)/Лист2!$A$6,0)","v":129166},"ВБ9016.El.0.4.tn.4.PS.0"]
[null,null,"1056.00.00.00","Ларь-витрина низкотемпературный ЛВН 2100 (ЛБ2 М 2100)","Без делителей и корзин",null,null,"2100х858х869",{"$f":"I23-5*1960","v":125985},{"$f":"ROUND(I21*(1-$E$3)/Лист2!$A$6,0)","v":125985},"ВБ9016.El.0.0.tn.4.PS.0"]
[null,null,null,null,"С комплектом делителей (3 шт.)",null,null,null,{"$f":"I21+3*$I$79","v":128235},{"$f":"ROUND(I22*(1-$E$3)/Лист2!$A$6,0)","v":128235},"ВБ9016.El.3.0.tn.4.PS.0"]
[null,null,null,null,"С комплектом корзинами (5 шт.)",null,null,null,135785,{"$f":"ROUND(I23*(1-$E$3)/Лист2!$A$6,0)","v":135785},"ВБ9016.El.0.5.tn.4.PS.0"]
[null,null,"1056.00.00.00-01","Ларь-витрина низкотемпературный ЛВН 2500 (ЛБ2 М 2500)","Без делителей и корзин",null,null,"2500х858х869",{"$f":"I26-6*1960","v":129375},{"$f":"ROUND(I24*(1-$E$3)/Лист2!$A$6,0)","v":129375},"ВБ9016.El.0.0.tn.4.PS.0"]
[null,null,null,null,"С комплектом делителей (4 шт.)",null,null,null,{"$f":"I24+4*$I$79","v":132375},{"$f":"ROUND(I25*(1-$E$3)/Лист2!$A$6,0)","v":132375},"ВБ9016.El.4.0.tn.4.PS.0"]
[null,null,null,null,"С комплектом корзинами (6 шт.)",null,null,null,141135,{"$f":"ROUND(I26*(1-$E$3)/Лист2!$A$6,0)","v":141135},"ВБ9016.El.0.6.tn.4.PS.0"]
[2,"ЛВН низкотемпературный ITALFROST Push"]
[]
[" - Стандартная комплектация ЛВН Italfrost:\n- Корпус внешний - оцинкованный металл (RAL 9003);\n- Охлаждаемый объем - цвет решеток/делителей RAL 9003;\n- Хладагент R-290, оттайка горячим газом, система выпаривания конденсата;\n- Электронный контроллер;",null,null,null,null,"- Комплект верхнего бампера (для торцевого исполенние бампер с трех сторон);\n- Система решеток по периметру охлаждаемого объема (1 разделитель, устанавливаемый возле агрегатного отсека во всю высоту охл.объема);\n- Цвет пластиковых элеметов RAL 7035 (крышка, окантовка стекла, бампер, ручки);\n- Деревянная обрешетка;"]
[]
[null,null,"1201.00.00.00","Ларь-витрина низкотемпературный ЛВН 1850 (ЛБТ2 М 1850) PUSH (торцевой)","Без делителей и корзин",null," -18..-24  ̊С","1850х858х869",{"$f":"I33-4*$I$80","v":128261},{"$f":"ROUND(I31*(1-$E$3)/Лист2!$A$6,0)","v":128261},"3В9016.El.0.0.tn.4.PS.0"]
[null,null,null,null,"С комплектом делителей (2 шт.)",null,null,null,{"$f":"I31+2*$I$79","v":129761},{"$f":"ROUND(I32*(1-$E$3)/Лист2!$A$6,0)","v":129761},"3В9016.El.2.0.tn.4.PS.0"]
[null,null,null,null,"С комплектом корзинами (4 шт.)",null,null,null,135021,{"$f":"ROUND(I33*(1-$E$3)/Лист2!$A$6,0)","v":135021},"3В9016.El.0.4.tn.4.PS.0"]
[null,null,"1190.00.00.00-02","Ларь-витрина низкотемпературный ЛВН 1850 (ЛБ2 М 1850) PUSH","Без делителей и корзин",null,null,"1850х858х869",{"$f":"I36-4*$I$80","v":122406},{"$f":"ROUND(I34*(1-$E$3)/Лист2!$A$6,0)","v":122406},"ВБ9016.El.0.0.tn.4.PS.0"]
[null,null,null,null,"С комплектом делителей (2 шт.)",null,null,null,{"$f":"I34+2*$I$79","v":123906},{"$f":"ROUND(I35*(1-$E$3)/Лист2!$A$6,0)","v":123906},"ВБ9016.El.2.0.tn.4.PS.0"]
[null,null,null,null,"С комплектом корзинами (4 шт.)",null,null,null,129166,{"$f":"ROUND(I36*(1-$E$3)/Лист2!$A$6,0)","v":129166},"ВБ9016.El.0.4.tn.4.PS.0"]
[null,null,"1190.00.00.00","Ларь-витрина низкотемпературный ЛВН 2100 (ЛБ2 М 2100) PUSH","Без делителей и корзин",null,null,"2100х858х869",{"$f":"I39-5*$I$80","v":127336},{"$f":"ROUND(I37*(1-$E$3)/Лист2!$A$6,0)","v":127336},"ВБ9016.El.0.0.tn.4.PS.0"]
[null,null,null,null,"С комплектом делителей (3 шт.)",null,null,null,{"$f":"I37+3*$I$79","v":129586},{"$f":"ROUND(I38*(1-$E$3)/Лист2!$A$6,0)","v":129586},"ВБ9016.El.3.0.tn.4.PS.0"]
[null,null,null,null,"С комплектом корзинами (5 шт.)",null,null,null,135786,{"$f":"ROUND(I39*(1-$E$3)/Лист2!$A$6,0)","v":135786},"ВБ9016.El.0.5.tn.4.PS.0"]
[null,null,"1190.00.00.00-01","Ларь-витрина низкотемпературный ЛВН 2500 (ЛБ2 М 2500) PUSH","Без делителей и корзин",null,null,"2500х858х869",{"$f":"I42-6*$I$80","v":130996},{"$f":"ROUND(I40*(1-$E$3)/Лист2!$A$6,0)","v":130996},"ВБ9016.El.0.0.tn.4.PS.0"]
[null,null,null,null,"С комплектом делителей (4 шт.)",null,null,null,{"$f":"I40+4*$I$79","v":133996},{"$f":"ROUND(I41*(1-$E$3)/Лист2!$A$6,0)","v":133996},"ВБ9016.El.4.0.tn.4.PS.0"]
[null,null,null,null,"С комплектом корзинами (6 шт.)",null,null,null,141136,{"$f":"ROUND(I42*(1-$E$3)/Лист2!$A$6,0)","v":141136},"ВБ9016.El.0.6.tn.4.PS.0"]
[3,"ЛВН низкотемпературный RONDO с термостатом"]
[]
["- Стандартная комплектация ЛВН Italfrost:\n- Корпус внешний - оцинкованный металл (RAL 9003);\n- Охлаждаемый объем - цвет решеток/делителей RAL 9003;\n- Хладагент R-290, \n- БЕЗ оттайки горячим газом, БЕЗ системы выпаривания конденсата, БЕЗ освещения;\n- Термостат (управление температурой в объеме);",null,null,null,null,"- БЕЗ верхнего бампера;\n- Система решеток по периметру охлаждаемого объема (1 разделитель, устанавливаемый возле агрегатного отсека во всю высоту охл.объема);\n- Температурный режим  -18..-24  ̊С\n- Цвет пластиковых элеметов RAL 7035 (крышка, окантовка стекла, бампер, ручки); \n- Деревянная обрешетка;"]
[]
[null,null,"1096.00.00.00","Ларь-витрина низкотемпературный ЛВНР 1850 (ЛБТР М 1850)","С комплектом делителей (2 шт.)",null," -18..-24  ̊С","1850х858х869",93007,{"$f":"ROUND(I47*(1-$E$3)/Лист2!$A$6,0)","v":93007},"ББ9016.Т.2.0.tn.0.PS.0"]
[null,null,null,null,"С комплектом корзинами (4 шт.)",null,null,null,96492,{"$f":"ROUND(I48*(1-$E$3)/Лист2!$A$6,0)","v":96492},"ББ9016.Т.0.4.tn.0.PS.0"]
[null,null,"1095.00.00.00-02","Ларь-витрина низкотемпературный ЛВНР 1850 (ЛБР М 1850)","С комплектом делителей (2 шт.)",null,null,"1850х858х869",90381,{"$f":"ROUND(I49*(1-$E$3)/Лист2!$A$6,0)","v":90381},"ББ9016.Т.2.0.tn.0.PS.0"]
[null,null,null,null,"С комплектом корзинами (4 шт.)",null,null,null,93866,{"$f":"ROUND(I50*(1-$E$3)/Лист2!$A$6,0)","v":93866},"ББ9016.Т.0.4.tn.0.PS.0"]
[null,null,"1095.00.00.00","Ларь-витрина низкотемпературный ЛВНР 2100 (ЛБР М 2100)","С комплектом делителей (3 шт.)",null,null,"2100х858х869",93757,{"$f":"ROUND(I51*(1-$E$3)/Лист2!$A$6,0)","v":93757},"ББ9016.Т.3.0.tn.0.PS.0"]
[null,null,null,null,"С комплектом корзинами (5 шт.)",null,null,null,97739,{"$f":"ROUND(I52*(1-$E$3)/Лист2!$A$6,0)","v":97739},"ББ9016.Т.0.5.tn.0.PS.0"]
[null,null,"1095.00.00.00-01","Ларь-витрина низкотемпературный ЛВНР 2500 (ЛБР М 2500)","С комплектом делителей (4 шт.)",null,null,"2500х858х869",108283,{"$f":"ROUND(I53*(1-$E$3)/Лист2!$A$6,0)","v":108283},"ББ9016.Т.4.0.tn.0.PS.0"]
[null,null,null,null,"С комплектом корзинами (6 шт.)",null,null,null,112762,{"$f":"ROUND(I54*(1-$E$3)/Лист2!$A$6,0)","v":112762},"ББ9016.Т.0.6.tn.0.PS.0"]
[4,"ЛВН низкотемпературный RONDO с контроллером"]
[]
["- Стандартная комплектация ЛВН Italfrost:\n- Корпус внешний - оцинкованный металл (RAL 9003);\n- Охлаждаемый объем - цвет решеток/делителей RAL 9003;\n- хладагент R-290, \n- БЕЗ оттайки горячим газом, БЕЗ системы выпаривания конденсата, БЕЗ освещения;\n- Электронный контроллер;",null,null,null,null,"- БЕЗ верхнего бампера;\n- Система решеток по периметру охлаждаемого объема (1 разделитель, устанавливаемый возле агрегатного отсека во всю высоту охл.объема);\n- Температурный режим  -18..-24  ̊С\n- Цвет пластиковых элеметов RAL 7035 (крышка, окантовка стекла, бампер, ручки); \n- Деревянная обрешетка;"]
[]
[null,null,"1096.00.00.00","Ларь-витрина низкотемпературный ЛВНР 1850 (ЛБТР М 1850)","С комплектом делителей (2 шт.)",null," -18..-24  ̊С","1850х858х869",95135,{"$f":"ROUND(I59*(1-$E$3)/Лист2!$A$6,0)","v":95135},"ББ9016.El.2.0.tn.0.PS.0"]
[null,null,null,null,"С комплектом корзинами (4 шт.)",null,null,null,98620,{"$f":"ROUND(I60*(1-$E$3)/Лист2!$A$6,0)","v":98620},"ББ9016.El.0.4.tn.0.PS.0"]
[null,null,"1095.00.00.00-02","Ларь-витрина низкотемпературный ЛВНР 1850 (ЛБР М 1850)","С комплектом делителей (2 шт.)",null,null,"1850х858х869",92524,{"$f":"ROUND(I61*(1-$E$3)/Лист2!$A$6,0)","v":92524},"ББ9016.El.2.0.tn.0.PS.0"]
[null,null,null,null,"С комплектом корзинами (4 шт.)",null,null,null,96010,{"$f":"ROUND(I62*(1-$E$3)/Лист2!$A$6,0)","v":96010},"ББ9016.El.0.4.tn.0.PS.0"]
[null,null,"1095.00.00.00","Ларь-витрина низкотемпературный ЛВНР 2100 (ЛБР М 2100)","С комплектом делителей (3 шт.)",null,null,"2100х858х869",95884,{"$f":"ROUND(I63*(1-$E$3)/Лист2!$A$6,0)","v":95884},"ББ9016.El.3.0.tn.0.PS.0"]
[null,null,null,null,"С комплектом корзинами (5 шт.)",null,null,null,99867,{"$f":"ROUND(I64*(1-$E$3)/Лист2!$A$6,0)","v":99867},"ББ9016.El.0.5.tn.0.PS.0"]
[null,null,"1095.00.00.00-01","Ларь-витрина низкотемпературный ЛВНР 2500 (ЛБР М 2500)","С комплектом делителей (4 шт.)",null,null,"2500х858х869",110424,{"$f":"ROUND(I65*(1-$E$3)/Лист2!$A$6,0)","v":110424},"ББ9016.El.4.0.tn.0.PS.0"]
[null,null,null,null,"С комплектом корзинами (6 шт.)",null,null,null,114902,{"$f":"ROUND(I66*(1-$E$3)/Лист2!$A$6,0)","v":114902},"ББ9016.El.0.6.tn.0.PS.0"]
[5,"КОМПЛЕКТУЮЩИЕ"]
[]
["Бампер (Определяется харакетристикой, либо для отдельного заказа)"]
[null,null,null,"Комплект трехстороннего нижнего бампера L=1850 для ЛВН ЛБТ",null,null,null,null,1539,{"$f":"ROUND(I70*(1-$E$3)/Лист2!$A$6,0)","v":1539}]
[null,null,null,"Комплект трехстороннего верхнего бампера L=1850 для ЛВН ЛБТ",null,null,null,null,1615,{"$f":"ROUND(I71*(1-$E$3)/Лист2!$A$6,0)","v":1615}]
[null,null,"1022.73.00.00-02","Комплект нижнего бампера L=1850 для ЛВН ЛБ",null,null,null,null,1278,{"$f":"ROUND(I72*(1-$E$3)/Лист2!$A$6,0)","v":1278}]
[null,null,"1022.72.00.00-02","Комплект верхнего бампера L=1850 для ЛВН ЛБ",null,null,null,null,1397,{"$f":"ROUND(I73*(1-$E$3)/Лист2!$A$6,0)","v":1397}]
[null,null,"1022.73.00.00","Комплект нижнего бампера L=2100 для ЛВН ЛБ",null,null,null,null,1330,{"$f":"ROUND(I74*(1-$E$3)/Лист2!$A$6,0)","v":1330}]
[null,null,"1022.72.00.00","Комплект верхнего бампера L=2100 для  ЛВН ЛБ",null,null,null,null,1397,{"$f":"ROUND(I75*(1-$E$3)/Лист2!$A$6,0)","v":1397}]
[null,null,"1022.73.00.00-01","Комплект нижнего бампера L=2500 для ЛВН ЛБ",null,null,null,null,1448,{"$f":"ROUND(I76*(1-$E$3)/Лист2!$A$6,0)","v":1448}]
[null,null,"1022.72.00.00-01","Комплект верхнего бампера L=2500 для ЛВН ЛБ ",null,null,null,null,1520,{"$f":"ROUND(I77*(1-$E$3)/Лист2!$A$6,0)","v":1520}]
["Разделители и корзины (полимерное покрытие, цвет - RAL 9003)"]
[null,null,"1022.45.00.00","Разделитель поперечный объема 1022.45.00.00 L=1850/2100/2500 для ЛБ М",null,null,null,null,750,{"$f":"ROUND(I79*(1-$E$3)/Лист2!$A$6,0)","v":750}]
[null,null,"1022.110.00.00-01","Корзина увеличенная над агрегатным отсеком 1022.110.00.00-01 для ЛВН/ЛВС (ЛБ М) (Устанавливается над агрегатным отсеком, 1 шт. в ЛБ каждого типоразмера)",null,null,null,null,1690,{"$f":"ROUND(I80*(1-$E$3)/Лист2!$A$6,0)","v":1690}]
[null,null,"1022.110.00.00","Корзина 1022.110.00.00 для ЛВН/ЛВС (ЛБ М) (в ЛБ длиной 2500 устанавливается 5 данных корзин, в 2100 - 4 корзины, в 1850 - 3 корзины)",null,null,null,null,1690,{"$f":"ROUND(I81*(1-$E$3)/Лист2!$A$6,0)","v":1690}]
["Суперструктуры и опции"]
[null,null,"1022.61.00.00-02","Суперструктура пристенная 1022.61.00.00-02 для ЛВН/ЛВС (ЛБ М) 1850",null,null,null,null,22961,{"$f":"ROUND(I83*(1-$E$3)/Лист2!$A$6,0)","v":22961}]
[null,null,"1022.61.00.00","Суперструктура пристенная 1022.61.00.00 для ЛВН/ЛВС (ЛБ М) 2100",null,null,null,null,24019,{"$f":"ROUND(I84*(1-$E$3)/Лист2!$A$6,0)","v":24019}]
[null,null,"1022.61.00.00-01","Суперструктура пристенная 1022.61.00.00-01 для ЛВН/ЛВС (ЛБ М) 2500",null,null,null,null,25516,{"$f":"ROUND(I85*(1-$E$3)/Лист2!$A$6,0)","v":25516}]
[null,null,"1022.60.00.00-02","Суперструктура островная 1022.60.00.00-02 для ЛВН/ЛВС (ЛБ М) 1850",null,null,null,null,30274,{"$f":"ROUND(I86*(1-$E$3)/Лист2!$A$6,0)","v":30274}]
[null,null,"1022.60.00.00","Суперструктура островная 1022.60.00.00 для ЛВН/ЛВС (ЛБ М) 2100",null,null,null,null,32302,{"$f":"ROUND(I87*(1-$E$3)/Лист2!$A$6,0)","v":32302}]
[null,null,"1022.60.00.00-01","Суперструктура островная 1022.60.00.00-01 для ЛВН/ЛВС (ЛБ М) 2500",null,null,null,null,34893,{"$f":"ROUND(I88*(1-$E$3)/Лист2!$A$6,0)","v":34893}]
[]
[null,null,"429.80.00.00-02","Комплект подсветки прист 429.80.00.00-02 L=1850 для ЛБ М (LED, лампа Т5)",null,null,null,null,6461,{"$f":"ROUND(I90*(1-$E$3)/Лист2!$A$6,0)","v":6461}]
[null,null,"429.80.00.00","Комплект подсветки прист 429.80.00.00 L=2100 для ЛБ М (LED, лампа Т5)",null,null,null,null,6801,{"$f":"ROUND(I91*(1-$E$3)/Лист2!$A$6,0)","v":6801}]
[null,null,"429.80.00.00-01","Комплект подсветки прист 429.80.00.00-01 L=2500 для ЛБ М (LED, лампа Т5)",null,null,null,null,7012,{"$f":"ROUND(I92*(1-$E$3)/Лист2!$A$6,0)","v":7012}]
[null,null,"429.64.00.00-02","Комплект подсветки остр суперстр 429.64.00.00-02 L=1850 для ЛБ М (LED, лампа Т5)",null,null,null,null,12269,{"$f":"ROUND(I93*(1-$E$3)/Лист2!$A$6,0)","v":12269}]
[null,null,"429.64.00.00","Комплект подсветки остр суперстр 429.64.00.00 L=2100 для ЛБ М (LED, лампа Т5)",null,null,null,null,12915,{"$f":"ROUND(I94*(1-$E$3)/Лист2!$A$6,0)","v":12915}]
[null,null,"429.64.00.00-01","Комплект подсветки остр суперстр 429.64.00.00-01 L=2500 для ЛБ М (LED, лампа Т5)",null,null,null,null,13453,{"$f":"ROUND(I95*(1-$E$3)/Лист2!$A$6,0)","v":13453}]
[]
[null,null,"429.70.00.00-02","Комплект ценникодержателей прист 429.70.00.00-02 L=1850 для ЛБ М",null,null,null,null,451,{"$f":"ROUND(I97*(1-$E$3)/Лист2!$A$6,0)","v":451}]
[null,null,"429.70.00.00","Комплект ценникодержателей прист 429.70.00.00 L=2100 для ЛБ М",null,null,null,null,530,{"$f":"ROUND(I98*(1-$E$3)/Лист2!$A$6,0)","v":530}]
[null,null,"429.70.00.00-01","Комплект ценникодержателей прист 429.70.00.00-01 L=2500 для ЛБ М",null,null,null,null,530,{"$f":"ROUND(I99*(1-$E$3)/Лист2!$A$6,0)","v":530}]
[null,null,"429.66.00.00-02","Комплект ценникодержателей остр 429.66.00.00-02 L=1850 для ЛБ М",null,null,null,null,530,{"$f":"ROUND(I100*(1-$E$3)/Лист2!$A$6,0)","v":530}]
[null,null,"429.66.00.00","Комплект ценникодержателей остр 429.66.00.00 L=2100 для ЛБ М",null,null,null,null,1063,{"$f":"ROUND(I101*(1-$E$3)/Лист2!$A$6,0)","v":1063}]
[null,null,"429.66.00.00-01","Комплект ценникодержателей остр 429.66.00.00-01 L=2500 для ЛБ М",null,null,null,null,1063,{"$f":"ROUND(I102*(1-$E$3)/Лист2!$A$6,0)","v":1063}]
[]
[null,null,"429.71.00.00-02","Комплект ограничителей прист 429.71.00.00-02 L=1850 для ЛБ М",null,null,null,null,1414,{"$f":"ROUND(I104*(1-$E$3)/Лист2!$A$6,0)","v":1414}]
[null,null,"429.71.00.00","Комплект ограничителей прист 429.71.00.00 L=2100 для ЛБ М",null,null,null,null,1414,{"$f":"ROUND(I105*(1-$E$3)/Лист2!$A$6,0)","v":1414}]
[null,null,"429.71.00.00-01","Комплект ограничителей прист 429.71.00.00-01 L=2500 для ЛБ М",null,null,null,null,1785,{"$f":"ROUND(I106*(1-$E$3)/Лист2!$A$6,0)","v":1785}]
[null,null,"429.68.00.00-02","Комплект ограничителей остр 429.68.00.00-02 L=1850 для ЛБ М",null,null,null,null,2433,{"$f":"ROUND(I107*(1-$E$3)/Лист2!$A$6,0)","v":2433}]
[null,null,"429.68.00.00","Комплект ограничителей остр 429.68.00.00 L=2100 для ЛБ М",null,null,null,null,2829,{"$f":"ROUND(I108*(1-$E$3)/Лист2!$A$6,0)","v":2829}]
[null,null,"429.68.00.00-01","Комплект ограничителей остр 429.68.00.00-01 L=2500 для ЛБ М",null,null,null,null,3562,{"$f":"ROUND(I109*(1-$E$3)/Лист2!$A$6,0)","v":3562}]
[]
[null,null,"1022.62.00.00-02","Соединительный комплект спина к спине остр 1022.62.00.00-02 L=1850 для ЛБ М",null,null,null,null,1193,{"$f":"ROUND(I111*(1-$E$3)/Лист2!$A$6,0)","v":1193}]
[null,null,"1022.62.00.00","Соединительный комплект спина к спине остр 1022.62.00.00 L=2100 для ЛБ М",null,null,null,null,1222,{"$f":"ROUND(I112*(1-$E$3)/Лист2!$A$6,0)","v":1222}]
[null,null,"1022.62.00.00-01","Соединительный комплект спина к спине остр 1022.62.00.00-01 L=2500 для ЛБ М",null,null,null,null,1385,{"$f":"ROUND(I113*(1-$E$3)/Лист2!$A$6,0)","v":1385}]
[null,null,"1022.89.00.00-02","Воздуховод с площадкой под ценникодержатели низкий 1022.89.00.00-02 для ЛВН/ЛВС  (ЛБ М) 1850",null,null,null,null,2906,{"$f":"ROUND(I114*(1-$E$3)/Лист2!$A$6,0)","v":2906}]
[null,null,"1022.89.00.00","Воздуховод с площадкой под ценникодержатели низкий 1022.89.00.00 для ЛВН/ЛВС  (ЛБ М) 2100",null,null,null,null,2924,{"$f":"ROUND(I115*(1-$E$3)/Лист2!$A$6,0)","v":2924}]
[null,null,"1022.89.00.00-01","Воздуховод с площадкой под ценникодержатели низкий 1022.89.00.00-01 для ЛВН/ЛВС (ЛБ М) 2500",null,null,null,null,3143,{"$f":"ROUND(I116*(1-$E$3)/Лист2!$A$6,0)","v":3143}]
[null,null,"1022.111.00.00","Боковая заглушка к соед. комплекту «спина к спине» остр. 1022.111.00.00 для ЛВН/ЛВС (ЛБ М)",null,null,null,null,324,{"$f":"ROUND(I117*(1-$E$3)/Лист2!$A$6,0)","v":324}]
[]
[null,null,"404.99.00.00","Компл 3-его уровн полок прист суперстр 404.99.00.00 L=1850 для ЛБТМ (G=370 мм)",null,null,null,null,3028,{"$f":"ROUND(I119*(1-$E$3)/Лист2!$A$6,0)","v":3028}]
[null,null,"429.99.00.00","Компл 3-его уровн полок прист суперстр 429.99.00.00 L=2100 для ЛБМ (G=370 мм)",null,null,null,null,3175,{"$f":"ROUND(I120*(1-$E$3)/Лист2!$A$6,0)","v":3175}]
[null,null,"429.100.00.00","Компл 3-его уровн полок прист суперстр 429.100.00.00 L=2500 для ЛБМ  (G=370 мм)",null,null,null,null,3374,{"$f":"ROUND(I121*(1-$E$3)/Лист2!$A$6,0)","v":3374}]
[null,null,"429.96.00.00","Компл 3-его уровн полок остр суперстр 429.96.00.00 L=2100 для ЛБМ (G=370 мм)",null,null,null,null,5375,{"$f":"ROUND(I122*(1-$E$3)/Лист2!$A$6,0)","v":5375}]
[null,null,"429.97.00.00","Компл 3-его уровн полок остр суперстр 429.97.00.00 L=2500 для ЛБМ (G=370 мм)",null,null,null,null,5831,{"$f":"ROUND(I123*(1-$E$3)/Лист2!$A$6,0)","v":5831}]
[null,null,"429.102.00.00","Компл торц полок остр суперстр 429.102.00.00 L=2100/2500 для ЛБТМ",null,null,null,null,8778,{"$f":"ROUND(I124*(1-$E$3)/Лист2!$A$6,0)","v":8778}]
[null,null,"429.101.00.00","Компл торц полукр полок остр суперстр 429.101.00.00 L=2100/2500 для ЛБТМ",null,null,null,null,5220,{"$f":"ROUND(I125*(1-$E$3)/Лист2!$A$6,0)","v":5220}]
[]
[null,null,null,null,null,null,null,"НАВЕРХ"]

{"sheet":"Столы Italfrost с боковым","index":15,"n_rows":44,"n_cols":15,"rows_kept":44,"cut":false,"hidden":true,"merged":[[28,15,29,15],[30,15,31,15],[32,15,33,15],[9,15,10,15],[11,15,12,15],[13,15,14,15],[15,15,16,15],[17,15,18,15],[19,15,20,15],[22,15,23,15],[24,15,25,15],[26,15,27,15],[35,0,35,1],[37,0,37,1],[38,0,38,1],[39,0,39,1],[40,0,40,1],[41,0,41,1],[42,0,42,1],[43,0,43,1],[35,3,35,11],[37,3,37,11],[39,3,39,11],[38,3,38,11],[40,3,40,11],[41,3,41,11],[42,3,42,8],[43,3,43,8],[36,0,36,13],[34,0,34,13],[9,7,10,7],[9,8,10,8],[11,7,12,7],[11,8,12,8],[22,7,23,7],[22,8,23,8],[24,7,25,7],[24,8,25,8],[26,7,27,7],[26,8,27,8],[28,7,29,7],[28,8,29,8],[30,7,31,7],[30,8,31,8],[32,7,33,7],[32,8,33,8],[9,9,10,9],[11,9,12,9],[22,9,23,9],[24,9,25,9],[32,4,33,4],[32,5,33,5],[32,6,33,6],[32,10,33,10],[32,11,33,11],[32,12,33,12],[32,13,33,13],[30,9,31,9],[32,9,33,9],[28,4,29,4],[28,5,29,5],[28,6,29,6],[28,10,29,10],[28,11,29,11],[28,12,29,12],[28,13,29,13],[30,4,31,4],[30,5,31,5],[30,6,31,6],[30,10,31,10],[30,11,31,11],[30,12,31,12],[30,13,31,13],[26,9,27,9],[28,9,29,9],[24,4,25,4],[24,5,25,5],[24,6,25,6],[24,10,25,10],[24,11,25,11],[24,12,25,12],[24,13,25,13],[26,4,27,4],[26,5,27,5],[26,6,27,6],[26,10,27,10],[26,11,27,11],[26,12,27,12],[26,13,27,13],[21,0,21,13],[22,4,23,4],[22,5,23,5],[22,6,23,6],[22,10,23,10],[22,11,23,11],[22,12,23,12],[22,13,23,13],[22,0,25,1],[1,0,1,1],[2,0,2,1],[3,0,3,1],[6,0,7,0],[6,1,7,1],[6,2,7,2],[13,0,16,1],[13,4,14,4],[13,5,14,5],[5,0,5,13],[6,12,7,12],[6,13,7,13],[6,7,7,7],[6,8,7,8],[6,9,6,11],[8,0,8,13],[9,0,12,1],[9,4,10,4],[9,5,10,5],[9,6,10,6],[6,3,7,3],[6,4,6,5],[6,6,7,6],[9,10,10,10],[9,11,10,11],[9,12,10,12],[9,13,10,13],[11,4,12,4],[11,5,12,5],[11,6,12,6],[11,10,12,10],[11,11,12,11],[11,12,12,12],[11,13,12,13],[13,11,14,11],[13,12,14,12],[13,13,14,13],[15,4,16,4],[15,5,16,5],[15,6,16,6],[15,11,16,11],[15,12,16,12],[15,13,16,13],[15,7,16,7],[15,8,16,8],[15,9,16,9],[15,10,16,10],[13,10,14,10],[13,9,14,9],[13,8,14,8],[13,7,14,7],[13,6,14,6],[17,0,20,1],[17,4,18,4],[17,5,18,5],[17,6,18,6],[17,11,18,11],[17,12,18,12],[17,13,18,13],[19,4,20,4],[19,5,20,5],[19,6,20,6],[19,11,20,11],[19,12,20,12],[19,13,20,13],[17,7,18,7],[17,8,18,8],[17,9,18,9],[17,10,18,10],[19,7,20,7],[19,8,20,8],[19,9,20,9],[19,10,20,10]]}
[null,null,null,null,null,null,null,null,null,null,null,null,null,null,"На главную"]
[]
["Ваша скидка:",null,{"$f":"Содержание!D2","v":0},null,null,null,null,null,null,null,null,null,null,"На главную"]
["НДС:",null,{"$f":"IF(Лист2!A1=TRUE,\"С НДС\",\"БЕЗ НДС\")","v":"С НДС"}]
[]
["Охлаждаемые столы с боковым расположением агрегата"]
["№","Внешний вид","Наименование","С бортом/ без борта","Количество",null,"Стандарт\nGastronorm\nGN 1/1","Общий объём, л","Полезный объём, л","Габаритные размеры, мм",null,null,"Базовая цена, руб. (с НДС)",{"$f":"Лист2!$A$5","v":"Ваша цена, руб."}]
[null,null,null,null,"Ящиков","Дверей",null,null,null,"Длина","Ширина","Высота"]
["Холодильные столы с нержавеющей столешницей (температурный режим, °C +1…+10)"]
[null,null,"Шкаф-стол холодильный СШC-0,2 GN-1400","С бортом ",0,2,"+",305,220,1393,700,840,78937.84,{"$f":"ROUND(M10*(1-$C$3)/Лист2!$A$6,0)","v":78938}]
[null,null,"Шкаф-стол холодильный СШC-0,2 GNВ-1400","Без борта"]
[null,null,"Шкаф-стол холодильный СШС-0,2-1400","С бортом ",0,2,"-",255,200,1393,600,840,78514.64,{"$f":"ROUND(M12*(1-$C$3)/Лист2!$A$6,0)","v":78515}]
[null,null,"Шкаф-стол холодильный СШС-0,2 В-1400","Без борта"]
[null,null,"Шкаф-стол холодильный СШС-0,3 GN-1850","С бортом ",0,3,"+",465,310,1838,700,840,93059.840000000011,{"$f":"ROUND(M14*(1-$C$3)/Лист2!$A$6,0)","v":93060}]
[null,null,"Шкаф-стол холодильный СШС-0,3 GNВ-1850","Без борта"]
[null,null,"Шкаф-стол холодильный СШС-0,3-1850","С бортом ",0,3,"-",395,260,1838,600,840,92634.8,{"$f":"ROUND(M16*(1-$C$3)/Лист2!$A$6,0)","v":92635}]
[null,null,"Шкаф-стол холодильный СШС-0,3 В-1850","Без борта"]
[null,null,"Шкаф-стол холодильный СШС-0,4 GN-2300","С бортом ",0,4,"+",620,410,2283,700,840,112828.8,{"$f":"ROUND(M18*(1-$C$3)/Лист2!$A$6,0)","v":112829}]
[null,null,"Шкаф-стол холодильный СШС-0,4 GNВ-2300","Без борта"]
[null,null,"Шкаф-стол холодильный СШС-0,4-2300","С бортом ",0,4,"-",520,340,2283,600,840,112405.6,{"$f":"ROUND(M20*(1-$C$3)/Лист2!$A$6,0)","v":112406}]
[null,null,"Шкаф-стол холодильный СШС-0,4 В-2300","Без борта"]
["Морозильные столы с нержавеющей столешницей (температурный режим, °C -20…-10)"]
[null,null,"Шкаф-стол морозильный СШН-0,2 GN-1400","С бортом",0,2,"+",305,220,1393,700,840,91647.64,{"$f":"ROUND(M23*(1-$C$3)/Лист2!$A$6,0)","v":91648}]
[null,null,"Шкаф-стол морозильный СШН-0,2 GNВ-1400","Без борта"]
[null,null,"Шкаф-стол морозильный СШН-0,2-1400","С бортом",0,2,"-",255,200,1393,600,840,91223.52,{"$f":"ROUND(M25*(1-$C$3)/Лист2!$A$6,0)","v":91224}]
[null,null,"Шкаф-стол морозильный СШН-0,2 В-1400","Без борта"]
[null,null,"Шкаф-стол морозильный СШН-0,3 GN-1850","С бортом",0,3,"+",465,310,1838,700,840,117066.32,{"$f":"ROUND(M27*(1-$C$3)/Лист2!$A$6,0)","v":117066}]
[null,null,"Шкаф-стол морозильный СШН-0,3 GNВ-1850","Без борта"]
[null,null,"Шкаф-стол морозильный СШН-0,3-1850","С бортом",0,3,"-",395,260,1838,600,840,116642.20000000001,{"$f":"ROUND(M29*(1-$C$3)/Лист2!$A$6,0)","v":116642}]
[null,null,"Шкаф-стол морозильный СШН-0,3 В-1850","Без борта"]
[null,null,"Шкаф-стол морозильный СШН-0,4 GN-2300","С бортом",0,4,"+",620,410,2283,700,840,138247.48000000001,{"$f":"ROUND(M31*(1-$C$3)/Лист2!$A$6,0)","v":138247}]
[null,null,"Шкаф-стол морозильный СШН-0,4 GNВ-2300","Без борта"]
[null,null,"Шкаф-стол морозильный СШН-0,4-2300","С бортом",0,4,"-",520,340,2283,600,840,137823.36000000002,{"$f":"ROUND(M33*(1-$C$3)/Лист2!$A$6,0)","v":137823}]
[null,null,"Шкаф-стол морозильный СШН-0,4 В-2300","Без борта"]
["Модификации к холодильным/морозильным столам( добавить к стандартной стоимости изделия)"]
[null,null,"Замена стандартных ножек на колеса, 2 из них с тормозом",null,null,null,null,null,null,null,null,null,8218.36,{"$f":"ROUND(M36*(1-$C$3)/Лист2!$A$6,0)","v":8218}]
["Опции к холодильным/морозильным столам(поставляются отдельно)"]
[null,null,"Решетка защитаная для агрега из нержавеющей стали (84312), артикул СО.906.57.00.00",null,null,null,null,null,null,null,null,null,1867.6000000000001,{"$f":"ROUND(M38*(1-$C$3)/Лист2!$A$6,0)","v":1868}]
[null,null,"Полкодержатель слева (96480) для столов 700, артикул СО.979.03.0000.05",null,null,null,null,null,null,null,null,null,336.72,{"$f":"ROUND(M39*(1-$C$3)/Лист2!$A$6,0)","v":337}]
[null,null,"Полкодержатель справа (96481) для столов 700, артикул СО.979.03.0000.05mir",null,null,null,null,null,null,null,null,null,336.72,{"$f":"ROUND(M40*(1-$C$3)/Лист2!$A$6,0)","v":337}]
[null,null,"Полкодержатель слева (106969) для столов 700, артикул СО.906.03.0000.05",null,null,null,null,null,null,null,null,null,311.88,{"$f":"ROUND(M41*(1-$C$3)/Лист2!$A$6,0)","v":312}]
[null,null,"Полкодержатель справа (106970) для столов 700, артикул СО.906.03.0000.05mir",null,null,null,null,null,null,null,null,null,311.88,{"$f":"ROUND(M42*(1-$C$3)/Лист2!$A$6,0)","v":312}]
[null,null,"Полка решетчатая для столов 700, крашенная (100670), артикул СО.979.56.5000.01",null,null,null,null,null,null,332,570,"4(6)",1184.04,{"$f":"ROUND(M43*(1-$C$3)/Лист2!$A$6,0)","v":1184}]
[null,null,"Полка решетчатая для столов 600, крашенная (100671), артикул СО.906.56.5000.01",null,null,null,null,null,null,332,470,"4(6)",996.36,{"$f":"ROUND(M44*(1-$C$3)/Лист2!$A$6,0)","v":996}]

{"sheet":"Столы Italfrost с нижним","index":16,"n_rows":36,"n_cols":14,"rows_kept":36,"cut":false,"hidden":true,"merged":[[35,0,35,1],[35,3,35,8],[21,0,24,1],[29,3,29,11],[32,0,32,1],[32,3,32,11],[33,0,33,1],[33,3,33,11],[34,0,34,1],[34,3,34,8],[27,0,27,13],[28,0,28,1],[28,3,28,11],[30,0,30,1],[30,3,30,11],[31,0,31,1],[25,0,25,13],[23,10,24,10],[23,11,24,11],[23,12,24,12],[23,13,24,13],[31,3,31,11],[26,0,26,1],[26,3,26,11],[8,15,9,15],[10,15,11,15],[12,15,13,15],[14,15,15,15],[17,15,18,15],[19,15,20,15],[21,15,22,15],[23,15,24,15],[21,10,22,10],[21,11,22,11],[21,12,22,12],[21,13,22,13],[17,11,18,11],[17,12,18,12],[17,13,18,13],[16,0,16,13],[17,0,20,1],[17,4,18,4],[17,5,18,5],[17,6,18,6],[17,7,18,7],[19,10,20,10],[19,11,20,11],[19,12,20,12],[23,4,24,4],[23,5,24,5],[23,6,24,6],[23,7,24,7],[23,8,24,8],[23,9,24,9],[21,4,22,4],[21,5,22,5],[21,6,22,6],[21,7,22,7],[21,8,22,8],[21,9,22,9],[19,13,20,13],[19,4,20,4],[19,5,20,5],[19,6,20,6],[19,7,20,7],[19,8,20,8],[19,9,20,9],[17,8,18,8],[17,9,18,9],[17,10,18,10],[10,13,11,13],[14,9,15,9],[14,10,15,10],[14,11,15,11],[14,12,15,12],[14,13,15,13],[12,9,13,9],[12,10,13,10],[12,11,13,11],[12,12,13,12],[12,13,13,13],[8,12,9,12],[14,4,15,4],[14,5,15,5],[14,6,15,6],[14,7,15,7],[14,8,15,8],[10,10,11,10],[10,11,11,11],[10,12,11,12],[5,3,6,3],[5,4,5,5],[5,6,6,6],[5,7,6,7],[5,8,6,8],[5,9,5,11],[12,0,15,1],[12,4,13,4],[12,5,13,5],[12,6,13,6],[12,7,13,7],[12,8,13,8],[8,10,9,10],[8,11,9,11],[4,0,4,13],[0,0,0,1],[1,0,1,1],[2,0,2,1],[5,0,6,0],[5,1,6,1],[5,2,6,2],[8,13,9,13],[10,4,11,4],[10,5,11,5],[10,6,11,6],[10,7,11,7],[10,8,11,8],[10,9,11,9],[5,12,6,12],[5,13,6,13],[7,0,7,13],[8,0,11,1],[8,4,9,4],[8,5,9,5],[8,6,9,6],[8,7,9,7],[8,8,9,8],[8,9,9,9]]}
[]
["Ваша скидка:",null,{"$f":"Содержание!D2","v":0},null,null,null,null,null,null,null,null,null,null,"На главную"]
["НДС:",null,{"$f":"IF(Лист2!A1=TRUE,\"С НДС\",\"БЕЗ НДС\")","v":"С НДС"}]
[]
["Охлаждаемые столы с нижним расположением агрегата"]
["№","Внешний вид","Наименование","С бортом/ без борта","Количество",null,"Стандарт\nGastronorm\nGN 1/1","Общий объём, л","Полезный объём, л","Габаритные размеры, мм",null,null,"Базовая цена, руб. (с НДС)",{"$f":"Лист2!$A$5","v":"Ваша цена, руб."}]
[null,null,null,null,"Ящиков","Дверей",null,null,null,"Длина","Ширина","Высота"]
["Холодильные столы с нержавеющей столешницей (температурный режим, °C +1…+10)"]
[null,null,"Шкаф-стол холодильный СШС-0,2 GN-1000 NDSBS","С бортом ",0,2,"+",245,200,1000,700,865,72368.12000000001,{"$f":"ROUND(M9*(1-$C$2)/Лист2!$A$6,0)","v":72368}]
[null,null,"Шкаф-стол холодильный СШС-0,2 GN-1000 NDSFS","Без борта"]
[null,null,"Шкаф-стол холодильный СШС-0,2-1000 NDSBS","С бортом ",0,2,"-",205,165,1000,600,865,70104,{"$f":"ROUND(M11*(1-$C$2)/Лист2!$A$6,0)","v":70104}]
[null,null,"Шкаф-стол холодильный СШС-0,2-1000 NDSFS","Без борта"]
[null,null,"Шкаф-стол холодильный СШС-0,3 GN-1500 NDSBS","С бортом ",0,3,"+",375,260,1500,700,865,86982.32,{"$f":"ROUND(M13*(1-$C$2)/Лист2!$A$6,0)","v":86982}]
[null,null,"Шкаф-стол холодильный СШС-0,3 GN-1500 NDSFS","Без борта"]
[null,null,"Шкаф-стол холодильный СШС-0,3-1500 NDSBS","С бортом ",0,3,"-",315,215,1500,600,865,84717.28,{"$f":"ROUND(M15*(1-$C$2)/Лист2!$A$6,0)","v":84717}]
[null,null,"Шкаф-стол холодильный СШС-0,3-1500 NDSFS","Без борта"]
["Морозильные столы с нержавеющей столешницей (температурный режим, °C -20…-10)"]
[null,null,"Шкаф-стол морозильный СШН-0,2 GN-1000 NDSBS","С бортом",0,2,"+",245,200,1000,700,865,80906.64,{"$f":"ROUND(M18*(1-$C$2)/Лист2!$A$6,0)","v":80907}]
[null,null,"Шкаф-стол морозильный СШН-0,2 GN-1000 NDSFS","Без борта"]
[null,null,"Шкаф-стол морозильный СШН-0,2-1000 NDSBS","С бортом",0,2,"-",205,165,1000,600,865,78641.600000000006,{"$f":"ROUND(M20*(1-$C$2)/Лист2!$A$6,0)","v":78642}]
[null,null,"Шкаф-стол морозильный СШН-0,2-1000 NDSFS","Без борта"]
[null,null,"Шкаф-стол морозильный СШН-0,3 GN-1500 NDSBS","С бортом",0,3,"+",375,260,1500,700,865,102087.8,{"$f":"ROUND(M22*(1-$C$2)/Лист2!$A$6,0)","v":102088}]
[null,null,"Шкаф-стол морозильный СШН-0,3 GN-1500 NDSFS","Без борта"]
[null,null,"Шкаф-стол морозильный СШН-0,3-1500 NDSBS","С бортом",0,3,"-",315,215,1500,600,865,99822.760000000009,{"$f":"ROUND(M24*(1-$C$2)/Лист2!$A$6,0)","v":99823}]
[null,null,"Шкаф-стол морозильный СШН-0,3-1500 NDSFS","Без борта"]
["Модификации к холодильным/морозильным столам( добавить к стандартной стоимости изделия)"]
[null,null,"Замена стандартных ножек на колеса, 2 из них с тормозом",null,null,null,null,null,null,null,null,null,8218.36,{"$f":"ROUND(M27*(1-$C$2)/Лист2!$A$6,0)","v":8218}]
["Опции к холодильным/морозильным столам(поставляются отдельно)"]
[null,null,"Решетка защитаная для агрега из нержавеющей стали для 2-х секционного стола(135524), артикул СО.1499.57.00.00 ",null,null,null,null,null,null,null,null,null,1992.72,{"$f":"ROUND(M29*(1-$C$2)/Лист2!$A$6,0)","v":1993}]
[null,null,"Решетка защитаная для агрега из нержавеющей стали для 3-х секционного стола(135527), артикул СО.1503.57.00.00 ",null,null,null,null,null,null,null,null,null,2241.12,{"$f":"ROUND(M30*(1-$C$2)/Лист2!$A$6,0)","v":2241}]
[null,null,"Полкодержатель слева (96480) для столов 700, артикул СО.979.03.0000.05",null,null,null,null,null,null,null,null,null,336.72,{"$f":"ROUND(M31*(1-$C$2)/Лист2!$A$6,0)","v":337}]
[null,null,"Полкодержатель справа (96481) для столов 700, артикул СО.979.03.0000.05mir",null,null,null,null,null,null,null,null,null,336.72,{"$f":"ROUND(M32*(1-$C$2)/Лист2!$A$6,0)","v":337}]
[null,null,"Полкодержатель слева (106969) для столов 700, артикул СО.906.03.0000.05",null,null,null,null,null,null,null,null,null,311.88,{"$f":"ROUND(M33*(1-$C$2)/Лист2!$A$6,0)","v":312}]
[null,null,"Полкодержатель справа (106970) для столов 700, артикул СО.906.03.0000.05mir",null,null,null,null,null,null,null,null,null,311.88,{"$f":"ROUND(M34*(1-$C$2)/Лист2!$A$6,0)","v":312}]
[null,null,"Полка решетчатая для столов 700, крашенная (100670), артикул СО.979.56.5000.01",null,null,null,null,null,null,332,570,"4(6)",1184.04,{"$f":"ROUND(M35*(1-$C$2)/Лист2!$A$6,0)","v":1184}]
[null,null,"Полка решетчатая для столов 600, крашенная (100671), артикул СО.906.56.5000.01",null,null,null,null,null,null,332,470,"4(6)",996.36,{"$f":"ROUND(M36*(1-$C$2)/Лист2!$A$6,0)","v":996}]

{"sheet":"Ледогенераторы","index":17,"n_rows":73,"n_cols":11,"rows_kept":73,"cut":false,"hidden":false,"merged":[[6,10,7,14],[8,0,8,4],[8,5,8,9],[9,1,9,9],[13,8,14,8],[6,2,7,2],[10,1,12,1],[10,3,10,4],[11,3,11,4],[12,3,12,4],[6,8,7,8],[6,7,7,7],[1,0,1,1],[2,0,2,1],[3,0,3,1],[4,0,5,9],[6,0,7,0],[6,1,7,1],[6,3,7,4],[6,5,7,5],[6,6,7,6],[6,9,7,9]]}
[null,null,null,null,null,null,null,null,null,null,"На главную"]
[]
["Ваша скидка:",null,null,{"$f":"Содержание!D2","v":0}]
["НДС:",null,null,{"$f":"IF(Лист2!A1=TRUE,\"С НДС\",\"БЕЗ НДС\")","v":"С НДС"}]
["Льдогенераторы"]
[]
["№","Изображение","Артикул","Наименование",null,"Производительность кг/сутки","Габариты, \n(LxWxH) мм","Габариты, \n(LxWxH) мм","Базовая \nцена, руб.\n(с НДС)",{"$f":"Лист2!$A$5","v":"Ваша цена, руб."}]
[]
["Стандартная комплектация:     \n- Корпус выполнен из нержавеющей стали\n- Управление электро-механическое, охлаждение системы - воздушное, подключение к водопроводу\n- Хладагент – энергоэффективный пропан, R-290\n- Производительность льдогенератора до 20 кг в сутки, емкость бункера 4 кг, тип льда - цилиндрический\n"]
[1,"Льдогенератор кубикового льда"]
[null,null,"ЛГК-24-1-2","Льдогенератор кубикового льда ЛГК-24-1-2",null,20,"385х485х610","425х550х700",85000,{"$f":"ROUND(I11*(1-$D$3)/Лист2!$A$6,0)","v":85000}]
[null,null,null,"Льдогенератор кубикового льда ЛГК-32-1-2",null,26,"470х845х610","510х550х700",99450,{"$f":"ROUND(I12*(1-$D$3)/Лист2!$A$6,0)","v":99450}]
[null,null,null,null,null,null,null,null,null,{"$f":"ROUND(I13*(1-$D$3)/Лист2!$A$6,0)","v":0}]
[null,null,null,null,null,null,null,null,"НАВЕРХ"]
[]
[]
[]
[]
[]
[]
[]
[]
[]
[]
[]
[]
[]
[]
[]
[]
[]
[]
[]
[]
[]
[]
[]
[]
[]
[]
[]
[]
[]
[]
[]
[]
[]
[]
[]
[]
[]
[]
[]
[]
[]
[]
[]
[]
[]
[]
[]
[]
[]
[]
[]
[]
[]
[]
[]
[]
[]
[]
[null,null,null,null,null,null,null,null,null,null,{"$f":"Ледогенераторы!J11=ROUND(J73*(1-$E$3)/Лист2!$A$6,0)","v":false}]

{"sheet":"Цвет стандарт","index":18,"n_rows":65,"n_cols":13,"rows_kept":65,"cut":false,"hidden":false,"merged":[[59,2,61,2],[59,3,61,5],[62,2,64,2],[2,12,2,20],[3,1,8,2],[3,4,8,5],[11,1,16,2],[59,1,61,1],[27,4,32,5],[35,1,39,2],[11,4,15,5],[51,1,51,5],[52,3,52,5],[53,1,55,1],[27,1,32,2],[0,2,1,10],[56,1,58,1],[19,1,24,2],[19,4,24,5],[53,2,55,2],[53,3,55,5],[56,2,58,2],[56,3,58,5],[62,1,64,1],[65,1,65,5]]}
["             ",null," Стандартные цвета для витрин и стеллажей"]
[null,null,null,null,null,null,null,null,null,null,null,null,"На главную"]
[null,"RAL 7016",null,null,"RAL 9016",null,null,"RAL 1021"]
[]
[]
[]
[]
[]
[]
[]
[null,"RAL 7035",null,null,"RAL 7021"]
[]
[]
[]
[]
[]
[]
[]
[null,"RAL 5005",null,null,"RAL 6018"]
[]
[]
[]
[]
[]
[]
[]
[null,"RAL 3004",null,null,"RAL 9005 "]
[]
[]
[]
[]
[]
[]
[]
[null,"RAL 3002",null,null,"RAL 5018 (Действительно только для Magnum Quadro)"]
[]
[]
[]
[]
[]
[]
[]
[]
[null,"Структура красок: глянец"]
[null,"За дополнительную плату могут быть "]
[null,"другие цвета красок, краски с другой структурой (матовая)."]
[null,"В структуры шагрень и муар производитель не красит оборудование в виду их"]
[null,"непрактичности (сложно с покрытия без специальных средств удалять загрязнения)."]
[]
[]
[null,null,null,null,null,null,null,"Дуб Сонома"]
[null,"Расшифровка характеристик ЛДСП"]
[null,"Тип фронталальной панели","Символ","Расшифровка"]
[null,"Фронтальная панель широкая, ЛДСП","G ","Дуб Сонома"]
[]
[]
[null,"Фронтальная панель узкая, ЛДСП","L","Дуб Сонома"]
[]
[]
[null,"Фронтальная панель широкая, ЛДСП с отбойником","Q","Дуб Сонома"]
[]
[]
[null,"Фронтальная панель узкая, ЛДСП с отбойником","U"]
[]
[null,null,null,"Дуб Сонома"]

{"sheet":"Расчет нестанд.RAL","index":19,"n_rows":92,"n_cols":11,"rows_kept":92,"cut":false,"hidden":false,"merged":[[38,2,38,8],[22,2,22,8],[24,1,26,1],[24,2,25,8],[26,2,26,8],[11,1,13,1],[11,2,12,8],[13,2,13,8],[15,1,17,1],[15,2,16,8],[17,2,17,8],[91,6,92,6],[28,1,30,1],[28,2,29,8],[30,2,30,8],[53,1,57,1],[53,2,54,8],[55,2,56,8],[57,2,57,8],[41,1,45,1],[41,2,42,8],[45,2,45,8],[33,1,34,1],[33,2,33,8],[34,2,34,8],[47,1,51,1],[47,2,48,8],[49,2,49,8],[50,2,50,8],[51,2,51,8],[3,1,5,1],[3,2,4,8],[5,2,5,8],[7,1,9,1],[7,2,8,8],[9,2,9,8],[39,2,39,8],[36,1,39,1],[36,2,37,8],[43,2,43,8],[44,2,44,8],[19,1,22,1],[19,2,21,8],[59,1,63,1],[59,2,60,8],[61,2,61,8],[62,2,62,8],[63,2,63,8],[71,1,73,1],[71,2,72,8],[73,2,73,8],[65,1,69,1],[65,2,66,8],[67,2,67,8],[68,2,68,8],[69,2,69,8],[75,1,77,1],[75,2,76,8],[77,2,77,8],[79,1,83,1],[79,2,80,8],[81,2,81,8],[82,2,82,8],[83,2,83,8],[85,1,89,1],[85,2,86,8],[87,2,87,8],[88,2,88,8],[89,2,89,8]]}
[null,null,null,null,null,null,null,null,null,null,"На главную"]
[null,null,"Таблица расчета нестандартных RAL"]
[]
[null,"Лари Itlafrost","1. Стандартный цвет корпуса - RAL9003; "]
[]
[null,null,"2. На заказ - краска нестандартного RAL с повышающим коэффициентом +1,5% к цене"]
[]
[null,"Ларь-бонеты и суперструктуры","1. Стандартный цвет корпуса - RAL9003; Делители/корзины/решетки - RAL9003"]
[]
[null,null,"2. На заказ - краска нестандартного RAL с повышающим коэффициентом +1,5% к цене Покраска в нестандартный цвет суперструктуры - наценка на глянцевую краску +3%, на матовую и структурную краску +8%;"]
[]
[null,"Octava","1. Стандартная цветовая гамма (без изменения цены) указана на вкладке \"цвет стандарт\""]
[]
[null,null,"2. На заказ - краска нестандартного RAL с повышающим коэффициентом +3% к цене"]
[]
[null,"Gamma","1. Стандартная цветовая гамма (без изменения цены) указана на вкладке \"цвет стандарт\""]
[]
[null,null,"2. На заказ - краска нестандартного RAL с повышающим коэффициентом +3% к цене"]
[]
[null,"Gamma Quadro","1. Стандартная цветовая гамма (без изменения цены) указана на вкладке \"цвет стандарт\""]
[]
[]
[null,null,"2. На заказ - краска нестандартного RAL с повышающим коэффициентом +3% к цене"]
[]
[null,"Magnum","1. Стандартная цветовая гамма (без изменения цены) указана на вкладке \"цвет стандарт\""]
[]
[null,null,"2. На заказ - краска нестандартного RAL с повышающим коэффициентом +3% к цене"]
[]
[null,"Magnum Quadro","1. Стандартная цветовая гамма (без изменения цены) указана на вкладке \"цвет стандарт\""]
[]
[null,null,"2. На заказ - краска нестандартного RAL с повышающим коэффициентом +3% к цене"]
[]
[]
[null,"Elegia Quadro","1. Стандартная цветовая гамма (без изменения цены) указана на вкладке \"цвет стандарт\""]
[null,null,"2. На заказ - краска нестандартного RAL без дополнительной наценки (см.список нестандартных RAL)."]
[]
[null,"Adagio ","1. Стандартная цветовая гамма (без изменения цены) указана на вкладке \"цвет стандарт\""]
[]
[null,null,"Покраска в нестандартный цвет наружных панелей; Покраска в нестандартный цвет внутреннего объема - наценка к стоимости витрины 3 %. Замена оцинкованного металла во внутреннем объеме на нержавеющий (базовая полка, стойки, кронштейны) - наценка к стоимости витрины 5%;"]
[null,null,"2. Срок производства витрины при покраске в нестандартный цвет может увеличится. На 7 дней и более."]
[]
[null,"SOLO","1. Стандартная цветовая гамма (без изменения цены): белый/серый антрацит (RAL 9016/7016), темно-вишневый(RAL 3004), пунцовый красный (RAL3002), синий (RAL5005), светло зеленый (RAL 6018), светло-серый (RAL7035); черный (RAL9005)"]
[]
[null,null,"2. Покраска в нестандартный цвет наружных панелей - наценка к стоимости стеллажа 2 %"]
[null,null,"3. Покраска в нестандартный цвет полок, задней стенки, потолочной панели, поддона выкладки - наценка к стоимости стеллажа 6 %"]
[null,null,"4. Покраска боковин в нестандартный цвет - наценка к стоимости комплекта боковин 10%."]
[]
[null,"SOLO DG","1. Стандартная цветовая гамма (без изменения цены): белый/серый антрацит (RAL 9016/7016), темно-вишневый(RAL 3004), пунцовый красный (RAL3002), синий (RAL5005), светло зеленый (RAL 6018), светло-серый (RAL7035); черный (RAL9005)"]
[]
[null,null,"2. Покраска в нестандартный цвет наружных панелей - наценка к стоимости стеллажа 1,5 %"]
[null,null,"3. Покраска в нестандартный цвет полок, задней стенки, потолочной панели, поддона выкладки - наценка к стоимости стеллажа 4,5 %"]
[null,null,"4. Покраска боковин в нестандартный цвет - наценка к стоимости комплекта боковин 10%."]
[]
[null,"UNIT","1. Стандартная цветовая гамма (без изменения цены): белый/серый антрацит (RAL 9016/7016), темно-вишневый(RAL 3004), пунцовый красный (RAL3002), синий (RAL5005), светло зеленый (RAL 6018), светло-серый (RAL7035); черный (RAL9005). "]
[]
[null,null,"2. На заказ - стеллаж нестандартного RAL  +2% к цене."]
[]
[null,null,"3. RAL, не вошедшие в список, являются заказными. Цена по запросу."]
[]
[null,"Rimini","1. Стандартная цветовая гамма (без изменения цены) указана на вкладке \"цвет стандарт\""]
[]
[null,null,"2. Покраска в нестандартный цвет наружных панелей - наценка к стоимости стеллажа 2 %"]
[null,null,"3. Покраска в нестандартный цвет полок, задней стенки, потолочной панели, поддона выкладки - наценка к стоимости стеллажа 6 %"]
[null,null,"4. Покраска боковин в нестандартный цвет - наценка к стоимости комплекта боковин 10%."]
[]
[null,"Rimini DG","1. Стандартная цветовая гамма (без изменения цены) указана на вкладке \"цвет стандарт\""]
[]
[null,null,"2. Покраска в нестандартный цвет наружных панелей - наценка к стоимости стеллажа 1,5 %"]
[null,null,"3. Покраска в нестандартный цвет полок, задней стенки, потолочной панели, поддона выкладки - наценка к стоимости стеллажа 4,5 %"]
[null,null,"4. Покраска боковин в нестандартный цвет - наценка к стоимости комплекта боковин 10%."]
[]
[null,"Veneto ","1. Стандартная цветовая гамма (без изменения цены) указана на вкладке \"цвет стандарт\""]
[]
[null,null,"2. На заказ - краска нестандартного RAL с повышающим коэффициентом +3% к цене"]
[]
[null," Toscana","1. Стандартная цветовая гамма (без изменения цены) указана на вкладке \"цвет стандарт\""]
[]
[null,null,"2. На заказ - краска нестандартного RAL с повышающим коэффициентом +3% к цене"]
[]
[null,"Milan","1. Стандартная цветовая гамма (без изменения цены) указана на вкладке \"цвет стандарт\""]
[]
[null,null,"2. Покраска в нестандартный цвет наружных панелей - наценка к стоимости стеллажа 1 %"]
[null,null,"3. Покраска в нестандартный цвет полок, задней стенки, потолочной панели, поддона выкладки - наценка к стоимости стеллажа 3 %"]
[null,null,"4. Покраска боковин в нестандартный цвет - наценка к стоимости комплекта боковин 10%."]
[]
[null,"Lazio","1. Стандартная цветовая гамма (без изменения цены) указана на вкладке \"цвет стандарт\""]
[]
[null,null,"2. Покраска в нестандартный цвет наружных панелей - наценка к стоимости стеллажа 2 %"]
[null,null,"3. Покраска в нестандартный цвет полок, задней стенки, потолочной панели, поддона выкладки - наценка к стоимости стеллажа 6 %"]
[null,null,"4. Покраска боковин в нестандартный цвет - наценка к стоимости комплекта боковин 10%."]
[]
[null,null,null,null,null,null,"НАВЕРХ"]

{"sheet":"Брендирование","index":20,"n_rows":48,"n_cols":11,"rows_kept":48,"cut":false,"hidden":false,"merged":[[8,9,9,13],[5,0,5,8],[6,6,6,7],[8,0,9,0],[8,1,9,1],[8,2,9,3],[8,4,8,6],[8,7,9,7],[8,8,9,8],[10,1,10,8],[11,0,25,1],[11,2,13,2],[11,4,13,4],[11,5,13,5],[11,6,13,6],[14,2,16,2],[14,4,16,4],[14,5,16,5],[14,6,16,6],[17,2,19,2],[17,4,19,4],[17,5,19,5],[17,6,19,6],[20,2,22,2],[20,4,22,4],[20,5,22,5],[20,6,22,6],[27,0,41,1],[27,2,29,2],[27,4,29,4],[27,5,29,5],[27,6,29,6],[23,2,25,2],[23,4,25,4],[23,5,25,5],[23,6,25,6],[26,1,26,8],[30,2,32,2],[30,4,32,4],[30,5,32,5],[30,6,32,6],[33,2,35,2],[33,4,35,4],[33,5,35,5],[33,6,35,6],[36,2,38,2],[36,4,38,4],[36,5,38,5],[36,6,38,6],[39,2,41,2],[39,4,41,4],[39,5,41,5],[39,6,41,6],[47,0,47,1],[47,2,47,8],[42,1,42,8],[43,0,44,1],[43,2,44,2],[43,4,44,4],[43,5,44,5],[43,6,44,6]]}
[]
[null,null,null,null,null,null,null,null,null,null,"На главную"]
[]
[]
[]
["ПРАЙС-ЛИСТ. ДОПЛАТА ЗА БРЕНДИРОВАНИЕ ЛАРЕЙ ITALFROST"]
[null,null,null,null,null,null,"НДС:",null,{"$f":"IF([2]Лист2!A1=TRUE,\"С НДС\",\"БЕЗ НДС\")","v":"С НДС"}]
[null,"2021-11-21",null,null,null,null,null,"Размер вашей скидки",{"$f":"Содержание!D2","v":0}]
["№","Изображение","Оклейка",null,"Размеры стикера, мм",null,null,{"$f":"CONCATENATE([2]ВАЛЮТЫ!B11,\" С НДС\")","v":"Базовая \nцена, руб. С НДС"},{"$f":"[2]Лист2!A5","v":"Ваша цена, руб."},"Назад на страницу ларей"]
[null,null,null,null,"Фронт","Боковины","Спина"]
[1,"Морозильные лари с гнутыми раздвижными стеклами"]
[null,null,"CF(T)200C","1 сторона","840х710","640х800","840х800",1004.91606072,{"$f":"ROUND(H12*(1-I8)/Лист2!$A$6,0)","v":1005}]
[null,null,null,"3 стороны",null,null,null,2234.2550630399996,{"$f":"ROUND(H13*(1-I8)/Лист2!$A$6,0)","v":2234}]
[null,null,null,"4 стороны",null,null,null,3321.459535680001,{"$f":"ROUND(H14*(1-I8)/Лист2!$A$6,0)","v":3321}]
[null,null,"CF(T)300C","1 сторона","1040х710","640х800","1040х800",1169.4928845600004,{"$f":"ROUND(H15*(1-I8)/Лист2!$A$6,0)","v":1169}]
[null,null,null,"3 стороны",null,null,null,2406.3126516000002,{"$f":"ROUND(H16*(1-I8)/Лист2!$A$6,0)","v":2406}]
[null,null,null,"4 стороны",null,null,null,3683.0298304800008,{"$f":"ROUND(H17*(1-I8)/Лист2!$A$6,0)","v":3683}]
[null,null,"CF(T)400C","1 сторона","1240х710","640х800","1240х800",1344.0440613600001,{"$f":"ROUND(H18*(1-I8)/Лист2!$A$6,0)","v":1344}]
[null,null,null,"3 стороны",null,null,null,2493.58824,{"$f":"ROUND(H19*(1-I8)/Лист2!$A$6,0)","v":2494}]
[null,null,null,"4 стороны",null,null,null,4054.5744782400006,{"$f":"ROUND(H20*(1-I8)/Лист2!$A$6,0)","v":4055}]
[null,null,"CF(T)500C","1 сторона","1460х710","640х800","1460х800",1533.5567676000003,{"$f":"ROUND(H21*(1-I8)/Лист2!$A$6,0)","v":1534}]
[null,null,null,"3 стороны",null,null,null,2770.3765346400005,{"$f":"ROUND(H22*(1-I8)/Лист2!$A$6,0)","v":2770}]
[null,null,null,"4 стороны",null,null,null,4451.0550084000006,{"$f":"ROUND(H23*(1-I8)/Лист2!$A$6,0)","v":4451}]
[null,null,"CF(T)600C","1 сторона","1680х710","640х800","1680х800",1723.0694738400005,{"$f":"ROUND(H24*(1-I8)/Лист2!$A$6,0)","v":1723}]
[null,null,null,"3 стороны",null,null,null,2949.9148879200002,{"$f":"ROUND(H25*(1-I8)/Лист2!$A$6,0)","v":2950}]
[null,null,null,"4 стороны",null,null,null,4855.0163032800001,{"$f":"ROUND(H26*(1-I8)/Лист2!$A$6,0)","v":4855}]
[2,"Морозильные лари с прямыми раздвижными стеклами"]
[null,null,"CF(T)200F","1 сторона","840х810","640х810","840х810",1104.65959032,{"$f":"ROUND(H28*(1-$I$8)/[2]СОДЕРЖАНИЕ!$C$6/[2]Лист2!$A$6,0)","v":1105}]
[null,null,null,"3 стороны",null,null,null,2348.9601220800005,{"$f":"ROUND(H29*(1-$I$8)/[2]СОДЕРЖАНИЕ!$C$6/[2]Лист2!$A$6,0)","v":2349}]
[null,null,null,"4 стороны",null,null,null,3453.6197124000005,{"$f":"ROUND(H30*(1-$I$8)/[2]СОДЕРЖАНИЕ!$C$6/[2]Лист2!$A$6,0)","v":3454}]
[null,null,"CF(T)300F","1 сторона","1040х810","640х810","1040х810",1301.65306128,{"$f":"ROUND(H31*(1-$I$8)/[2]СОДЕРЖАНИЕ!$C$6/[2]Лист2!$A$6,0)","v":1302}]
[null,null,null,"3 стороны",null,null,null,2545.9535930400002,{"$f":"ROUND(H32*(1-$I$8)/[2]СОДЕРЖАНИЕ!$C$6/[2]Лист2!$A$6,0)","v":2546}]
[null,null,null,"4 стороны",null,null,null,3842.6194778400009,{"$f":"ROUND(H33*(1-$I$8)/[2]СОДЕРЖАНИЕ!$C$6/[2]Лист2!$A$6,0)","v":3843}]
[null,null,"CF(T)400F","1 сторона","1240х810","640х810","1240х810",1491.1657675200001,{"$f":"ROUND(H34*(1-$I$8)/[2]СОДЕРЖАНИЕ!$C$6/[2]Лист2!$A$6,0)","v":1491}]
[null,null,null,"3 стороны",null,null,null,2742.9470640000004,{"$f":"ROUND(H35*(1-$I$8)/[2]СОДЕРЖАНИЕ!$C$6/[2]Лист2!$A$6,0)","v":2743}]
[null,null,null,"4 стороны",null,null,null,4229.1256550400012,{"$f":"ROUND(H36*(1-$I$8)/[2]СОДЕРЖАНИЕ!$C$6/[2]Лист2!$A$6,0)","v":4229}]
[null,null,"CF(T)500F","1 сторона","1460х810","640х810","1460х810",1705.6143561600004,{"$f":"ROUND(H37*(1-$I$8)/[2]СОДЕРЖАНИЕ!$C$6/[2]Лист2!$A$6,0)","v":1706}]
[null,null,null,"3 стороны",null,null,null,2959.8892408800007,{"$f":"ROUND(H38*(1-$I$8)/[2]СОДЕРЖАНИЕ!$C$6/[2]Лист2!$A$6,0)","v":2960}]
[null,null,null,"4 стороны",null,null,null,4655.5292440800004,{"$f":"ROUND(H39*(1-$I$8)/[2]СОДЕРЖАНИЕ!$C$6/[2]Лист2!$A$6,0)","v":4656}]
[null,null,"CF(T)600F","1 сторона","1680Х810","640х810","1680х810",1920.0629448000002,{"$f":"ROUND(H40*(1-$I$8)/[2]СОДЕРЖАНИЕ!$C$6/[2]Лист2!$A$6,0)","v":1920}]
[null,null,null,"3 стороны",null,null,null,3174.3378295200005,{"$f":"ROUND(H41*(1-$I$8)/[2]СОДЕРЖАНИЕ!$C$6/[2]Лист2!$A$6,0)","v":3174}]
[null,null,null,"4 стороны",null,null,null,5094.40077432,{"$f":"ROUND(H42*(1-$I$8)/[2]СОДЕРЖАНИЕ!$C$6/[2]Лист2!$A$6,0)","v":5094}]
[3,"Низкотемпературная надстройка над ларем 400 л. Verona"]
[null,null,null,"1 сторона (верхний баннер, фронтальная часть)","-","-","-",4657.5,{"$f":"ROUND(H44*(1-$I$8)/[2]СОДЕРЖАНИЕ!$C$6/[2]Лист2!$A$6,0)","v":4658}]
[null,null,null,"3 стороны (верхний баннер (фронтальная часть) + 2 боковины)",null,null,null,7917.75,{"$f":"ROUND(H45*(1-$I$8)/[2]СОДЕРЖАНИЕ!$C$6/[2]Лист2!$A$6,0)","v":7918}]
[]
[]
["Примечание:",null,"Пленка толщиной 100 мкр + ламинация толщиной 80 мкр. Качество 720 dpi."]

{"sheet":"Лист1","index":21,"n_rows":0,"n_cols":0,"rows_kept":0,"cut":false,"hidden":true,"merged":[]}

{"sheet":"Лист2","index":22,"n_rows":7,"n_cols":1,"rows_kept":7,"cut":false,"hidden":true,"merged":[]}
[true]
["Базовая \nцена, руб."]
["Базовая \nцена, руб. б/НДС"]
[{"$f":"IF(A1=TRUE,\"руб.\",\"руб. б/НДС\")","v":"руб."}]
[{"$f":"CONCATENATE(\"Ваша цена, \",A4)","v":"Ваша цена, руб."}]
[{"$f":"IF(A1=TRUE,1,1.2)","v":1}]
[{"$f":"IF(A1=TRUE,1,1.2)","v":1}]